Workbook

Sheet Maquettes
A1: UFR | B1: Diplôme | C1: Filière | D1: Niveau | E1: Code Matière | F1: Matière | G1: Voie | H1: Semestre | I1: Volume CM | J1: Volume TD
A2: 6 | B2: 0632 | C2: Gestion | D2: L3 | E2: 0630205 | F2: Informatique | G2: Classique | H2: 1 | I2: 36 | J2: 36
A3: 6 | B3: 0632 | C3: Gestion SEE | D3: L3 | E3: 0634005 | F3: Informatique | G3: Classique | H3: 1 | I3: 24 | J3: 36
A4: 6 | B4: 0642 | C4: Gestion | D4: M1 | E4: 0643505 | F4: Informatique | G4: Classique | H4: 2 | I4: 36 | J4: 36
A5: 6 | B5: 0696 | C5: CCA | D5: M2 | E5: MP2SGM6 | F5: Management des SI | G5: Classique | H5: 2 | I5: 8
A6: 6 | B6: L3F301 | C6: Gestion | D6: L3 | E6: F3011915 | F6: Informatique | G6: Classique | H6: 1 | I6: 18 | J6: 36
A7: 6 | B7: M1F402 | C7: Gestion | D7: M1 | E7: F4021216 | F7: Informatique (Syst d'info et informatique) | G7: Classique | H7: 2 | I7: 36 | J7: 33
A8: 27 | B8: 2711 | C8: MASS | D8: L1 | E8: 2710905 | F8: Informatique S1 | G8: Classique | H8: 1 | I8: 11 | J8: 24
A9: 27 | B9: 2711 | C9: MASS | D9: L1 | E9: 2711205 | F9: Informatique S2 | G9: Classique | H9: 2 | I9: 11 | J9: 24
A10: 27 | B10: 2732 | C10: MIAGE | D10: L3 | E10: 27321214 | F10: INF6 Algorithmique avancée | G10: Classique | H10: 2 | I10: 15 | J10: 15
A11: 27 | B11: 2732 | C11: MIAGE | D11: L3 | E11: 27322314 | F11: ISI2: Architecture orientée-objet | G11: Classique | H11: 1 | I11: 15 | J11: 15
A12: 27 | B12: 2732 | C12: MIAGE | D12: L3 | E12: 27323314 | F12: PRO1: Ateliers d'outils de développement | G12: Classique | H12: 1 | J12: 6
A13: 27 | B13: 2732 | C13: MIAGE | D13: L3 | E13: 2735305 | F13: Programmation OO avancée | G13: Classique | H13: 1 | I13: 15 | J13: 15
A14: 27 | B14: 2733 | C14: MIAGE | D14: L3 | E14: 27332105 | F14: Développement d’interfaces Homme-Machine | G14: Apprentissage | H14: 1 | I14: 15 | J14: 15
A15: 27 | B15: 2733 | C15: MIAGE | D15: L3 | E15: 27333314 | F15: PRO1: Ateliers d'outils de développement | G15: Apprentissage | H15: 1 | J15: 6
A16: 27 | B16: 2742 | C16: MIAGE | D16: M1 | E16: 27420210 | F16: Coopération et ubiquité | G16: Classique | H16: 2 | I16: 15 | J16: 15
A17: 27 | B17: 2742 | C17: MIAGE | D17: M1 | E17: 27420607 | F17: Technologies coopératives | G17: Classique | H17: 2 | I17: 15 | J17: 15
A18: 27 | B18: 2757 | C18: SID | D18: M2 | E18: 27570205 | F18: Ingénierie des systèmes à base de services | G18: Classique | H18: 2 | I18: 12
A19: 27 | B19: 274A | C19: MIAGE | D19: M1 | E19: 274A0210 | F19: Coopération et ubiquité | G19: Apprentissage | H19: 2 | I19: 15 | J19: 15
A20: 27 | B20: 274A | C20: MIAGE | D20: M1 | E20: 274A0405 | F20: Technologies coopératives | G20: Apprentissage | H20: 2 | I20: 15 | J20: 15
A21: 27 | B21: L3X305 | C21: MIAGE | D21: L3 | E21: X3052016 | F21: ISI2: Architecture orientée-objet | G21: Classique | H21: 2 | I21: 15 | J21: 15
A22: 27 | B22: L3X306 | C22: MIAGE | D22: L3 | E22: X3062016 | F22: ISI2: Architecture orientée-objet | G22: Apprentissage | H22: 2 | I22: 15 | J22: 15
A23: 27 | B23: M1X403 | C23: MIAGE | D23: M1 | E23: X4031816 | F23: M1-ISI3 : Modèles et outils pour les processus | G23: Classique | H23: 2 | I23: 15 | J23: 15
A24: 27 | B24: M1X405 | C24: MIAGE | D24: M1 | E24: X4051816 | F24: M1-ISI3 : Modèles et outils pour les processus | G24: Apprentissage | H24: 2 | I24: 15 | J24: 15
A25: 27 | B25: MIX504 | C25: MIAGE | D25: M2 | E25: X5I43116 | F25: M2-IT3 : Cloud & pervasive computing | G25: Apprentissage | H25: 1 | I25: 30
A26: 27 | B26: MIX507 | C26: MIAGE | D26: M2 | E26: X5I73116 | F26: M2-IT3 : Cloud & pervasive computing | G26: Apprentissage | H26: 1 | I26: 30

Sheet recherche
A1: Code Mati | B1: Matière | C1: Vol CM | D1: Vol TD
A2: 0634005 | B2: =VLOOKUP($A2,Maquettes!$E:$J,2,FALSE) -> Informatique | C2: =VLOOKUP($A2,Maquettes!$E:$J,5,FALSE) -> 24 | D2: =VLOOKUP($A2,Maquettes!$E:$J,6,FALSE) -> 36 | F2: on recherche une matière par son code
A3: 0630205 | B3: =VLOOKUP($A3,Maquettes!$E:$J,2,FALSE) -> Informatique | C3: =VLOOKUP($A3,Maquettes!$E:$J,5,FALSE) -> 36 | D3: =VLOOKUP($A3,Maquettes!$E:$J,6,FALSE) -> 36
F5: attention en cas de doublons (homonyme)
B6: Informatique | C6: =VLOOKUP($B6,Maquettes!$F:$J,4,FALSE) -> 36 | D6: =VLOOKUP($B6,Maquettes!$F:$J,4,FALSE) -> 36 | F6: si on recherche par le nom
A8: Recherche H
A9: Valeur ? | B9: Deplacement | C9: Résultat
A10: Filière | B10: 5 | C10: =HLOOKUP(A10,Maquettes!1:26,B10,FALSE) -> CCA | F10: recherche H

Sheet rech equiv et index
A1: Code matière | B1: matière | C1: UFR | D1: ligne | E1: valeur colonne 1 dans la ligne
A2: 0634005 | B2: =VLOOKUP($A2,Maquettes!$E:$J,2,FALSE) -> Informatique | C2: =INDEX(Maquettes!A:J,MATCH(A2,Maquettes!E:E,0),1) -> 6 | D2: =MATCH(A2,Maquettes!E:E,0) -> 3 | E2: {=INDEX(Maquettes!A:J,D2,1)} -> 6
A3: 27321214 | B3: =VLOOKUP(A3,Maquettes!E:J,2,FALSE) -> INF6 Algorithmique avancée | C3: =INDEX(Maquettes!A:J,MATCH(A3,Maquettes!E:E,0),1) -> 27 | D3: =MATCH(A3,Maquettes!E:E,0) -> 10 | E3: {=INDEX(Maquettes!A:J,D3,1)} -> 27

Sheet index
A1: Année | B1: Code Matière | C1: Matière | D1: Diplôme | E1: Filière | G1: Index
A2: 2008 | B2: 0630205 | C2: Informatique | D2: 0632 | E2: Gestion
A3: 2008 | B3: 0630205 | C3: Informatique | D3: 0636 | E3: Gestion Finances | G3: Lin / Col | H3: Plage | I3: Résultat
A4: 2008 | B4: 0634005 | C4: Informatique | D4: 0632 | E4: Gestion EGE | G4: 7.3 | H4: A1:E17 | I4: =INDEX(A1:E17,7,3) -> Technologies coopératives
A5: 2008 | B5: MP2SGM6 | C5: Management des SI | D5: 0696 | E5: CCA | G5: 7.3 | H5: C4:E15 | I5: =INDEX(C4:E15,7,3) -> MIAGE
A6: 2008 | B6: 27420607 | C6: Technologies coopératives | D6: 2742 | E6: MIAGE
A7: 2008 | B7: 27420607 | C7: Technologies coopératives | D7: 2742 | E7: MIAGE
A8: 2008 | B8: 274A0405 | C8: Technologies coopératives | D8: 274A | E8: MIAGE | G8: Ligne ? | H8: Colonne ? | I8: Résultat
A9: 2008 | B9: 274A0405 | C9: Technologies coopératives | D9: 274A | E9: MIAGE | G9: 7 | H9: 3 | I9: {=INDEX(A:E,G9,H9)} -> Technologies coopératives
A10: 2008 | B10: 27332105 | C10: Développement d’interfaces Homme-Machine | D10: 2733 | E10: MIAGE
A11: 2008 | B11: 27332105 | C11: Développement d’interfaces Homme-Machine | D11: 2733 | E11: MIAGE
A12: 2008 | B12: 2710905 | C12: Informatique S1 | D12: 2711 | E12: MASS
A13: 2008 | B13: 2710905 | C13: Informatique S1 | D13: 2711 | E13: MASS
A14: 2008 | B14: 2711205 | C14: Informatique S2 | D14: 2711 | E14: MASS
A15: 2009 | B15: 0630205 | C15: Informatique | D15: 0632 | E15: Gestion
A16: 2009 | B16: 0630205 | C16: Informatique | D16: 0636 | E16: Gestion Finances
A17: 2009 | B17: 27420607 | C17: Technologies coopératives | D17: 2742 | E17: MIAGE

Sheet recherchex
A1: Catégorie | B1: Taux réduction | C1: Nb Points | L1: Formules
A2: Starter | B2: 0.05 | C2: 0
A3: Explorer | B3: 0.08 | C3: 4000 | H3: Catégorie | I3: Réduction
A4: Silver | B4: 0.1 | C4: 10000 | H4: Starter | I4: =_xlfn.XLOOKUP(H4,A1:A6,B1:B6,"pas connu",0) -> 0.05 | L4: RECHERCHEX(F4;A1:A6;B1:B6;"catégorie inconnue"; 0)
A5: Gold | B5: 0.15 | C5: 15000
A6: Platinium | B6: 0.2 | C6: 20000 | H6: Nb Points | I6: Catégorie | J6: Réduction
H7: 5000 | I7: {=_xlfn.XLOOKUP(H7,C1:C6,A1:B6,,-1)} -> Explorer | J7: 0.08 | L7: RECHERCHEX(F7;C1:C6;A1:B6;"-";-1;1)
A10: Avantages cartes fidélité
A11: Starter | B11: Explorer | C11: Silver | D11: Gold | E11: Platinium | H11: Catégorie | I11: Avantages
A12: réduction | B12: réduction | C12: réduction | D12: réduction | E12: réduction | H12: Gold | I12: {=_xlfn.XLOOKUP(H12,A11:E11,A12:E16,,0)} -> réduction | L12: RECHERCHEX(H14;A13:E13;A14:E18;;0)
A13: publicité ciblée | B13: bon achat | C13: bon achat | D13: bon achat | E13: bon achat | I13: bon achat
B14: offres partenaires | C14: offres partenaires | D14: offres partenaires | E14: offres partenaires | I14: offres partenaires
B15: publicité ciblée | C15: offres personnalisées | D15: offres personnalisées | E15: offres personnalisées | I15: offres personnalisées
D16: acceuil personnalisé | E16: acceuil personnalisé | I16: acceuil personnalisé

Sheet Equiv
A1: Groupe | B1: Nom | C1: Prénom | D1: Note | I1: Nom | J1: Ligne
A2: G1 | B2: BBB | C2: AAA | D2: 10 | G2: EQUIV | H2: 1er | I2: EEEE | J2: =MATCH(I2,$B$2:$B$8,0) -> 3
A3: G1 | B3: CCC | C3: DDD | D3: 10 | G3: EQUIVX | H3: dernier | I3: EEEE | J3: =_xlfn.XMATCH(I3,$B$2:$B$8,0,-1) -> 6
A4: G1 | B4: EEEE | C4: FFFF | D4: 10 | G4: EQUIVX | H4: prox | I4: EE* | J4: =_xlfn.XMATCH(I4,$B$2:$B$8,2,-1) -> 6
A5: G2 | B5: CCC | C5: CCC | D5: 9.25
A6: G2 | B6: DDD | C6: DDD | D6: 9.25
A7: G3 | B7: EEEE | C7: EEEE | D7: 12.5 | G7: Cherche Nom+Prenom | M7: Nom | N7: Prénom | O7: Nom*Prenom
A8: G3 | B8: BBB | C8: CCC | D8: 12.5 | G8: Nom | H8: CCC | I8: Equiv | J8: {=MATCH(1, ($B$2:$B$8 = H8)*($C$2:$C$8= H9),0)} -> 4 | K8: ligne | M8: {=($B$2:$B$8 = H8)} -> FALSE | N8: {=($C$2:$C$8 = H9)} -> FALSE | O8: {=($B$2:$B$8 = H8)*($C$2:$C$8 = H9)} -> 0
G9: Prénom | H9: CCC | I9: Index | J9: {=INDEX(B2:D8,J8,3)} -> 9.25 | K9: valeur note | M9: TRUE | N9: FALSE | O9: 0
I10: Index + Equiv | J10: {=INDEX(B2:D8,MATCH(1, ($B$2:$B$8 = H8)*($C$2:$C$8= H9),0),3)} -> 9.25 | M10: FALSE | N10: FALSE | O10: 0
I11: RechercheX | J11: {=_xlfn.XLOOKUP(1, (H8 = $B$2:$B$8) * (H9 = $C$2:$C$8), $D$2:$D$8)} -> 9.25 | M11: TRUE | N11: TRUE | O11: 1
M12: FALSE | N12: FALSE | O12: 0
M13: FALSE | N13: FALSE | O13: 0
M14: FALSE | N14: TRUE | O14: 0
I15: Classement | J15: Ligne
B16: Nom | C16: Prénom | D16: Classement | G16: EQUIV | H16: match 1 | I16: 4 | J16: =MATCH(I16,$D$17:$D$23,1) -> 3
B17: EEEE | C17: EEEE | D17: 1 | H17: match -1 | I17: 4 | J17: =MATCH(I17,$D$17:$D$23,-1) -> #N/A | K17: données classées dans le mauvaise ordre
B18: BBB | C18: CCC | D18: 2
B19: BBB | C19: AAA | D19: 3
B20: CCC | C20: DDD | D20: 5
B21: EEEE | C21: FFFF | D21: 6
B22: CCC | C22: CCC | D22: 7
B23: DDD | C23: DDD | D23: 8
