Workbook

Sheet Employés
A1: NUMEMP | B1: NOM | C1: EMAIL | D1: SEXE | E1: FONCTION | F1: AGENCE | G1: SALAIRE ACTUEL | H1: DIPLÔME | I1: ANCIENNETE | J1: AGE | K1: SITUATION FAMILIALE | L1: ENFANTS | M1: Prime | N1: Nb Contrats | O1: Formule mise en forme | P1: 1ère partie -> on peut avoir des erreurs
A2: 1 | B2: BOUKO Charles | C2: bouko@gmail.com | D2: M | E2: DIR COM | F2: PARIS | G2: 2125.8038 | H2: SANS | I2: 5 | J2: 44 | K2: M | L2: 3 | M2: =IF($E2="VENDEUR", $G2*( COUNTIF(Ventes!$E:$E,Employés!$A2) / 100), $G2*( $I2/100) ) + $L2*50 -> 256.29019 | N2: =COUNTIF(Ventes!$E:$E,Employés!$A2) -> 0 | O2: =AND(ISNUMBER(SEARCH("@",$C2)),(LEN($C2)>1)) -> TRUE | P2: =SEARCH("@",C2)>0 -> TRUE | Q2: =ISNUMBER(SEARCH("@", C2)) -> TRUE | R2: =LEN(C2)>1 -> TRUE
A3: 2 | B3: ROSPORTE Jacques | C3: rosporte at gmail.com | D3: M | E3: PDG | F3: PARIS | G3: 39509.145 | H3: CENTRALE | I3: 5 | J3: 36 | K3: M | L3: 3 | M3: =IF($E3="VENDEUR", $G3*( COUNTIF(Ventes!$E:$E,Employés!$A3) / 100), $G3*( $I3/100) ) + $L3*50 -> 2125.4572 | N3: =COUNTIF(Ventes!$E:$E,Employés!$A3) -> 0 | O3: =AND(ISNUMBER(SEARCH("@",$C3)),(LEN($C3)>1)) -> FALSE | P3: =SEARCH("@",C3)>0 -> #VALUE! | Q3: =ISNUMBER(SEARCH("@", C3)) -> FALSE | R3: =LEN(C3)>1 -> TRUE
A4: 3 | B4: DELAPORTE Patrick | C4: delaporte | D4: M | E4: DG | F4: PARIS | G4: 34860.974 | H4: HEC | I4: 5 | J4: 33 | K4: M | L4: 3 | M4: =IF($E4="VENDEUR", $G4*( COUNTIF(Ventes!$E:$E,Employés!$A4) / 100), $G4*( $I4/100) ) + $L4*50 -> 1893.0487 | N4: =COUNTIF(Ventes!$E:$E,Employés!$A4) -> 0 | O4: =AND(ISNUMBER(SEARCH("@",$C4)),(LEN($C4)>1)) -> FALSE | P4: =SEARCH("@",C4)>0 -> #VALUE! | Q4: =ISNUMBER(SEARCH("@", C4)) -> FALSE | R4: =LEN(C4)>1 -> TRUE
A5: 4 | B5: DREFFUS Charlie | D5: M | E5: INGENIEUR | F5: USINE | G5: 5112.8351 | H5: MBA | I5: 4 | J5: 39 | K5: M | L5: 2 | M5: =IF($E5="VENDEUR", $G5*( COUNTIF(Ventes!$E:$E,Employés!$A5) / 100), $G5*( $I5/100) ) + $L5*50 -> 304.51341 | N5: =COUNTIF(Ventes!$E:$E,Employés!$A5) -> 0 | O5: =AND(ISNUMBER(SEARCH("@",$C5)),(LEN($C5)>1)) -> FALSE | P5: =SEARCH("@",C5)>0 -> #VALUE! | Q5: =ISNUMBER(SEARCH("@", C5)) -> FALSE | R5: =LEN(C5)>1 -> FALSE
A6: 5 | B6: NAUDEAU Cyril | C6: c.naudeau@boite.fr | D6: M | E6: TECHNICIEN | F6: PARIS | G6: 3021.2346 | H6: DUT | I6: 4 | J6: 27 | K6: M | L6: 0 | M6: =IF($E6="VENDEUR", $G6*( COUNTIF(Ventes!$E:$E,Employés!$A6) / 100), $G6*( $I6/100) ) + $L6*50 -> 120.84938 | N6: =COUNTIF(Ventes!$E:$E,Employés!$A6) -> 0 | O6: =AND(ISNUMBER(SEARCH("@",$C6)),(LEN($C6)>1)) -> TRUE | P6: =SEARCH("@",C6)>0 -> TRUE | Q6: =ISNUMBER(SEARCH("@", C6)) -> TRUE | R6: =LEN(C6)>1 -> TRUE
A7: 6 | B7: MARITTO Francesca | C7: f.maritto | D7: F | E7: SECRETAIRE | F7: LILLE | G7: 1859.1158 | H7: BAC | I7: 4 | J7: 27 | K7: M | L7: 0 | M7: =IF($E7="VENDEUR", $G7*( COUNTIF(Ventes!$E:$E,Employés!$A7) / 100), $G7*( $I7/100) ) + $L7*50 -> 74.364631 | N7: =COUNTIF(Ventes!$E:$E,Employés!$A7) -> 0 | O7: =AND(ISNUMBER(SEARCH("@",$C7)),(LEN($C7)>1)) -> FALSE | P7: =SEARCH("@",C7)>0 -> #VALUE! | Q7: =ISNUMBER(SEARCH("@", C7)) -> FALSE | R7: =LEN(C7)>1 -> TRUE
A8: 7 | B8: BASCHET Françoise | C8: f.baschet | D8: F | E8: VENDEUR | F8: NICE | G8: 5577.6522 | H8: BAC | I8: 4 | J8: 39 | K8: D | L8: 2 | M8: =IF($E8="VENDEUR", $G8*( COUNTIF(Ventes!$E:$E,Employés!$A8) / 100), $G8*( $I8/100) ) + $L8*50 -> 1327.0835 | N8: =COUNTIF(Ventes!$E:$E,Employés!$A8) -> 22 | O8: =AND(ISNUMBER(SEARCH("@",$C8)),(LEN($C8)>1)) -> FALSE | P8: =SEARCH("@",C8)>0 -> #VALUE! | Q8: =ISNUMBER(SEARCH("@", C8)) -> FALSE | R8: =LEN(C8)>1 -> TRUE
A9: 8 | B9: GRASSET Franck | C9: f.grasset@boite.fr | D9: M | E9: INGENIEUR | F9: USINE | G9: 3718.384 | H9: DEA | I9: 4 | J9: 37 | K9: M | L9: 1 | M9: =IF($E9="VENDEUR", $G9*( COUNTIF(Ventes!$E:$E,Employés!$A9) / 100), $G9*( $I9/100) ) + $L9*50 -> 198.73536 | N9: =COUNTIF(Ventes!$E:$E,Employés!$A9) -> 0 | O9: =AND(ISNUMBER(SEARCH("@",$C9)),(LEN($C9)>1)) -> TRUE | P9: =SEARCH("@",C9)>0 -> TRUE | Q9: =ISNUMBER(SEARCH("@", C9)) -> TRUE | R9: =LEN(C9)>1 -> TRUE
A10: 9 | B10: RUDEAU Jean Claude | D10: M | E10: TECHNICIEN | F10: PARIS | G10: 3253.5669 | H10: DUT | I10: 4 | J10: 31 | K10: M | L10: 2 | M10: =IF($E10="VENDEUR", $G10*( COUNTIF(Ventes!$E:$E,Employés!$A10) / 100), $G10*( $I10/100) ) + $L10*50 -> 230.14268 | N10: =COUNTIF(Ventes!$E:$E,Employés!$A10) -> 0 | O10: =AND(ISNUMBER(SEARCH("@",$C10)),(LEN($C10)>1)) -> FALSE | P10: =SEARCH("@",C10)>0 -> #VALUE! | Q10: =ISNUMBER(SEARCH("@", C10)) -> FALSE | R10: =LEN(C10)>1 -> FALSE
A11: 10 | B11: GALOTTI Marc | C11: galotti | D11: M | E11: VENDEUR | F11: LYON | G11: 5112.8351 | H11: LICENCE | I11: 4 | J11: 31 | K11: C | L11: 1 | M11: =IF($E11="VENDEUR", $G11*( COUNTIF(Ventes!$E:$E,Employés!$A11) / 100), $G11*( $I11/100) ) + $L11*50 -> 868.05362 | N11: =COUNTIF(Ventes!$E:$E,Employés!$A11) -> 16 | O11: =AND(ISNUMBER(SEARCH("@",$C11)),(LEN($C11)>1)) -> FALSE | P11: =SEARCH("@",C11)>0 -> #VALUE! | Q11: =ISNUMBER(SEARCH("@", C11)) -> FALSE | R11: =LEN(C11)>1 -> TRUE
A12: 11 | B12: DANO Rachel | C12: r.dano@boite.fr | D12: F | E12: SECRETAIRE | F12: USINE | G12: 1859.1158 | H12: DUT | I12: 4 | J12: 28 | K12: C | L12: 1 | M12: =IF($E12="VENDEUR", $G12*( COUNTIF(Ventes!$E:$E,Employés!$A12) / 100), $G12*( $I12/100) ) + $L12*50 -> 124.36463 | N12: =COUNTIF(Ventes!$E:$E,Employés!$A12) -> 0 | O12: =AND(ISNUMBER(SEARCH("@",$C12)),(LEN($C12)>1)) -> TRUE | P12: =SEARCH("@",C12)>0 -> TRUE | Q12: =ISNUMBER(SEARCH("@", C12)) -> TRUE | R12: =LEN(C12)>1 -> TRUE
A13: 12 | B13: GLORI Raymond | C13: glori | D13: M | E13: CHAUFFEUR | F13: PARIS | G13: 1626.7835 | H13: SANS | I13: 4 | J13: 39 | K13: M | L13: 2 | M13: =IF($E13="VENDEUR", $G13*( COUNTIF(Ventes!$E:$E,Employés!$A13) / 100), $G13*( $I13/100) ) + $L13*50 -> 165.07134 | N13: =COUNTIF(Ventes!$E:$E,Employés!$A13) -> 0 | O13: =AND(ISNUMBER(SEARCH("@",$C13)),(LEN($C13)>1)) -> FALSE | P13: =SEARCH("@",C13)>0 -> #VALUE! | Q13: =ISNUMBER(SEARCH("@", C13)) -> FALSE | R13: =LEN(C13)>1 -> TRUE
A14: 13 | B14: LECUYER Robert | D14: M | E14: CHEF MONTEUR | F14: USINE | G14: 2232.3323 | H14: SANS | I14: 4 | J14: 35 | K14: C | L14: 0 | M14: =IF($E14="VENDEUR", $G14*( COUNTIF(Ventes!$E:$E,Employés!$A14) / 100), $G14*( $I14/100) ) + $L14*50 -> 89.293292 | N14: =COUNTIF(Ventes!$E:$E,Employés!$A14) -> 0 | O14: =AND(ISNUMBER(SEARCH("@",$C14)),(LEN($C14)>1)) -> FALSE | P14: =SEARCH("@",C14)>0 -> #VALUE! | Q14: =ISNUMBER(SEARCH("@", C14)) -> FALSE | R14: =LEN(C14)>1 -> FALSE
A15: 14 | B15: CONTI Samanta | D15: F | E15: SECRETAIRE | F15: PARIS | G15: 1626.7835 | H15: BAC | I15: 4 | J15: 26 | K15: M | L15: 1 | M15: =IF($E15="VENDEUR", $G15*( COUNTIF(Ventes!$E:$E,Employés!$A15) / 100), $G15*( $I15/100) ) + $L15*50 -> 115.07134 | N15: =COUNTIF(Ventes!$E:$E,Employés!$A15) -> 0 | O15: =AND(ISNUMBER(SEARCH("@",$C15)),(LEN($C15)>1)) -> FALSE | P15: =SEARCH("@",C15)>0 -> #VALUE! | Q15: =ISNUMBER(SEARCH("@", C15)) -> FALSE | R15: =LEN(C15)>1 -> FALSE
A16: 15 | B16: MINELLI Sophia | C16: minelli.sophia@gmail.com | D16: F | E16: SECRETAIRE | F16: PARIS | G16: 2091.6005 | H16: DUT | I16: 4 | J16: 27 | K16: M | L16: 2 | M16: =IF($E16="VENDEUR", $G16*( COUNTIF(Ventes!$E:$E,Employés!$A16) / 100), $G16*( $I16/100) ) + $L16*50 -> 183.66402 | N16: =COUNTIF(Ventes!$E:$E,Employés!$A16) -> 0 | O16: =AND(ISNUMBER(SEARCH("@",$C16)),(LEN($C16)>1)) -> TRUE | P16: =SEARCH("@",C16)>0 -> TRUE | Q16: =ISNUMBER(SEARCH("@", C16)) -> TRUE | R16: =LEN(C16)>1 -> TRUE
A17: 16 | B17: QUENISSET Thierry | C17: quenisset | D17: M | E17: DIR AGENCE | F17: RENNES | G17: 4648.0181 | H17: BAC | I17: 4 | J17: 36 | K17: C | L17: 2 | M17: =IF($E17="VENDEUR", $G17*( COUNTIF(Ventes!$E:$E,Employés!$A17) / 100), $G17*( $I17/100) ) + $L17*50 -> 285.92072 | N17: =COUNTIF(Ventes!$E:$E,Employés!$A17) -> 0 | O17: =AND(ISNUMBER(SEARCH("@",$C17)),(LEN($C17)>1)) -> FALSE | P17: =SEARCH("@",C17)>0 -> #VALUE! | Q17: =ISNUMBER(SEARCH("@", C17)) -> FALSE | R17: =LEN(C17)>1 -> TRUE
A18: 17 | B18: MANUE Zoe | C18: z.manue@boite.fr | D18: F | E18: SOUS DIR | F18: LILLE | G18: 3253.5669 | H18: DUT | I18: 4 | J18: 32 | K18: M | L18: 2 | M18: =IF($E18="VENDEUR", $G18*( COUNTIF(Ventes!$E:$E,Employés!$A18) / 100), $G18*( $I18/100) ) + $L18*50 -> 230.14268 | N18: =COUNTIF(Ventes!$E:$E,Employés!$A18) -> 0 | O18: =AND(ISNUMBER(SEARCH("@",$C18)),(LEN($C18)>1)) -> TRUE | P18: =SEARCH("@",C18)>0 -> TRUE | Q18: =ISNUMBER(SEARCH("@", C18)) -> TRUE | R18: =LEN(C18)>1 -> TRUE
A19: 18 | B19: VILLARD Alain | C19: villard | D19: M | E19: MONTEUR | F19: USINE | G19: 1510.6173 | H19: BEP | I19: 3 | J19: 24 | K19: M | L19: 0 | M19: =IF($E19="VENDEUR", $G19*( COUNTIF(Ventes!$E:$E,Employés!$A19) / 100), $G19*( $I19/100) ) + $L19*50 -> 45.318519 | N19: =COUNTIF(Ventes!$E:$E,Employés!$A19) -> 0 | O19: =AND(ISNUMBER(SEARCH("@",$C19)),(LEN($C19)>1)) -> FALSE | P19: =SEARCH("@",C19)>0 -> #VALUE! | Q19: =ISNUMBER(SEARCH("@", C19)) -> FALSE | R19: =LEN(C19)>1 -> TRUE
A20: 19 | B20: DORMEUIL Albertine | D20: F | E20: SECRETAIRE | F20: PARIS | G20: 1626.7835 | H20: DUT | I20: 3 | J20: 25 | K20: M | L20: 2 | M20: =IF($E20="VENDEUR", $G20*( COUNTIF(Ventes!$E:$E,Employés!$A20) / 100), $G20*( $I20/100) ) + $L20*50 -> 148.8035 | N20: =COUNTIF(Ventes!$E:$E,Employés!$A20) -> 0 | O20: =AND(ISNUMBER(SEARCH("@",$C20)),(LEN($C20)>1)) -> FALSE | P20: =SEARCH("@",C20)>0 -> #VALUE! | Q20: =ISNUMBER(SEARCH("@", C20)) -> FALSE | R20: =LEN(C20)>1 -> FALSE
A21: 20 | B21: LEGRAND Alex | C21: legrand.alex@gmail.com | D21: M | E21: DIR VENTES | F21: PARIS | G21: 8831.3716 | H21: ESSEC | I21: 3 | J21: 41 | K21: M | L21: 4 | M21: =IF($E21="VENDEUR", $G21*( COUNTIF(Ventes!$E:$E,Employés!$A21) / 100), $G21*( $I21/100) ) + $L21*50 -> 464.94115 | N21: =COUNTIF(Ventes!$E:$E,Employés!$A21) -> 0 | O21: =AND(ISNUMBER(SEARCH("@",$C21)),(LEN($C21)>1)) -> TRUE | P21: =SEARCH("@",C21)>0 -> TRUE | Q21: =ISNUMBER(SEARCH("@", C21)) -> TRUE | R21: =LEN(C21)>1 -> TRUE
A22: 21 | B22: BATIHNE Bruno | C22: batihne.bruno@boite.fr | D22: M | E22: MONTEUR | F22: USINE | G22: 1394.2987 | H22: BEP | I22: 3 | J22: 30 | K22: M | L22: 2 | M22: =IF($E22="VENDEUR", $G22*( COUNTIF(Ventes!$E:$E,Employés!$A22) / 100), $G22*( $I22/100) ) + $L22*50 -> 141.82896 | N22: =COUNTIF(Ventes!$E:$E,Employés!$A22) -> 0 | O22: =AND(ISNUMBER(SEARCH("@",$C22)),(LEN($C22)>1)) -> TRUE | P22: =SEARCH("@",C22)>0 -> TRUE | Q22: =ISNUMBER(SEARCH("@", C22)) -> TRUE | R22: =LEN(C22)>1 -> TRUE
A23: 22 | B23: LAMBEL Carl | C23: lambel.carl@boite.fr | D23: M | E23: TECHNICIEN | F23: PARIS | G23: 1859.1158 | H23: DUT | I23: 3 | J23: 30 | K23: C | L23: 3 | M23: =IF($E23="VENDEUR", $G23*( COUNTIF(Ventes!$E:$E,Employés!$A23) / 100), $G23*( $I23/100) ) + $L23*50 -> 205.77347 | N23: =COUNTIF(Ventes!$E:$E,Employés!$A23) -> 0 | O23: =AND(ISNUMBER(SEARCH("@",$C23)),(LEN($C23)>1)) -> TRUE | P23: =SEARCH("@",C23)>0 -> TRUE | Q23: =ISNUMBER(SEARCH("@", C23)) -> TRUE | R23: =LEN(C23)>1 -> TRUE
A24: 23 | B24: POINCARE Charles | C24: poincare | D24: M | E24: VENDEUR | F24: RENNES | G24: 4183.201 | H24: MAITRISE | I24: 3 | J24: 29 | K24: C | L24: 1 | M24: =IF($E24="VENDEUR", $G24*( COUNTIF(Ventes!$E:$E,Employés!$A24) / 100), $G24*( $I24/100) ) + $L24*50 -> 426.48809 | N24: =COUNTIF(Ventes!$E:$E,Employés!$A24) -> 9 | O24: =AND(ISNUMBER(SEARCH("@",$C24)),(LEN($C24)>1)) -> FALSE | P24: =SEARCH("@",C24)>0 -> #VALUE! | Q24: =ISNUMBER(SEARCH("@", C24)) -> FALSE | R24: =LEN(C24)>1 -> TRUE
A25: 24 | B25: DESCHAMPS Christophe | D25: M | E25: SOUS DIR | F25: RENNES | G25: 3253.5669 | H25: ESC | I25: 3 | J25: 28 | K25: M | L25: 2 | M25: =IF($E25="VENDEUR", $G25*( COUNTIF(Ventes!$E:$E,Employés!$A25) / 100), $G25*( $I25/100) ) + $L25*50 -> 197.60701 | N25: =COUNTIF(Ventes!$E:$E,Employés!$A25) -> 0 | O25: =AND(ISNUMBER(SEARCH("@",$C25)),(LEN($C25)>1)) -> FALSE | P25: =SEARCH("@",C25)>0 -> #VALUE! | Q25: =ISNUMBER(SEARCH("@", C25)) -> FALSE | R25: =LEN(C25)>1 -> FALSE
A26: 25 | B26: BAUDRY Claude | D26: M | E26: TECHNICIEN | F26: PARIS | G26: 3021.2346 | H26: DUT | I26: 3 | J26: 27 | K26: C | L26: 1 | M26: =IF($E26="VENDEUR", $G26*( COUNTIF(Ventes!$E:$E,Employés!$A26) / 100), $G26*( $I26/100) ) + $L26*50 -> 140.63704 | N26: =COUNTIF(Ventes!$E:$E,Employés!$A26) -> 0 | O26: =AND(ISNUMBER(SEARCH("@",$C26)),(LEN($C26)>1)) -> FALSE | P26: =SEARCH("@",C26)>0 -> #VALUE! | Q26: =ISNUMBER(SEARCH("@", C26)) -> FALSE | R26: =LEN(C26)>1 -> FALSE
A27: 26 | B27: LEE David | C27: lee.david@boite.fr | D27: M | E27: DIR PRODUC | F27: PARIS | G27: 5810.1369 | H27: CNAM | I27: 3 | J27: 36 | K27: M | L27: 0 | M27: =IF($E27="VENDEUR", $G27*( COUNTIF(Ventes!$E:$E,Employés!$A27) / 100), $G27*( $I27/100) ) + $L27*50 -> 174.30411 | N27: =COUNTIF(Ventes!$E:$E,Employés!$A27) -> 0 | O27: =AND(ISNUMBER(SEARCH("@",$C27)),(LEN($C27)>1)) -> TRUE | P27: =SEARCH("@",C27)>0 -> TRUE | Q27: =ISNUMBER(SEARCH("@", C27)) -> TRUE | R27: =LEN(C27)>1 -> TRUE
A28: 27 | B28: ACCORD Elisabeth | C28: elisabeth | D28: F | E28: RESP RP | F28: USINE | G28: 5345.3199 | H28: SC PO | I28: 3 | J28: 25 | K28: M | L28: 0 | M28: =IF($E28="VENDEUR", $G28*( COUNTIF(Ventes!$E:$E,Employés!$A28) / 100), $G28*( $I28/100) ) + $L28*50 -> 160.3596 | N28: =COUNTIF(Ventes!$E:$E,Employés!$A28) -> 0 | O28: =AND(ISNUMBER(SEARCH("@",$C28)),(LEN($C28)>1)) -> FALSE | P28: =SEARCH("@",C28)>0 -> #VALUE! | Q28: =ISNUMBER(SEARCH("@", C28)) -> FALSE | R28: =LEN(C28)>1 -> TRUE
A29: 28 | B29: DOLLFUS Emmanuel | D29: M | E29: DIR TECH | F29: USINE | G29: 6274.954 | H29: BAC | I29: 3 | J29: 28 | K29: M | L29: 0 | M29: =IF($E29="VENDEUR", $G29*( COUNTIF(Ventes!$E:$E,Employés!$A29) / 100), $G29*( $I29/100) ) + $L29*50 -> 188.24862 | N29: =COUNTIF(Ventes!$E:$E,Employés!$A29) -> 0 | O29: =AND(ISNUMBER(SEARCH("@",$C29)),(LEN($C29)>1)) -> FALSE | P29: =SEARCH("@",C29)>0 -> #VALUE! | Q29: =ISNUMBER(SEARCH("@", C29)) -> FALSE | R29: =LEN(C29)>1 -> FALSE
A30: 29 | B30: GALOTTI Marie | C30: galotti | D30: F | E30: CHAUFFEUR | F30: PARIS | G30: 1856.6294 | H30: DUT | I30: 5 | J30: 32 | K30: C | L30: 1 | M30: =IF($E30="VENDEUR", $G30*( COUNTIF(Ventes!$E:$E,Employés!$A30) / 100), $G30*( $I30/100) ) + $L30*50 -> 142.83147 | N30: =COUNTIF(Ventes!$E:$E,Employés!$A30) -> 0 | O30: =AND(ISNUMBER(SEARCH("@",$C30)),(LEN($C30)>1)) -> FALSE | P30: =SEARCH("@",C30)>0 -> #VALUE! | Q30: =ISNUMBER(SEARCH("@", C30)) -> FALSE | R30: =LEN(C30)>1 -> TRUE

Sheet Ventes
A1: CONTRAT | B1: DATE FACTURE | C1: CODE CLIENT | D1: PRODUIT | E1: VENDEUR | F1: MONTANT | G1: NOM VENDEUR
A2: FA-2020-0010 | B2: 43902 | C2: CLI009 | D2: MAQUETTE 3D | E2: 7 | F2: 752.98 | G2: =VLOOKUP($E2,Employés!$A:$M,2,FALSE) -> BASCHET Françoise
A3: FA-2020-0006 | B3: 43865 | C3: CLI038 | D3: MAQUETTE 3D | E3: 10 | F3: 374.84 | G3: =VLOOKUP($E3,Employés!$A:$M,2,FALSE) -> GALOTTI Marc
A4: FA-2020-0009 | B4: 43893 | C4: CLI098 | D4: PROTOTYPAGE | E4: 7 | F4: 935.47 | G4: =VLOOKUP($E4,Employés!$A:$M,2,FALSE) -> BASCHET Françoise
A5: FA-2020-0012 | B5: 43921 | C5: CLI114 | D5: HABILLEMENT | E5: 23 | F5: 752.98 | G5: =VLOOKUP($E5,Employés!$A:$M,2,FALSE) -> POINCARE Charles
A6: FA-2020-0008 | B6: 43883 | C6: CLI115 | D6: MAQUETTE 3D | E6: 7 | F6: 677.36 | G6: =VLOOKUP($E6,Employés!$A:$M,2,FALSE) -> BASCHET Françoise
A7: FA-2020-0027 | B7: 44021 | C7: CLI145 | D7: PROTOTYPAGE | E7: 7 | F7: 425.81 | G7: =VLOOKUP($E7,Employés!$A:$M,2,FALSE) -> BASCHET Françoise
A8: FA-2020-0028 | B8: 44021 | C8: CLI145 | D8: MAQUETTE 3D | E8: 10 | F8: 1607.89 | G8: =VLOOKUP($E8,Employés!$A:$M,2,FALSE) -> GALOTTI Marc
A9: FA-2020-0029 | B9: 44021 | C9: CLI163 | D9: PUBLICITE | E9: 7 | F9: 1436.91 | G9: =VLOOKUP($E9,Employés!$A:$M,2,FALSE) -> BASCHET Françoise
A10: FA-2020-0017 | B10: 43967 | C10: CLI204 | D10: MAQUETTE 3D | E10: 10 | F10: 2250.72 | G10: =VLOOKUP($E10,Employés!$A:$M,2,FALSE) -> GALOTTI Marc
A11: FA-2020-0031 | B11: 44039 | C11: CLI204 | D11: PROTOTYPAGE | E11: 7 | F11: 428.41 | G11: =VLOOKUP($E11,Employés!$A:$M,2,FALSE) -> BASCHET Françoise
A12: FA-2020-0040 | B12: 44085 | C12: CLI204 | D12: HABILLEMENT | E12: 10 | F12: 246.46 | G12: =VLOOKUP($E12,Employés!$A:$M,2,FALSE) -> GALOTTI Marc
A13: FA-2020-0015 | B13: 43949 | C13: CLI206 | D13: PROTOTYPAGE | E13: 10 | F13: 752.98 | G13: =VLOOKUP($E13,Employés!$A:$M,2,FALSE) -> GALOTTI Marc
... A48: FA-2020-0005 | B48: 43856 | C48: CLI520 | D48: PROTOTYPAGE | E48: 7 | F48: 739.83 | G48: =VLOOKUP($E48,Employés!$A:$M,2,FALSE) -> BASCHET Françoise

Sheet Produits
A1: PRODUIT | B1: NB Contrat
A2: MAQUETTE 3D | B2: =COUNTIF(Ventes!D:D,Produits!$A2) -> 21
A3: PROTOTYPAGE | B3: =COUNTIF(Ventes!D:D,Produits!$A3) -> 12
A4: HABILLEMENT | B4: =COUNTIF(Ventes!D:D,Produits!$A4) -> 8
A5: PUBLICITE | B5: =COUNTIF(Ventes!D:D,Produits!$A5) -> 6

Sheet Tableaux
A1: DIPLÔME | B1: (Tous)
B3: Sexe
B4: F | E4: M | H4: Total Moy SALAIRE | I4: Total Moy ANCIENNETE | J4: Total Nb Employés
A5: Agence | B5: Moy SALAIRE | C5: Moy ANCIENNETE | D5: Nb Employés | E5: Moy SALAIRE | F5: Moy ANCIENNETE | G5: Nb Employés
A6: NICE | B6: 5577.6522 | C6: 4 | D6: 1 | H6: 5577.6522 | I6: 4 | J6: 1
A7: LILLE | B7: 2556.3413 | C7: 4 | D7: 2 | H7: 2556.3413 | I7: 4 | J7: 2
A8: LYON | E8: 5112.8351 | F8: 4 | G8: 1 | H8: 5112.8351 | I8: 4 | J8: 1
A9: PARIS | B9: 1781.7225 | C9: 3.6666667 | D9: 3 | E9: 10391.937 | F9: 3.9 | G9: 10 | H9: 8404.9642 | I9: 3.8461538 | J9: 13
A10: RENNES | E10: 4028.262 | F10: 3.3333333 | G10: 3 | H10: 4028.262 | I10: 3.3333333 | J10: 3
A11: USINE | B11: 3602.2178 | C11: 3.5 | D11: 2 | E11: 3373.9036 | F11: 3.5 | G11: 6 | H11: 3430.9821 | I11: 3.5 | J11: 8
A12: Total général | B12: 2904.9922 | C12: 3.75 | D12: 8 | E12: 7068.0205 | F12: 3.7 | G12: 20 | H12: 5878.5838 | I12: 3.7142857 | J12: 28
A18: AGENCE | B18: (Tous)
A20: Moy Prime | B20: Ancienneté
A21: Fonctions | B21: 3 | C21: 4 | D21: 5 | E21: Total général
A22: CHAUFFEUR | C22: 165.07134 | E22: 165.07134
A23: CHEF MONTEUR | C23: 89.293292 | E23: 89.293292
A24: DG | D24: 1893.0487 | E24: 1893.0487
A25: DIR AGENCE | C25: 285.92072 | E25: 285.92072
A26: DIR COM | D26: 256.29019 | E26: 256.29019
A27: DIR PRODUC | B27: 174.30411 | E27: 174.30411
A28: DIR TECH | B28: 188.24862 | E28: 188.24862
A29: DIR VENTES | B29: 464.94115 | E29: 464.94115
A30: INGENIEUR | C30: 251.62438 | E30: 251.62438
A31: MONTEUR | B31: 93.57374 | E31: 93.57374
A32: PDG | D32: 2125.4572 | E32: 2125.4572
A33: RESP RP | B33: 160.3596 | E33: 160.3596
A34: SECRETAIRE | B34: 148.8035 | C34: 124.36616 | E34: 129.25362
A35: SOUS DIR | B35: 197.60701 | C35: 230.14268 | E35: 213.87484
A36: TECHNICIEN | B36: 173.20526 | C36: 175.49603 | E36: 174.35064
A37: VENDEUR | B37: 426.48809 | C37: 1097.5686 | E37: 873.87507
A38: Total général | B38: 208.57364 | C38: 308.37647 | D38: 1424.932 | E38: 388.79917
A45: Somme de MONTANT | B45: Produits
A46: Vendeur | B46: HABILLEMENT | C46: MAQUETTE 3D | D46: PROTOTYPAGE | E46: PUBLICITE | F46: Total général
A47: BASCHET Françoise | B47: 1415.7 | C47: 6960.67 | D47: 6198.7 | E47: 3916.42 | F47: 18491.49
A48: GALOTTI Marc | B48: 1170.43 | C48: 34290.9 | D48: 956.99 | E48: 1091.47 | F48: 37509.79
A49: POINCARE Charles | B49: 1288.88 | C49: 12863.15 | D49: 9804.73 | F49: 23956.76
A50: Total général | B50: 3875.01 | C50: 54114.72 | D50: 16960.42 | E50: 5007.89 | F50: 79958.04

Sheet Recherche
A1: Recherche sur les ventes
A2: Zone de critères
A3: CONTRAT | B3: DATE FACTURE | C3: CODE CLIENT | D3: PRODUIT | E3: VENDEUR | F3: MONTANT | G3: NOM VENDEUR
B4: 43893 | D4: PROTOTYPAGE
A6: Montant total | B6: =DSUM(Ventes!$A:$G,"MONTANT",$A$3:$G$4) -> 935.47
A7: Montant moyen | B7: =DAVERAGE(Ventes!$A:$G,"MONTANT",$A$3:$G$4) -> 935.47
A8: Nb contrats | B8: =DCOUNTA(Ventes!$A:$G,"CONTRAT",$A$3:$G$4) -> 1
A9: Vendeur | B9: =DGET(Ventes!$A:$G,"NOM VENDEUR",$A$3:$G$4) -> BASCHET Françoise
