Workbook
Name tva: Factures!$L$1

Sheet Factures
A1: CODE_FACTURE | B1: DATE_FACTURE | C1: CODE_CLIENT | D1: SECTEUR | E1: VENDEUR | F1: MONTANT | G1: TVA | H1: MONTANT TTC | K1: TVA | L1: 0.2
A2: FA-2008-0001 | B2: 39450 | C2: CLI232 | D2: ELECTRICITE | E2: BOUVET | F2: 203.86 | G2: =$F2*tva -> 40.772 | H2: =$G2+$F2 -> 244.632
A3: FA-2008-0002 | B3: 39451 | C3: CLI228 | D3: AUTOMATISME | E3: BOUVET | F3: 391.28 | G3: =$F3*tva -> 78.256 | H3: =$G3+$F3 -> 469.536
A4: FA-2008-0003 | B4: 39455 | C4: CLI232 | D4: AUTOMATISME | E4: ENGUENT | F4: 739.83 | G4: =$F4*tva -> 147.966 | H4: =$G4+$F4 -> 887.796
A5: FA-2008-0004 | B5: 39464 | C5: CLI235 | D5: AUTOMATISME | E5: DEVEAUX | F5: 606.66 | G5: =$F5*tva -> 121.332 | H5: =$G5+$F5 -> 727.992
A6: FA-2008-0005 | B6: 39473 | C6: CLI520 | D6: ELECTRICITE | E6: BOUVET | F6: 739.83 | G6: =$F6*tva -> 147.966 | H6: =$G6+$F6 -> 887.796
A7: FA-2008-0006 | B7: 39482 | C7: CLI038 | D7: AUTOMATISME | E7: ENGUENT | F7: 374.84 | G7: =$F7*tva -> 74.968 | H7: =$G7+$F7 -> 449.808
A8: FA-2008-0007 | B8: 39491 | C8: CLI512 | D8: AUTOMATISME | E8: ENGUENT | F8: 935.47 | G8: =$F8*tva -> 187.094 | H8: =$G8+$F8 -> 1122.564
A9: FA-2008-0008 | B9: 39500 | C9: CLI115 | D9: AUTOMATISME | E9: BOUVET | F9: 677.36 | G9: =$F9*tva -> 135.472 | H9: =$G9+$F9 -> 812.832
A10: FA-2008-0009 | B10: 39510 | C10: CLI098 | D10: ELECTRICITE | E10: BOUVET | F10: 935.47 | G10: =$F10*tva -> 187.094 | H10: =$G10+$F10 -> 1122.564
A11: FA-2008-0010 | B11: 39519 | C11: CLI009 | D11: AUTOMATISME | E11: BOUVET | F11: 752.98 | G11: =$F11*tva -> 150.596 | H11: =$G11+$F11 -> 903.576
A12: FA-2008-0011 | B12: 39528 | C12: CLI334 | D12: ELECTRICITE | E12: BOUVET | F12: 348.55 | G12: =$F12*tva -> 69.71 | H12: =$G12+$F12 -> 418.26
A13: FA-2008-0012 | B13: 39538 | C13: CLI114 | D13: ELECTRICITE | E13: DEVEAUX | F13: 752.98 | G13: =$F13*tva -> 150.596 | H13: =$G13+$F13 -> 903.576
... A48: FA-2008-0047 | B48: 39718 | C48: CLI209 | D48: ELECTRICITE | E48: ENGUENT | F48: 204.01 | G48: =$F48*tva -> 40.802 | H48: =$G48+$F48 -> 244.812

Sheet Clients
A1: CODE_CLIENT | B1: NOM_CLIENT | C1: CODE_POSTAL | D1: VILLE_CLIENT | E1: ADRESSE_CLIENT | F1: TEL_CLIENT
A2: CLI009 | B2: Romane Nguyen | C2: 48100 | D2: Les Salces | E2: 39 rue de l'Abbatoir | F2: 04 92 92 20 03
A3: CLI038 | B3: Lina Prevost | C3: 33450 | D3: Saint Loubes | E3: 28 rue Albuy | F3: 03 08 59 49 71
A4: CLI098 | B4: Adam Pereira | C4: 97100 | D4: Basse Terre | E4: 12 B rue Clou dans le Fer | F4: 05 74 52 80 22
A5: CLI114 | B5: Antoine Rey | C5: 89300 | D5: St Aubin sur Yonne | E5: 22 rondpoint de la Défense | F5: 09 24 74 52 45
A6: CLI115 | B6: Timéo Michel | C6: 53400 | D6: St Quentin les Anges | E6: 49 boulevard de la Paix | F6: 07 91 83 84 04
A7: CLI145 | B7: Chaïma Meyer | C7: 92500 | D7: Rueil Malmaison | E7: 57 rue Pasteur | F7: 02 61 56 58 89
A8: CLI163 | B8: Thibault Moreau | C8: 23400 | D8: Auriat | E8: 10 rue Gambetta | F8: 03 20 58 75 73
A9: CLI204 | B9: Guillaume Boyer | C9: 02600 | D9: Ancienville | E9: 32 avenue des Droits de l'Homme | F9: 09 16 62 82 68
A10: CLI206 | B10: Léonie Andre | C10: 64410 | D10: Arget | E10: 15 rue de Taissy | F10: 05 29 60 45 44
A11: CLI209 | B11: Lorenzo Garnier | C11: 55400 | D11: Braquis | E11: 40 avenue de Paris | F11: 02 80 98 89 51
A12: CLI212 | B12: Katell Petit | C12: 52400 | D12: Aigremont | E12: 5 impasse des Belges | F12: 09 19 50 15 05
... A23: CLI520 | B23: Noémie Durand | C23: 20000 | D23: Ajaccio | E23: 10 rue des Vergeurs | F23: 02 16 54 56 44

Sheet Vendeurs
A1: VENDEUR | B1: NOM_VENDEUR | C1: DATE_EMB | D1: DATE_NAIS
A2: BOUVET | B2: Thibeau BOUVET | C2: 39084 | D2: 31787
A3: DEVEAUX | B3: Thomas DEVEAUX | C3: 39326 | D3: 28176
A4: ENGUENT | B4: Pierre ENGUENT | C4: 39356 | D4: 32962

Sheet Statistiques
A1: Prix Moy HT | B1: =AVERAGE(Tableau_Factures2008.accdb[MONTANT]) -> 1701.2349
A2: Nb Prestations | B2: =COUNTA(Tableau_Factures2008.accdb[CODE_FACTURE]) -> 47
A3: Total prestations | B3: =SUM(Tableau_Factures2008.accdb[MONTANT TTC]) -> 95949.648
A4: Total TVA | B4: =SUM(Tableau_Factures2008.accdb[TVA]) -> 15991.608
B6: ELECTRICITE | C6: AUTOMATISME
A7: Nb prestations | B7: =COUNTIF(Factures!$D:$D,Statistiques!B6) -> 17 | C7: =COUNTIF(Factures!$D:$D,Statistiques!C6) -> 30
A8: Total | B8: =SUMIF(Factures!$D:$D,B6,Factures!$H:$H) -> 12188.868 | C8: =SUMIF(Factures!$D:$D,C6,Factures!$H:$H) -> 83760.78

Sheet Analyses
A1: CODE_FACTURE | B1: DATE_FACTURE | C1: CODE_CLIENT | D1: SECTEUR | E1: VENDEUR | F1: MONTANT | G1: TVA | H1: MONTANT TTC
C2: CLI206 | D2: AUTOMATISME
A5: Moyenne | B5: =DAVERAGE(Factures!A:H,H1,A1:H2) -> 2919.2865
A6: Somme | B6: =DSUM(Factures!A:H,H1,A1:H2) -> 23354.292
A7: Nb Prestations | B7: =DCOUNTA(Factures!A:H,A1,A1:H2) -> 8

Sheet Impression
C3: Facture : | D3: FA-2008-0001 | J3: Date : | K3: =VLOOKUP(D3,Factures!A:H,2,FALSE) -> 39450
D5: Prestation
D6: =VLOOKUP(D3,Factures!A:H,4,FALSE) -> ELECTRICITE
D8: Montant | F8: Taux TVA | H8: TVA | J8: TTC
D9: =VLOOKUP(D3,Factures!A:H,6,FALSE) -> 203.86 | F9: =tva -> 0.2 | H9: =VLOOKUP(D3,Factures!A:H,7,FALSE) -> 40.772 | J9: =VLOOKUP(D3,Factures!A:H,8,FALSE) -> 244.632
C12: Code Client : | D12: =VLOOKUP(D3,Factures!A:H,3,FALSE) -> CLI232 | I12: Vendeur : | J12: =VLOOKUP(D3,Factures!A:H,5,FALSE) -> BOUVET
C14: Client | I14: Vendeur
C15: =VLOOKUP(D12,Clients!A:F,2,FALSE) -> Catherine Fernandez | I15: =VLOOKUP(J12,Vendeurs!A:D,2,FALSE) -> Thibeau BOUVET
C18: Signature client | I18: Signature Vendeur
