Workbook
Name Destination: Déplacements!$C:$C
Name EmissionCO2Moy: Taux!$L$2:$L$3
Name Employes: Employés!$A:$I
Name limiteKgCO2: Taux!$G$2
Name Matr_Deplacements: Déplacements!$A:$A
Name Matr_Employes: Employés!$A:$A
Name ModesTransp: Taux!$K$2:$K$3
Name NP_Deplacements: Déplacements!$B:$B
Name Nuitées: Taux!$B$1:$B$6
Name PrixKM: Taux!$G$5
Name Projets: Projets!$A:$I
Name Seuil_population: Taux!$A$1:$A$6

Sheet Employés
A1: Matr | B1: Nom | C1: Date naissance | D1: Age | E1: Date entrée | F1: Ancienneté | G1: Statut | H1: Indemnité | I1: Expérience | J1: montant déplacements | K1: total émissions CO2
A2: 7178 | B2: Océane Petitjean-Delaunay | C2: 33992 | D2: =ROUNDDOWN(YEARFRAC(C2,TODAY()),0) -> 32 | E2: 44262 | F2: =ROUNDDOWN(YEARFRAC(E2,TODAY()),0) -> 4 | G2: junior | H2: 93.06 | I2: 3 | J2: =SUMIF(Matr_Deplacements,$A2,Déplacements!M:M) -> 4749.5221 | K2: =SUMIF(Matr_Deplacements,$A2,Déplacements!N:N) -> 226.51396
A3: 9958 | B3: Valérie Le Gall | C3: 36505 | D3: =ROUNDDOWN(YEARFRAC(C3,TODAY()),0) -> 25 | E3: 45075 | F3: =ROUNDDOWN(YEARFRAC(E3,TODAY()),0) -> 2 | G3: junior | H3: 55.87 | I3: 1 | J3: =SUMIF(Matr_Deplacements,$A3,Déplacements!M:M) -> 3494.1856 | K3: =SUMIF(Matr_Deplacements,$A3,Déplacements!N:N) -> 19.379857
A4: 7152 | B4: Agnès-Julie Lopes | C4: 35127 | D4: =ROUNDDOWN(YEARFRAC(C4,TODAY()),0) -> 29 | E4: 45427 | F4: =ROUNDDOWN(YEARFRAC(E4,TODAY()),0) -> 1 | G4: junior | H4: 66.4 | I4: 3 | J4: =SUMIF(Matr_Deplacements,$A4,Déplacements!M:M) -> 4322.2852 | K4: =SUMIF(Matr_Deplacements,$A4,Déplacements!N:N) -> 347.96781
A5: 9790 | B5: Gérard Chrétien du Pelletier | C5: 36427 | D5: =ROUNDDOWN(YEARFRAC(C5,TODAY()),0) -> 26 | E5: 45586 | F5: =ROUNDDOWN(YEARFRAC(E5,TODAY()),0) -> 0 | G5: junior | H5: 75.7 | I5: 5 | J5: =SUMIF(Matr_Deplacements,$A5,Déplacements!M:M) -> 10330.502 | K5: =SUMIF(Matr_Deplacements,$A5,Déplacements!N:N) -> 510.70938
A6: 4029 | B6: Philippe Jacquet | C6: 36087 | D6: =ROUNDDOWN(YEARFRAC(C6,TODAY()),0) -> 26 | E6: 44702 | F6: =ROUNDDOWN(YEARFRAC(E6,TODAY()),0) -> 3 | G6: junior | H6: 57.82 | I6: 3 | J6: =SUMIF(Matr_Deplacements,$A6,Déplacements!M:M) -> 7717.0905 | K6: =SUMIF(Matr_Deplacements,$A6,Déplacements!N:N) -> 248.66536
A7: 9564 | B7: Robert Grégoire-Masse | C7: 30752 | D7: =ROUNDDOWN(YEARFRAC(C7,TODAY()),0) -> 41 | E7: 45133 | F7: =ROUNDDOWN(YEARFRAC(E7,TODAY()),0) -> 2 | G7: senior | H7: 140.29 | I7: 12 | J7: =SUMIF(Matr_Deplacements,$A7,Déplacements!M:M) -> 8121.2713 | K7: =SUMIF(Matr_Deplacements,$A7,Déplacements!N:N) -> 430.68784
A8: 2901 | B8: Antoinette Gomez | C8: 32612 | D8: =ROUNDDOWN(YEARFRAC(C8,TODAY()),0) -> 36 | E8: 43972 | F8: =ROUNDDOWN(YEARFRAC(E8,TODAY()),0) -> 5 | G8: senior | H8: 140.03 | I8: 11 | J8: =SUMIF(Matr_Deplacements,$A8,Déplacements!M:M) -> 6078.6235 | K8: =SUMIF(Matr_Deplacements,$A8,Déplacements!N:N) -> 357.45476
A9: 3751 | B9: Michèle de la Bonneau | C9: 30869 | D9: =ROUNDDOWN(YEARFRAC(C9,TODAY()),0) -> 41 | E9: 44864 | F9: =ROUNDDOWN(YEARFRAC(E9,TODAY()),0) -> 2 | G9: senior | H9: 109.05 | I9: 12 | J9: =SUMIF(Matr_Deplacements,$A9,Déplacements!M:M) -> 7718.679 | K9: =SUMIF(Matr_Deplacements,$A9,Déplacements!N:N) -> 422.98149
A10: 6763 | B10: Édith Michaud | C10: 35269 | D10: =ROUNDDOWN(YEARFRAC(C10,TODAY()),0) -> 29 | E10: 44516 | F10: =ROUNDDOWN(YEARFRAC(E10,TODAY()),0) -> 3 | G10: junior | H10: 60.05 | I10: 2 | J10: =SUMIF(Matr_Deplacements,$A10,Déplacements!M:M) -> 3686.6707 | K10: =SUMIF(Matr_Deplacements,$A10,Déplacements!N:N) -> 160.03207
A11: 9393 | B11: Céline Marques | C11: 35700 | D11: =ROUNDDOWN(YEARFRAC(C11,TODAY()),0) -> 28 | E11: 45364 | F11: =ROUNDDOWN(YEARFRAC(E11,TODAY()),0) -> 1 | G11: junior | H11: 67.08 | I11: 4 | J11: =SUMIF(Matr_Deplacements,$A11,Déplacements!M:M) -> 6920.0045 | K11: =SUMIF(Matr_Deplacements,$A11,Déplacements!N:N) -> 377.5616

Sheet Projets
A1: NP | B1: Intitulé | C1: Domaine | D1: Date début | E1: Prix heure | F1: budget_fonctionnement | G1: budget_investissement | H1: duree_mois | I1: Date fin | J1: montant déplacements | K1: Budget mis à jour | L1: Consommé
A2: 8519 | B2: Infra2 | C2: data science | D2: 45616 | E2: 229.43 | F2: 14413.66 | G2: 25840.08 | H2: 37 | I2: =EDATE(D2,H2) -> 46741 | J2: =SUMIF(NP_Deplacements,$A2,Déplacements!$M:$M) -> 11615.457 | K2: =F2-J2 -> 2798.203 | L2: =J2/F2 -> 0.8058645
A3: 9474 | B3: NextGen | C3: transformation digitale | D3: 45289 | E3: 99.51 | F3: 23168.63 | G3: 68957.47 | H3: 12 | I3: =EDATE(D3,H3) -> 45655 | J3: =SUMIF(NP_Deplacements,$A3,Déplacements!$M:$M) -> 4322.2852 | K3: =F3-J3 -> 18846.345 | L3: =J3/F3 -> 0.18655765
A4: 9247 | B4: E30 | C4: ERP | D4: 45489 | E4: 108.39 | F4: 36269.05 | G4: 46195.43 | H4: 35 | I4: =EDATE(D4,H4) -> 46554 | J4: =SUMIF(NP_Deplacements,$A4,Déplacements!$M:$M) -> 7717.0905 | K4: =F4-J4 -> 28551.959 | L4: =J4/F4 -> 0.21277344
A5: 1934 | B5: Gamma | C5: data science | D5: 45682 | E5: 234.4 | F5: 22717.26 | G5: 50839 | H5: 31 | I5: =EDATE(D5,H5) -> 46624 | J5: =SUMIF(NP_Deplacements,$A5,Déplacements!$M:$M) -> 6920.0045 | K5: =F5-J5 -> 15797.256 | L5: =J5/F5 -> 0.3046144
A6: 8482 | B6: Onix | C6: logistique | D6: 45151 | E6: 205.56 | F6: 47937.99 | G6: 24154.8 | H6: 12 | I6: =EDATE(D6,H6) -> 45517 | J6: =SUMIF(NP_Deplacements,$A6,Déplacements!$M:$M) -> 0 | K6: =F6-J6 -> 47937.99 | L6: =J6/F6 -> 0
A7: 1759 | B7: FP3 | C7: devel | D7: 44980 | E7: 131.37 | F7: 56222.17 | G7: 38422.45 | H7: 12 | I7: =EDATE(D7,H7) -> 45345 | J7: =SUMIF(NP_Deplacements,$A7,Déplacements!$M:$M) -> 0 | K7: =F7-J7 -> 56222.17 | L7: =J7/F7 -> 0
A8: 6619 | B8: Clean | C8: devel | D8: 45305 | E8: 82.12 | F8: 16486.95 | G8: 65888.95 | H8: 54 | I8: =EDATE(D8,H8) -> 46948 | J8: =SUMIF(NP_Deplacements,$A8,Déplacements!$M:$M) -> 0 | K8: =F8-J8 -> 16486.95 | L8: =J8/F8 -> 0
A9: 7064 | B9: FAST | C9: finance | D9: 45189 | E9: 201.15 | F9: 21887.33 | G9: 57471.68 | H9: 12 | I9: =EDATE(D9,H9) -> 45555 | J9: =SUMIF(NP_Deplacements,$A9,Déplacements!$M:$M) -> 0 | K9: =F9-J9 -> 21887.33 | L9: =J9/F9 -> 0
A10: 7265 | B10: Cargo | C10: IA | D10: 45081 | E10: 216.57 | F10: 23920.58 | G10: 19658.36 | H10: 12 | I10: =EDATE(D10,H10) -> 45447 | J10: =SUMIF(NP_Deplacements,$A10,Déplacements!$M:$M) -> 0 | K10: =F10-J10 -> 23920.58 | L10: =J10/F10 -> 0
A11: 1171 | B11: CLAIREIndigo | C11: finance | D11: 45458 | E11: 204.16 | F11: 69602.99 | G11: 44637.05 | H11: 52 | I11: =EDATE(D11,H11) -> 47041 | J11: =SUMIF(NP_Deplacements,$A11,Déplacements!$M:$M) -> 4749.5221 | K11: =F11-J11 -> 64853.468 | L11: =J11/F11 -> 0.068237329
A12: 9425 | B12: Next | C12: comptabilité | D12: 45846 | E12: 161.18 | F12: 43936.63 | G12: 23954.9 | H12: 40 | I12: =EDATE(D12,H12) -> 47065 | J12: =SUMIF(NP_Deplacements,$A12,Déplacements!$M:$M) -> 10330.502 | K12: =F12-J12 -> 33606.128 | L12: =J12/F12 -> 0.23512277
A13: 1019 | B13: ARGO | C13: logistique | D13: 45036 | E13: 213.86 | F13: 23420.81 | G13: 31799.9 | H13: 12 | I13: =EDATE(D13,H13) -> 45402 | J13: =SUMIF(NP_Deplacements,$A13,Déplacements!$M:$M) -> 3686.6707 | K13: =F13-J13 -> 19734.139 | L13: =J13/F13 -> 0.15741004
... A16: 7236 | B16: Alpha | C16: CRM | D16: 45442 | E16: 67.6 | F16: 77581.96 | G16: 73410.34 | H16: 15 | I16: =EDATE(D16,H16) -> 45899 | J16: =SUMIF(NP_Deplacements,$A16,Déplacements!$M:$M) -> 6078.6235 | K16: =F16-J16 -> 71503.337 | L16: =J16/F16 -> 0.078350991

Sheet Déplacements
A1: Matr | B1: NP | C1: destination | D1: date début | E1: date fin | F1: mode de transport | G1: immatriculation | H1: prix billets | I1: Durée | J1: KM Parcourus | K1: Montant nuitées | L1: Montant indemnités | M1: Coût déplacement | N1: kg CO2 consommé | O1: Projet | P1: Domaine | Q1: Employé | R1: Age | S1: Ancienneté | T1: Statut
A2: 4029 | B2: 9247 | C2: Pessac | D2: 45929 | E2: 45937 | F2: train | H2: 261.2 | I2: =$E2-$D2 -> 8 | J2: =_xlfn.XLOOKUP($C2,villes[nom_commune],villes[distance_paris_km],,0)*2 -> 1014.9856 | K2: =_xlfn.XLOOKUP(_xlfn.XLOOKUP($C2,villes[nom_commune],villes[Population],0,0),Seuil_population,Nuitées,0,1)*I2 -> 400 | L2: =VLOOKUP(A2,Employes,8,FALSE)*I2 -> 462.56 | M2: =K2+L2+IF(F2="voiture",J2*PrixKM,H2) -> 1123.76 | N2: =IF(F2<>"voiture",_xlfn.XLOOKUP(F2,ModesTransp,EmissionCO2Moy,,0),_xlfn.XLOOKUP(G2,voitures_disponibles!$L:$L,voitures_disponibles!$K:$K,,0))/1000*J2 -> 2.0299712 | O2: =VLOOKUP($B2,Projets,2,FALSE) -> E30 | P2: =VLOOKUP($B2,Projets,3,FALSE) -> ERP | Q2: =_xlfn.XLOOKUP($A2,Matr_Employes,Employés!B:B,,0) -> Philippe Jacquet | R2: =_xlfn.XLOOKUP($A2,Matr_Employes,Employés!D:D,,0) -> 26 | S2: =_xlfn.XLOOKUP($A2,Matr_Employes,Employés!F:F,,0) -> 3 | T2: =_xlfn.XLOOKUP($A2,Matr_Employes,Employés!G:G,,0) -> junior
A3: 3751 | B3: 2042 | C3: Antibes | D3: 45932 | E3: 45941 | F3: avion | H3: 286 | I3: =$E3-$D3 -> 9 | J3: =_xlfn.XLOOKUP($C3,villes[nom_commune],villes[distance_paris_km],,0)*2 -> 1383.9079 | K3: =_xlfn.XLOOKUP(_xlfn.XLOOKUP($C3,villes[nom_commune],villes[Population],0,0),Seuil_population,Nuitées,0,1)*I3 -> 450 | L3: =VLOOKUP(A3,Employes,8,FALSE)*I3 -> 981.45 | M3: =K3+L3+IF(F3="voiture",J3*PrixKM,H3) -> 1717.45 | N3: =IF(F3<>"voiture",_xlfn.XLOOKUP(F3,ModesTransp,EmissionCO2Moy,,0),_xlfn.XLOOKUP(G3,voitures_disponibles!$L:$L,voitures_disponibles!$K:$K,,0))/1000*J3 -> 138.39079 | O3: =VLOOKUP($B3,Projets,2,FALSE) -> Optimus | P3: =VLOOKUP($B3,Projets,3,FALSE) -> finance | Q3: =_xlfn.XLOOKUP($A3,Matr_Employes,Employés!B:B,,0) -> Michèle de la Bonneau | R3: =_xlfn.XLOOKUP($A3,Matr_Employes,Employés!D:D,,0) -> 41 | S3: =_xlfn.XLOOKUP($A3,Matr_Employes,Employés!F:F,,0) -> 2 | T3: =_xlfn.XLOOKUP($A3,Matr_Employes,Employés!G:G,,0) -> senior
A4: 2901 | B4: 7236 | C4: Quimper | D4: 45938 | E4: 45942 | F4: voiture | G4: 765-JSQ-81 | I4: =$E4-$D4 -> 4 | J4: =_xlfn.XLOOKUP($C4,villes[nom_commune],villes[distance_paris_km],,0)*2 -> 970.26036 | K4: =_xlfn.XLOOKUP(_xlfn.XLOOKUP($C4,villes[nom_commune],villes[Population],0,0),Seuil_population,Nuitées,0,1)*I4 -> 200 | L4: =VLOOKUP(A4,Employes,8,FALSE)*I4 -> 560.12 | M4: =K4+L4+IF(F4="voiture",J4*PrixKM,H4) -> 2458.0756 | N4: =IF(F4<>"voiture",_xlfn.XLOOKUP(F4,ModesTransp,EmissionCO2Moy,,0),_xlfn.XLOOKUP(G4,voitures_disponibles!$L:$L,voitures_disponibles!$K:$K,,0))/1000*J4 -> 287.19707 | O4: =VLOOKUP($B4,Projets,2,FALSE) -> Alpha | P4: =VLOOKUP($B4,Projets,3,FALSE) -> CRM | Q4: =_xlfn.XLOOKUP($A4,Matr_Employes,Employés!B:B,,0) -> Antoinette Gomez | R4: =_xlfn.XLOOKUP($A4,Matr_Employes,Employés!D:D,,0) -> 36 | S4: =_xlfn.XLOOKUP($A4,Matr_Employes,Employés!F:F,,0) -> 5 | T4: =_xlfn.XLOOKUP($A4,Matr_Employes,Employés!G:G,,0) -> senior
A5: 9393 | B5: 1934 | C5: Argenteuil | D5: 45941 | E5: 45945 | F5: voiture | G5: 575-EXN-41 | I5: =$E5-$D5 -> 4 | J5: =_xlfn.XLOOKUP($C5,villes[nom_commune],villes[distance_paris_km],,0)*2 -> 24.135524 | K5: =_xlfn.XLOOKUP(_xlfn.XLOOKUP($C5,villes[nom_commune],villes[Population],0,0),Seuil_population,Nuitées,0,1)*I5 -> 300 | L5: =VLOOKUP(A5,Employes,8,FALSE)*I5 -> 268.32 | M5: =K5+L5+IF(F5="voiture",J5*PrixKM,H5) -> 610.55717 | N5: =IF(F5<>"voiture",_xlfn.XLOOKUP(F5,ModesTransp,EmissionCO2Moy,,0),_xlfn.XLOOKUP(G5,voitures_disponibles!$L:$L,voitures_disponibles!$K:$K,,0))/1000*J5 -> 4.8271049 | O5: =VLOOKUP($B5,Projets,2,FALSE) -> Gamma | P5: =VLOOKUP($B5,Projets,3,FALSE) -> data science | Q5: =_xlfn.XLOOKUP($A5,Matr_Employes,Employés!B:B,,0) -> Céline Marques | R5: =_xlfn.XLOOKUP($A5,Matr_Employes,Employés!D:D,,0) -> 28 | S5: =_xlfn.XLOOKUP($A5,Matr_Employes,Employés!F:F,,0) -> 1 | T5: =_xlfn.XLOOKUP($A5,Matr_Employes,Employés!G:G,,0) -> junior
A6: 4029 | B6: 9247 | C6: Montreuil | D6: 45967 | E6: 45969 | F6: train | H6: 5 | I6: =$E6-$D6 -> 2 | J6: =_xlfn.XLOOKUP($C6,villes[nom_commune],villes[distance_paris_km],,0)*2 -> 16.416835 | K6: =_xlfn.XLOOKUP(_xlfn.XLOOKUP($C6,villes[nom_commune],villes[Population],0,0),Seuil_population,Nuitées,0,1)*I6 -> 150 | L6: =VLOOKUP(A6,Employes,8,FALSE)*I6 -> 115.64 | M6: =K6+L6+IF(F6="voiture",J6*PrixKM,H6) -> 270.64 | N6: =IF(F6<>"voiture",_xlfn.XLOOKUP(F6,ModesTransp,EmissionCO2Moy,,0),_xlfn.XLOOKUP(G6,voitures_disponibles!$L:$L,voitures_disponibles!$K:$K,,0))/1000*J6 -> 0.03283367 | O6: =VLOOKUP($B6,Projets,2,FALSE) -> E30 | P6: =VLOOKUP($B6,Projets,3,FALSE) -> ERP | Q6: =_xlfn.XLOOKUP($A6,Matr_Employes,Employés!B:B,,0) -> Philippe Jacquet | R6: =_xlfn.XLOOKUP($A6,Matr_Employes,Employés!D:D,,0) -> 26 | S6: =_xlfn.XLOOKUP($A6,Matr_Employes,Employés!F:F,,0) -> 3 | T6: =_xlfn.XLOOKUP($A6,Matr_Employes,Employés!G:G,,0) -> junior
A7: 9790 | B7: 9425 | C7: Hyères | D7: 45984 | E7: 45993 | F7: voiture | G7: QF-109-TX | I7: =$E7-$D7 -> 9 | J7: =_xlfn.XLOOKUP($C7,villes[nom_commune],villes[distance_paris_km],,0)*2 -> 1412.5043 | K7: =_xlfn.XLOOKUP(_xlfn.XLOOKUP($C7,villes[nom_commune],villes[Population],0,0),Seuil_population,Nuitées,0,1)*I7 -> 450 | L7: =VLOOKUP(A7,Employes,8,FALSE)*I7 -> 681.3 | M7: =K7+L7+IF(F7="voiture",J7*PrixKM,H7) -> 3603.1825 | N7: =IF(F7<>"voiture",_xlfn.XLOOKUP(F7,ModesTransp,EmissionCO2Moy,,0),_xlfn.XLOOKUP(G7,voitures_disponibles!$L:$L,voitures_disponibles!$K:$K,,0))/1000*J7 -> 218.93817 | O7: =VLOOKUP($B7,Projets,2,FALSE) -> Next | P7: =VLOOKUP($B7,Projets,3,FALSE) -> comptabilité | Q7: =_xlfn.XLOOKUP($A7,Matr_Employes,Employés!B:B,,0) -> Gérard Chrétien du Pelletier | R7: =_xlfn.XLOOKUP($A7,Matr_Employes,Employés!D:D,,0) -> 26 | S7: =_xlfn.XLOOKUP($A7,Matr_Employes,Employés!F:F,,0) -> 0 | T7: =_xlfn.XLOOKUP($A7,Matr_Employes,Employés!G:G,,0) -> junior
A8: 9958 | B8: 8519 | C8: Clermont-Ferrand | D8: 45987 | E8: 45990 | F8: train | H8: 209.2 | I8: =$E8-$D8 -> 3 | J8: =_xlfn.XLOOKUP($C8,villes[nom_commune],villes[distance_paris_km],,0)*2 -> 694.23863 | K8: =_xlfn.XLOOKUP(_xlfn.XLOOKUP($C8,villes[nom_commune],villes[Population],0,0),Seuil_population,Nuitées,0,1)*I8 -> 225 | L8: =VLOOKUP(A8,Employes,8,FALSE)*I8 -> 167.61 | M8: =K8+L8+IF(F8="voiture",J8*PrixKM,H8) -> 601.81 | N8: =IF(F8<>"voiture",_xlfn.XLOOKUP(F8,ModesTransp,EmissionCO2Moy,,0),_xlfn.XLOOKUP(G8,voitures_disponibles!$L:$L,voitures_disponibles!$K:$K,,0))/1000*J8 -> 1.3884773 | O8: =VLOOKUP($B8,Projets,2,FALSE) -> Infra2 | P8: =VLOOKUP($B8,Projets,3,FALSE) -> data science | Q8: =_xlfn.XLOOKUP($A8,Matr_Employes,Employés!B:B,,0) -> Valérie Le Gall | R8: =_xlfn.XLOOKUP($A8,Matr_Employes,Employés!D:D,,0) -> 25 | S8: =_xlfn.XLOOKUP($A8,Matr_Employes,Employés!F:F,,0) -> 2 | T8: =_xlfn.XLOOKUP($A8,Matr_Employes,Employés!G:G,,0) -> junior
A9: 3751 | B9: 2042 | C9: Reims | D9: 45994 | E9: 45996 | F9: voiture | G9: TZ-811-YW | I9: =$E9-$D9 -> 2 | J9: =_xlfn.XLOOKUP($C9,villes[nom_commune],villes[distance_paris_km],,0)*2 -> 263.65765 | K9: =_xlfn.XLOOKUP(_xlfn.XLOOKUP($C9,villes[nom_commune],villes[Population],0,0),Seuil_population,Nuitées,0,1)*I9 -> 200 | L9: =VLOOKUP(A9,Employes,8,FALSE)*I9 -> 218.1 | M9: =K9+L9+IF(F9="voiture",J9*PrixKM,H9) -> 879.50089 | N9: =IF(F9<>"voiture",_xlfn.XLOOKUP(F9,ModesTransp,EmissionCO2Moy,,0),_xlfn.XLOOKUP(G9,voitures_disponibles!$L:$L,voitures_disponibles!$K:$K,,0))/1000*J9 -> 56.422738 | O9: =VLOOKUP($B9,Projets,2,FALSE) -> Optimus | P9: =VLOOKUP($B9,Projets,3,FALSE) -> finance | Q9: =_xlfn.XLOOKUP($A9,Matr_Employes,Employés!B:B,,0) -> Michèle de la Bonneau | R9: =_xlfn.XLOOKUP($A9,Matr_Employes,Employés!D:D,,0) -> 41 | S9: =_xlfn.XLOOKUP($A9,Matr_Employes,Employés!F:F,,0) -> 2 | T9: =_xlfn.XLOOKUP($A9,Matr_Employes,Employés!G:G,,0) -> senior
A10: 2901 | B10: 7236 | C10: Charleville-Mézières | D10: 46026 | E10: 46031 | F10: voiture | G10: QQ-716-IN | I10: =$E10-$D10 -> 5 | J10: =_xlfn.XLOOKUP($C10,villes[nom_commune],villes[distance_paris_km],,0)*2 -> 401.30765 | K10: =_xlfn.XLOOKUP(_xlfn.XLOOKUP($C10,villes[nom_commune],villes[Population],0,0),Seuil_population,Nuitées,0,1)*I10 -> 250 | L10: =VLOOKUP(A10,Employes,8,FALSE)*I10 -> 700.15 | M10: =K10+L10+IF(F10="voiture",J10*PrixKM,H10) -> 1652.4384 | N10: =IF(F10<>"voiture",_xlfn.XLOOKUP(F10,ModesTransp,EmissionCO2Moy,,0),_xlfn.XLOOKUP(G10,voitures_disponibles!$L:$L,voitures_disponibles!$K:$K,,0))/1000*J10 -> 65.413146 | O10: =VLOOKUP($B10,Projets,2,FALSE) -> Alpha | P10: =VLOOKUP($B10,Projets,3,FALSE) -> CRM | Q10: =_xlfn.XLOOKUP($A10,Matr_Employes,Employés!B:B,,0) -> Antoinette Gomez | R10: =_xlfn.XLOOKUP($A10,Matr_Employes,Employés!D:D,,0) -> 36 | S10: =_xlfn.XLOOKUP($A10,Matr_Employes,Employés!F:F,,0) -> 5 | T10: =_xlfn.XLOOKUP($A10,Matr_Employes,Employés!G:G,,0) -> senior
A11: 6763 | B11: 1019 | C11: Ivry-sur-Seine | D11: 46031 | E11: 46033 | F11: voiture | G11: 765-JSQ-81 | I11: =$E11-$D11 -> 2 | J11: =_xlfn.XLOOKUP($C11,villes[nom_commune],villes[distance_paris_km],,0)*2 -> 13.414251 | K11: =_xlfn.XLOOKUP(_xlfn.XLOOKUP($C11,villes[nom_commune],villes[Population],0,0),Seuil_population,Nuitées,0,1)*I11 -> 100 | L11: =VLOOKUP(A11,Employes,8,FALSE)*I11 -> 120.1 | M11: =K11+L11+IF(F11="voiture",J11*PrixKM,H11) -> 243.57494 | N11: =IF(F11<>"voiture",_xlfn.XLOOKUP(F11,ModesTransp,EmissionCO2Moy,,0),_xlfn.XLOOKUP(G11,voitures_disponibles!$L:$L,voitures_disponibles!$K:$K,,0))/1000*J11 -> 3.9706184 | O11: =VLOOKUP($B11,Projets,2,FALSE) -> ARGO | P11: =VLOOKUP($B11,Projets,3,FALSE) -> logistique | Q11: =_xlfn.XLOOKUP($A11,Matr_Employes,Employés!B:B,,0) -> Édith Michaud | R11: =_xlfn.XLOOKUP($A11,Matr_Employes,Employés!D:D,,0) -> 29 | S11: =_xlfn.XLOOKUP($A11,Matr_Employes,Employés!F:F,,0) -> 3 | T11: =_xlfn.XLOOKUP($A11,Matr_Employes,Employés!G:G,,0) -> junior
A12: 7152 | B12: 9474 | C12: Champigny-sur-Marne | D12: 46035 | E12: 46038 | F12: train | H12: 5 | I12: =$E12-$D12 -> 3 | J12: =_xlfn.XLOOKUP($C12,villes[nom_commune],villes[distance_paris_km],,0)*2 -> 28.398105 | K12: =_xlfn.XLOOKUP(_xlfn.XLOOKUP($C12,villes[nom_commune],villes[Population],0,0),Seuil_population,Nuitées,0,1)*I12 -> 150 | L12: =VLOOKUP(A12,Employes,8,FALSE)*I12 -> 199.2 | M12: =K12+L12+IF(F12="voiture",J12*PrixKM,H12) -> 354.2 | N12: =IF(F12<>"voiture",_xlfn.XLOOKUP(F12,ModesTransp,EmissionCO2Moy,,0),_xlfn.XLOOKUP(G12,voitures_disponibles!$L:$L,voitures_disponibles!$K:$K,,0))/1000*J12 -> 0.05679621 | O12: =VLOOKUP($B12,Projets,2,FALSE) -> NextGen | P12: =VLOOKUP($B12,Projets,3,FALSE) -> transformation digitale | Q12: =_xlfn.XLOOKUP($A12,Matr_Employes,Employés!B:B,,0) -> Agnès-Julie Lopes | R12: =_xlfn.XLOOKUP($A12,Matr_Employes,Employés!D:D,,0) -> 29 | S12: =_xlfn.XLOOKUP($A12,Matr_Employes,Employés!F:F,,0) -> 1 | T12: =_xlfn.XLOOKUP($A12,Matr_Employes,Employés!G:G,,0) -> junior
A13: 2901 | B13: 7236 | C13: Perpignan | D13: 46049 | E13: 46051 | F13: train | H13: 172.2 | I13: =$E13-$D13 -> 2 | J13: =_xlfn.XLOOKUP($C13,villes[nom_commune],villes[distance_paris_km],,0)*2 -> 1373.4564 | K13: =_xlfn.XLOOKUP(_xlfn.XLOOKUP($C13,villes[nom_commune],villes[Population],0,0),Seuil_population,Nuitées,0,1)*I13 -> 150 | L13: =VLOOKUP(A13,Employes,8,FALSE)*I13 -> 280.06 | M13: =K13+L13+IF(F13="voiture",J13*PrixKM,H13) -> 602.26 | N13: =IF(F13<>"voiture",_xlfn.XLOOKUP(F13,ModesTransp,EmissionCO2Moy,,0),_xlfn.XLOOKUP(G13,voitures_disponibles!$L:$L,voitures_disponibles!$K:$K,,0))/1000*J13 -> 2.7469129 | O13: =VLOOKUP($B13,Projets,2,FALSE) -> Alpha | P13: =VLOOKUP($B13,Projets,3,FALSE) -> CRM | Q13: =_xlfn.XLOOKUP($A13,Matr_Employes,Employés!B:B,,0) -> Antoinette Gomez | R13: =_xlfn.XLOOKUP($A13,Matr_Employes,Employés!D:D,,0) -> 36 | S13: =_xlfn.XLOOKUP($A13,Matr_Employes,Employés!F:F,,0) -> 5 | T13: =_xlfn.XLOOKUP($A13,Matr_Employes,Employés!G:G,,0) -> senior
A14: 4029 | B14: 9247 | C14: Nice | D14: 46053 | E14: 46060 | F14: voiture | G14: 881-PXG-62 | I14: =$E14-$D14 -> 7 | J14: =_xlfn.XLOOKUP($C14,villes[nom_commune],villes[distance_paris_km],,0)*2 -> 1371.1717 | K14: =_xlfn.XLOOKUP(_xlfn.XLOOKUP($C14,villes[nom_commune],villes[Population],0,0),Seuil_population,Nuitées,0,1)*I14 -> 1050 | L14: =VLOOKUP(A14,Employes,8,FALSE)*I14 -> 404.74 | M14: =K14+L14+IF(F14="voiture",J14*PrixKM,H14) -> 3854.2905 | N14: =IF(F14<>"voiture",_xlfn.XLOOKUP(F14,ModesTransp,EmissionCO2Moy,,0),_xlfn.XLOOKUP(G14,voitures_disponibles!$L:$L,voitures_disponibles!$K:$K,,0))/1000*J14 -> 245.43974 | O14: =VLOOKUP($B14,Projets,2,FALSE) -> E30 | P14: =VLOOKUP($B14,Projets,3,FALSE) -> ERP | Q14: =_xlfn.XLOOKUP($A14,Matr_Employes,Employés!B:B,,0) -> Philippe Jacquet | R14: =_xlfn.XLOOKUP($A14,Matr_Employes,Employés!D:D,,0) -> 26 | S14: =_xlfn.XLOOKUP($A14,Matr_Employes,Employés!F:F,,0) -> 3 | T14: =_xlfn.XLOOKUP($A14,Matr_Employes,Employés!G:G,,0) -> junior
A15: 3751 | B15: 2042 | C15: Lyon | D15: 46075 | E15: 46079 | F15: voiture | G15: 588-AHF-83 | I15: =$E15-$D15 -> 4 | J15: =_xlfn.XLOOKUP($C15,villes[nom_commune],villes[distance_paris_km],,0)*2 -> 787.95589 | K15: =_xlfn.XLOOKUP(_xlfn.XLOOKUP($C15,villes[nom_commune],villes[Population],0,0),Seuil_population,Nuitées,0,1)*I15 -> 800 | L15: =VLOOKUP(A15,Employes,8,FALSE)*I15 -> 436.2 | M15: =K15+L15+IF(F15="voiture",J15*PrixKM,H15) -> 2615.1228 | N15: =IF(F15<>"voiture",_xlfn.XLOOKUP(F15,ModesTransp,EmissionCO2Moy,,0),_xlfn.XLOOKUP(G15,voitures_disponibles!$L:$L,voitures_disponibles!$K:$K,,0))/1000*J15 -> 86.675148 | O15: =VLOOKUP($B15,Projets,2,FALSE) -> Optimus | P15: =VLOOKUP($B15,Projets,3,FALSE) -> finance | Q15: =_xlfn.XLOOKUP($A15,Matr_Employes,Employés!B:B,,0) -> Michèle de la Bonneau | R15: =_xlfn.XLOOKUP($A15,Matr_Employes,Employés!D:D,,0) -> 41 | S15: =_xlfn.XLOOKUP($A15,Matr_Employes,Employés!F:F,,0) -> 2 | T15: =_xlfn.XLOOKUP($A15,Matr_Employes,Employés!G:G,,0) -> senior
A16: 3751 | B16: 2042 | C16: Antibes | D16: 46080 | E16: 46087 | F16: avion | H16: 257 | I16: =$E16-$D16 -> 7 | J16: =_xlfn.XLOOKUP($C16,villes[nom_commune],villes[distance_paris_km],,0)*2 -> 1383.9079 | K16: =_xlfn.XLOOKUP(_xlfn.XLOOKUP($C16,villes[nom_commune],villes[Population],0,0),Seuil_population,Nuitées,0,1)*I16 -> 350 | L16: =VLOOKUP(A16,Employes,8,FALSE)*I16 -> 763.35 | M16: =K16+L16+IF(F16="voiture",J16*PrixKM,H16) -> 1370.35 | N16: =IF(F16<>"voiture",_xlfn.XLOOKUP(F16,ModesTransp,EmissionCO2Moy,,0),_xlfn.XLOOKUP(G16,voitures_disponibles!$L:$L,voitures_disponibles!$K:$K,,0))/1000*J16 -> 138.39079 | O16: =VLOOKUP($B16,Projets,2,FALSE) -> Optimus | P16: =VLOOKUP($B16,Projets,3,FALSE) -> finance | Q16: =_xlfn.XLOOKUP($A16,Matr_Employes,Employés!B:B,,0) -> Michèle de la Bonneau | R16: =_xlfn.XLOOKUP($A16,Matr_Employes,Employés!D:D,,0) -> 41 | S16: =_xlfn.XLOOKUP($A16,Matr_Employes,Employés!F:F,,0) -> 2 | T16: =_xlfn.XLOOKUP($A16,Matr_Employes,Employés!G:G,,0) -> senior
A17: 6763 | B17: 1019 | C17: Strasbourg | D17: 46088 | E17: 46092 | F17: voiture | G17: 588-AHF-83 | I17: =$E17-$D17 -> 4 | J17: =_xlfn.XLOOKUP($C17,villes[nom_commune],villes[distance_paris_km],,0)*2 -> 801.77006 | K17: =_xlfn.XLOOKUP(_xlfn.XLOOKUP($C17,villes[nom_commune],villes[Population],0,0),Seuil_population,Nuitées,0,1)*I17 -> 400 | L17: =VLOOKUP(A17,Employes,8,FALSE)*I17 -> 240.2 | M17: =K17+L17+IF(F17="voiture",J17*PrixKM,H17) -> 2043.2976 | N17: =IF(F17<>"voiture",_xlfn.XLOOKUP(F17,ModesTransp,EmissionCO2Moy,,0),_xlfn.XLOOKUP(G17,voitures_disponibles!$L:$L,voitures_disponibles!$K:$K,,0))/1000*J17 -> 88.194706 | O17: =VLOOKUP($B17,Projets,2,FALSE) -> ARGO | P17: =VLOOKUP($B17,Projets,3,FALSE) -> logistique | Q17: =_xlfn.XLOOKUP($A17,Matr_Employes,Employés!B:B,,0) -> Édith Michaud | R17: =_xlfn.XLOOKUP($A17,Matr_Employes,Employés!D:D,,0) -> 29 | S17: =_xlfn.XLOOKUP($A17,Matr_Employes,Employés!F:F,,0) -> 3 | T17: =_xlfn.XLOOKUP($A17,Matr_Employes,Employés!G:G,,0) -> junior
A18: 4029 | B18: 9247 | C18: Fontenay-sous-Bois | D18: 46097 | E18: 46104 | F18: train | H18: 5 | I18: =$E18-$D18 -> 7 | J18: =_xlfn.XLOOKUP($C18,villes[nom_commune],villes[distance_paris_km],,0)*2 -> 20.3654 | K18: =_xlfn.XLOOKUP(_xlfn.XLOOKUP($C18,villes[nom_commune],villes[Population],0,0),Seuil_population,Nuitées,0,1)*I18 -> 350 | L18: =VLOOKUP(A18,Employes,8,FALSE)*I18 -> 404.74 | M18: =K18+L18+IF(F18="voiture",J18*PrixKM,H18) -> 759.74 | N18: =IF(F18<>"voiture",_xlfn.XLOOKUP(F18,ModesTransp,EmissionCO2Moy,,0),_xlfn.XLOOKUP(G18,voitures_disponibles!$L:$L,voitures_disponibles!$K:$K,,0))/1000*J18 -> 0.0407308 | O18: =VLOOKUP($B18,Projets,2,FALSE) -> E30 | P18: =VLOOKUP($B18,Projets,3,FALSE) -> ERP | Q18: =_xlfn.XLOOKUP($A18,Matr_Employes,Employés!B:B,,0) -> Philippe Jacquet | R18: =_xlfn.XLOOKUP($A18,Matr_Employes,Employés!D:D,,0) -> 26 | S18: =_xlfn.XLOOKUP($A18,Matr_Employes,Employés!F:F,,0) -> 3 | T18: =_xlfn.XLOOKUP($A18,Matr_Employes,Employés!G:G,,0) -> junior
A19: 9564 | B19: 8519 | C19: Avignon | D19: 46099 | E19: 46101 | F19: train | H19: 124 | I19: =$E19-$D19 -> 2 | J19: =_xlfn.XLOOKUP($C19,villes[nom_commune],villes[distance_paris_km],,0)*2 -> 1161.0252 | K19: =_xlfn.XLOOKUP(_xlfn.XLOOKUP($C19,villes[nom_commune],villes[Population],0,0),Seuil_population,Nuitées,0,1)*I19 -> 150 | L19: =VLOOKUP(A19,Employes,8,FALSE)*I19 -> 280.58 | M19: =K19+L19+IF(F19="voiture",J19*PrixKM,H19) -> 554.58 | N19: =IF(F19<>"voiture",_xlfn.XLOOKUP(F19,ModesTransp,EmissionCO2Moy,,0),_xlfn.XLOOKUP(G19,voitures_disponibles!$L:$L,voitures_disponibles!$K:$K,,0))/1000*J19 -> 2.3220504 | O19: =VLOOKUP($B19,Projets,2,FALSE) -> Infra2 | P19: =VLOOKUP($B19,Projets,3,FALSE) -> data science | Q19: =_xlfn.XLOOKUP($A19,Matr_Employes,Employés!B:B,,0) -> Robert Grégoire-Masse | R19: =_xlfn.XLOOKUP($A19,Matr_Employes,Employés!D:D,,0) -> 41 | S19: =_xlfn.XLOOKUP($A19,Matr_Employes,Employés!F:F,,0) -> 2 | T19: =_xlfn.XLOOKUP($A19,Matr_Employes,Employés!G:G,,0) -> senior
A20: 2901 | B20: 7236 | C20: Fontenay-sous-Bois | D20: 46119 | E20: 46126 | F20: voiture | G20: 006-BJC-20 | I20: =$E20-$D20 -> 7 | J20: =_xlfn.XLOOKUP($C20,villes[nom_commune],villes[distance_paris_km],,0)*2 -> 20.3654 | K20: =_xlfn.XLOOKUP(_xlfn.XLOOKUP($C20,villes[nom_commune],villes[Population],0,0),Seuil_population,Nuitées,0,1)*I20 -> 350 | L20: =VLOOKUP(A20,Employes,8,FALSE)*I20 -> 980.21 | M20: =K20+L20+IF(F20="voiture",J20*PrixKM,H20) -> 1365.8494 | N20: =IF(F20<>"voiture",_xlfn.XLOOKUP(F20,ModesTransp,EmissionCO2Moy,,0),_xlfn.XLOOKUP(G20,voitures_disponibles!$L:$L,voitures_disponibles!$K:$K,,0))/1000*J20 -> 2.0976362 | O20: =VLOOKUP($B20,Projets,2,FALSE) -> Alpha | P20: =VLOOKUP($B20,Projets,3,FALSE) -> CRM | Q20: =_xlfn.XLOOKUP($A20,Matr_Employes,Employés!B:B,,0) -> Antoinette Gomez | R20: =_xlfn.XLOOKUP($A20,Matr_Employes,Employés!D:D,,0) -> 36 | S20: =_xlfn.XLOOKUP($A20,Matr_Employes,Employés!F:F,,0) -> 5 | T20: =_xlfn.XLOOKUP($A20,Matr_Employes,Employés!G:G,,0) -> senior
A21: 9958 | B21: 8519 | C21: Aix-en-Provence | D21: 46121 | E21: 46127 | F21: train | H21: 108 | I21: =$E21-$D21 -> 6 | J21: =_xlfn.XLOOKUP($C21,villes[nom_commune],villes[distance_paris_km],,0)*2 -> 1274.7395 | K21: =_xlfn.XLOOKUP(_xlfn.XLOOKUP($C21,villes[nom_commune],villes[Population],0,0),Seuil_population,Nuitées,0,1)*I21 -> 450 | L21: =VLOOKUP(A21,Employes,8,FALSE)*I21 -> 335.22 | M21: =K21+L21+IF(F21="voiture",J21*PrixKM,H21) -> 893.22 | N21: =IF(F21<>"voiture",_xlfn.XLOOKUP(F21,ModesTransp,EmissionCO2Moy,,0),_xlfn.XLOOKUP(G21,voitures_disponibles!$L:$L,voitures_disponibles!$K:$K,,0))/1000*J21 -> 2.5494791 | O21: =VLOOKUP($B21,Projets,2,FALSE) -> Infra2 | P21: =VLOOKUP($B21,Projets,3,FALSE) -> data science | Q21: =_xlfn.XLOOKUP($A21,Matr_Employes,Employés!B:B,,0) -> Valérie Le Gall | R21: =_xlfn.XLOOKUP($A21,Matr_Employes,Employés!D:D,,0) -> 25 | S21: =_xlfn.XLOOKUP($A21,Matr_Employes,Employés!F:F,,0) -> 2 | T21: =_xlfn.XLOOKUP($A21,Matr_Employes,Employés!G:G,,0) -> junior
A22: 4029 | B22: 9247 | C22: Angers | D22: 46127 | E22: 46131 | F22: train | H22: 47 | I22: =$E22-$D22 -> 4 | J22: =_xlfn.XLOOKUP($C22,villes[nom_commune],villes[distance_paris_km],,0)*2 -> 529.1982 | K22: =_xlfn.XLOOKUP(_xlfn.XLOOKUP($C22,villes[nom_commune],villes[Population],0,0),Seuil_population,Nuitées,0,1)*I22 -> 400 | L22: =VLOOKUP(A22,Employes,8,FALSE)*I22 -> 231.28 | M22: =K22+L22+IF(F22="voiture",J22*PrixKM,H22) -> 678.28 | N22: =IF(F22<>"voiture",_xlfn.XLOOKUP(F22,ModesTransp,EmissionCO2Moy,,0),_xlfn.XLOOKUP(G22,voitures_disponibles!$L:$L,voitures_disponibles!$K:$K,,0))/1000*J22 -> 1.0583964 | O22: =VLOOKUP($B22,Projets,2,FALSE) -> E30 | P22: =VLOOKUP($B22,Projets,3,FALSE) -> ERP | Q22: =_xlfn.XLOOKUP($A22,Matr_Employes,Employés!B:B,,0) -> Philippe Jacquet | R22: =_xlfn.XLOOKUP($A22,Matr_Employes,Employés!D:D,,0) -> 26 | S22: =_xlfn.XLOOKUP($A22,Matr_Employes,Employés!F:F,,0) -> 3 | T22: =_xlfn.XLOOKUP($A22,Matr_Employes,Employés!G:G,,0) -> junior
A23: 7152 | B23: 9474 | C23: Pessac | D23: 46151 | E23: 46160 | F23: avion | H23: 244 | I23: =$E23-$D23 -> 9 | J23: =_xlfn.XLOOKUP($C23,villes[nom_commune],villes[distance_paris_km],,0)*2 -> 1014.9856 | K23: =_xlfn.XLOOKUP(_xlfn.XLOOKUP($C23,villes[nom_commune],villes[Population],0,0),Seuil_population,Nuitées,0,1)*I23 -> 450 | L23: =VLOOKUP(A23,Employes,8,FALSE)*I23 -> 597.6 | M23: =K23+L23+IF(F23="voiture",J23*PrixKM,H23) -> 1291.6 | N23: =IF(F23<>"voiture",_xlfn.XLOOKUP(F23,ModesTransp,EmissionCO2Moy,,0),_xlfn.XLOOKUP(G23,voitures_disponibles!$L:$L,voitures_disponibles!$K:$K,,0))/1000*J23 -> 101.49856 | O23: =VLOOKUP($B23,Projets,2,FALSE) -> NextGen | P23: =VLOOKUP($B23,Projets,3,FALSE) -> transformation digitale | Q23: =_xlfn.XLOOKUP($A23,Matr_Employes,Employés!B:B,,0) -> Agnès-Julie Lopes | R23: =_xlfn.XLOOKUP($A23,Matr_Employes,Employés!D:D,,0) -> 29 | S23: =_xlfn.XLOOKUP($A23,Matr_Employes,Employés!F:F,,0) -> 1 | T23: =_xlfn.XLOOKUP($A23,Matr_Employes,Employés!G:G,,0) -> junior
A24: 6763 | B24: 1019 | C24: Rennes | D24: 46169 | E24: 46171 | F24: voiture | G24: 588-AHF-83 | I24: =$E24-$D24 -> 2 | J24: =_xlfn.XLOOKUP($C24,villes[nom_commune],villes[distance_paris_km],,0)*2 -> 616.9704 | K24: =_xlfn.XLOOKUP(_xlfn.XLOOKUP($C24,villes[nom_commune],villes[Population],0,0),Seuil_population,Nuitées,0,1)*I24 -> 200 | L24: =VLOOKUP(A24,Employes,8,FALSE)*I24 -> 120.1 | M24: =K24+L24+IF(F24="voiture",J24*PrixKM,H24) -> 1399.7982 | N24: =IF(F24<>"voiture",_xlfn.XLOOKUP(F24,ModesTransp,EmissionCO2Moy,,0),_xlfn.XLOOKUP(G24,voitures_disponibles!$L:$L,voitures_disponibles!$K:$K,,0))/1000*J24 -> 67.866744 | O24: =VLOOKUP($B24,Projets,2,FALSE) -> ARGO | P24: =VLOOKUP($B24,Projets,3,FALSE) -> logistique | Q24: =_xlfn.XLOOKUP($A24,Matr_Employes,Employés!B:B,,0) -> Édith Michaud | R24: =_xlfn.XLOOKUP($A24,Matr_Employes,Employés!D:D,,0) -> 29 | S24: =_xlfn.XLOOKUP($A24,Matr_Employes,Employés!F:F,,0) -> 3 | T24: =_xlfn.XLOOKUP($A24,Matr_Employes,Employés!G:G,,0) -> junior
A25: 9393 | B25: 1934 | C25: Pessac | D25: 46183 | E25: 46187 | F25: voiture | G25: 542-YQB-50 | I25: =$E25-$D25 -> 4 | J25: =_xlfn.XLOOKUP($C25,villes[nom_commune],villes[distance_paris_km],,0)*2 -> 1014.9856 | K25: =_xlfn.XLOOKUP(_xlfn.XLOOKUP($C25,villes[nom_commune],villes[Population],0,0),Seuil_population,Nuitées,0,1)*I25 -> 200 | L25: =VLOOKUP(A25,Employes,8,FALSE)*I25 -> 268.32 | M25: =K25+L25+IF(F25="voiture",J25*PrixKM,H25) -> 2244.5448 | N25: =IF(F25<>"voiture",_xlfn.XLOOKUP(F25,ModesTransp,EmissionCO2Moy,,0),_xlfn.XLOOKUP(G25,voitures_disponibles!$L:$L,voitures_disponibles!$K:$K,,0))/1000*J25 -> 240.55159 | O25: =VLOOKUP($B25,Projets,2,FALSE) -> Gamma | P25: =VLOOKUP($B25,Projets,3,FALSE) -> data science | Q25: =_xlfn.XLOOKUP($A25,Matr_Employes,Employés!B:B,,0) -> Céline Marques | R25: =_xlfn.XLOOKUP($A25,Matr_Employes,Employés!D:D,,0) -> 28 | S25: =_xlfn.XLOOKUP($A25,Matr_Employes,Employés!F:F,,0) -> 1 | T25: =_xlfn.XLOOKUP($A25,Matr_Employes,Employés!G:G,,0) -> junior
A26: 9958 | B26: 8519 | C26: Beauvais | D26: 46211 | E26: 46214 | F26: voiture | G26: 588-AHF-83 | I26: =$E26-$D26 -> 3 | J26: =_xlfn.XLOOKUP($C26,villes[nom_commune],villes[distance_paris_km],,0)*2 -> 132.76894 | K26: =_xlfn.XLOOKUP(_xlfn.XLOOKUP($C26,villes[nom_commune],villes[Population],0,0),Seuil_population,Nuitées,0,1)*I26 -> 150 | L26: =VLOOKUP(A26,Employes,8,FALSE)*I26 -> 167.61 | M26: =K26+L26+IF(F26="voiture",J26*PrixKM,H26) -> 549.95564 | N26: =IF(F26<>"voiture",_xlfn.XLOOKUP(F26,ModesTransp,EmissionCO2Moy,,0),_xlfn.XLOOKUP(G26,voitures_disponibles!$L:$L,voitures_disponibles!$K:$K,,0))/1000*J26 -> 14.604583 | O26: =VLOOKUP($B26,Projets,2,FALSE) -> Infra2 | P26: =VLOOKUP($B26,Projets,3,FALSE) -> data science | Q26: =_xlfn.XLOOKUP($A26,Matr_Employes,Employés!B:B,,0) -> Valérie Le Gall | R26: =_xlfn.XLOOKUP($A26,Matr_Employes,Employés!D:D,,0) -> 25 | S26: =_xlfn.XLOOKUP($A26,Matr_Employes,Employés!F:F,,0) -> 2 | T26: =_xlfn.XLOOKUP($A26,Matr_Employes,Employés!G:G,,0) -> junior
A27: 7178 | B27: 1171 | C27: Montauban | D27: 46214 | E27: 46218 | F27: voiture | G27: QF-109-TX | I27: =$E27-$D27 -> 4 | J27: =_xlfn.XLOOKUP($C27,villes[nom_commune],villes[distance_paris_km],,0)*2 -> 1086.4076 | K27: =_xlfn.XLOOKUP(_xlfn.XLOOKUP($C27,villes[nom_commune],villes[Population],0,0),Seuil_population,Nuitées,0,1)*I27 -> 200 | L27: =VLOOKUP(A27,Employes,8,FALSE)*I27 -> 372.24 | M27: =K27+L27+IF(F27="voiture",J27*PrixKM,H27) -> 2473.4532 | N27: =IF(F27<>"voiture",_xlfn.XLOOKUP(F27,ModesTransp,EmissionCO2Moy,,0),_xlfn.XLOOKUP(G27,voitures_disponibles!$L:$L,voitures_disponibles!$K:$K,,0))/1000*J27 -> 168.39317 | O27: =VLOOKUP($B27,Projets,2,FALSE) -> CLAIREIndigo | P27: =VLOOKUP($B27,Projets,3,FALSE) -> finance | Q27: =_xlfn.XLOOKUP($A27,Matr_Employes,Employés!B:B,,0) -> Océane Petitjean-Delaunay | R27: =_xlfn.XLOOKUP($A27,Matr_Employes,Employés!D:D,,0) -> 32 | S27: =_xlfn.XLOOKUP($A27,Matr_Employes,Employés!F:F,,0) -> 4 | T27: =_xlfn.XLOOKUP($A27,Matr_Employes,Employés!G:G,,0) -> junior
A28: 9958 | B28: 8519 | C28: Montreuil | D28: 46216 | E28: 46219 | F28: train | H28: 5 | I28: =$E28-$D28 -> 3 | J28: =_xlfn.XLOOKUP($C28,villes[nom_commune],villes[distance_paris_km],,0)*2 -> 16.416835 | K28: =_xlfn.XLOOKUP(_xlfn.XLOOKUP($C28,villes[nom_commune],villes[Population],0,0),Seuil_population,Nuitées,0,1)*I28 -> 225 | L28: =VLOOKUP(A28,Employes,8,FALSE)*I28 -> 167.61 | M28: =K28+L28+IF(F28="voiture",J28*PrixKM,H28) -> 397.61 | N28: =IF(F28<>"voiture",_xlfn.XLOOKUP(F28,ModesTransp,EmissionCO2Moy,,0),_xlfn.XLOOKUP(G28,voitures_disponibles!$L:$L,voitures_disponibles!$K:$K,,0))/1000*J28 -> 0.03283367 | O28: =VLOOKUP($B28,Projets,2,FALSE) -> Infra2 | P28: =VLOOKUP($B28,Projets,3,FALSE) -> data science | Q28: =_xlfn.XLOOKUP($A28,Matr_Employes,Employés!B:B,,0) -> Valérie Le Gall | R28: =_xlfn.XLOOKUP($A28,Matr_Employes,Employés!D:D,,0) -> 25 | S28: =_xlfn.XLOOKUP($A28,Matr_Employes,Employés!F:F,,0) -> 2 | T28: =_xlfn.XLOOKUP($A28,Matr_Employes,Employés!G:G,,0) -> junior
A29: 9790 | B29: 9425 | C29: Nancy | D29: 46222 | E29: 46227 | F29: avion | H29: 359 | I29: =$E29-$D29 -> 5 | J29: =_xlfn.XLOOKUP($C29,villes[nom_commune],villes[distance_paris_km],,0)*2 -> 565.65079 | K29: =_xlfn.XLOOKUP(_xlfn.XLOOKUP($C29,villes[nom_commune],villes[Population],0,0),Seuil_population,Nuitées,0,1)*I29 -> 375 | L29: =VLOOKUP(A29,Employes,8,FALSE)*I29 -> 378.5 | M29: =K29+L29+IF(F29="voiture",J29*PrixKM,H29) -> 1112.5 | N29: =IF(F29<>"voiture",_xlfn.XLOOKUP(F29,ModesTransp,EmissionCO2Moy,,0),_xlfn.XLOOKUP(G29,voitures_disponibles!$L:$L,voitures_disponibles!$K:$K,,0))/1000*J29 -> 56.565079 | O29: =VLOOKUP($B29,Projets,2,FALSE) -> Next | P29: =VLOOKUP($B29,Projets,3,FALSE) -> comptabilité | Q29: =_xlfn.XLOOKUP($A29,Matr_Employes,Employés!B:B,,0) -> Gérard Chrétien du Pelletier | R29: =_xlfn.XLOOKUP($A29,Matr_Employes,Employés!D:D,,0) -> 26 | S29: =_xlfn.XLOOKUP($A29,Matr_Employes,Employés!F:F,,0) -> 0 | T29: =_xlfn.XLOOKUP($A29,Matr_Employes,Employés!G:G,,0) -> junior
A30: 4029 | B30: 9247 | C30: Neuilly-sur-Seine | D30: 46227 | E30: 46234 | F30: train | H30: 5 | I30: =$E30-$D30 -> 7 | J30: =_xlfn.XLOOKUP($C30,villes[nom_commune],villes[distance_paris_km],,0)*2 -> 11.430454 | K30: =_xlfn.XLOOKUP(_xlfn.XLOOKUP($C30,villes[nom_commune],villes[Population],0,0),Seuil_population,Nuitées,0,1)*I30 -> 350 | L30: =VLOOKUP(A30,Employes,8,FALSE)*I30 -> 404.74 | M30: =K30+L30+IF(F30="voiture",J30*PrixKM,H30) -> 759.74 | N30: =IF(F30<>"voiture",_xlfn.XLOOKUP(F30,ModesTransp,EmissionCO2Moy,,0),_xlfn.XLOOKUP(G30,voitures_disponibles!$L:$L,voitures_disponibles!$K:$K,,0))/1000*J30 -> 0.022860908 | O30: =VLOOKUP($B30,Projets,2,FALSE) -> E30 | P30: =VLOOKUP($B30,Projets,3,FALSE) -> ERP | Q30: =_xlfn.XLOOKUP($A30,Matr_Employes,Employés!B:B,,0) -> Philippe Jacquet | R30: =_xlfn.XLOOKUP($A30,Matr_Employes,Employés!D:D,,0) -> 26 | S30: =_xlfn.XLOOKUP($A30,Matr_Employes,Employés!F:F,,0) -> 3 | T30: =_xlfn.XLOOKUP($A30,Matr_Employes,Employés!G:G,,0) -> junior
A31: 9564 | B31: 8519 | C31: La Seyne-sur-Mer | D31: 46227 | E31: 46233 | F31: voiture | G31: 588-AHF-83 | I31: =$E31-$D31 -> 6 | J31: =_xlfn.XLOOKUP($C31,villes[nom_commune],villes[distance_paris_km],,0)*2 -> 1395.3169 | K31: =_xlfn.XLOOKUP(_xlfn.XLOOKUP($C31,villes[nom_commune],villes[Population],0,0),Seuil_population,Nuitées,0,1)*I31 -> 300 | L31: =VLOOKUP(A31,Employes,8,FALSE)*I31 -> 841.74 | M31: =K31+L31+IF(F31="voiture",J31*PrixKM,H31) -> 3583.5446 | N31: =IF(F31<>"voiture",_xlfn.XLOOKUP(F31,ModesTransp,EmissionCO2Moy,,0),_xlfn.XLOOKUP(G31,voitures_disponibles!$L:$L,voitures_disponibles!$K:$K,,0))/1000*J31 -> 153.48486 | O31: =VLOOKUP($B31,Projets,2,FALSE) -> Infra2 | P31: =VLOOKUP($B31,Projets,3,FALSE) -> data science | Q31: =_xlfn.XLOOKUP($A31,Matr_Employes,Employés!B:B,,0) -> Robert Grégoire-Masse | R31: =_xlfn.XLOOKUP($A31,Matr_Employes,Employés!D:D,,0) -> 41 | S31: =_xlfn.XLOOKUP($A31,Matr_Employes,Employés!F:F,,0) -> 2 | T31: =_xlfn.XLOOKUP($A31,Matr_Employes,Employés!G:G,,0) -> senior
A32: 9393 | B32: 1934 | C32: Ivry-sur-Seine | D32: 46230 | E32: 46235 | F32: voiture | G32: 765-JSQ-81 | I32: =$E32-$D32 -> 5 | J32: =_xlfn.XLOOKUP($C32,villes[nom_commune],villes[distance_paris_km],,0)*2 -> 13.414251 | K32: =_xlfn.XLOOKUP(_xlfn.XLOOKUP($C32,villes[nom_commune],villes[Population],0,0),Seuil_population,Nuitées,0,1)*I32 -> 250 | L32: =VLOOKUP(A32,Employes,8,FALSE)*I32 -> 335.4 | M32: =K32+L32+IF(F32="voiture",J32*PrixKM,H32) -> 608.87494 | N32: =IF(F32<>"voiture",_xlfn.XLOOKUP(F32,ModesTransp,EmissionCO2Moy,,0),_xlfn.XLOOKUP(G32,voitures_disponibles!$L:$L,voitures_disponibles!$K:$K,,0))/1000*J32 -> 3.9706184 | O32: =VLOOKUP($B32,Projets,2,FALSE) -> Gamma | P32: =VLOOKUP($B32,Projets,3,FALSE) -> data science | Q32: =_xlfn.XLOOKUP($A32,Matr_Employes,Employés!B:B,,0) -> Céline Marques | R32: =_xlfn.XLOOKUP($A32,Matr_Employes,Employés!D:D,,0) -> 28 | S32: =_xlfn.XLOOKUP($A32,Matr_Employes,Employés!F:F,,0) -> 1 | T32: =_xlfn.XLOOKUP($A32,Matr_Employes,Employés!G:G,,0) -> junior
A33: 9393 | B33: 1934 | C33: Metz | D33: 46241 | E33: 46249 | F33: avion | H33: 299 | I33: =$E33-$D33 -> 8 | J33: =_xlfn.XLOOKUP($C33,villes[nom_commune],villes[distance_paris_km],,0)*2 -> 567.50878 | K33: =_xlfn.XLOOKUP(_xlfn.XLOOKUP($C33,villes[nom_commune],villes[Population],0,0),Seuil_population,Nuitées,0,1)*I33 -> 600 | L33: =VLOOKUP(A33,Employes,8,FALSE)*I33 -> 536.64 | M33: =K33+L33+IF(F33="voiture",J33*PrixKM,H33) -> 1435.64 | N33: =IF(F33<>"voiture",_xlfn.XLOOKUP(F33,ModesTransp,EmissionCO2Moy,,0),_xlfn.XLOOKUP(G33,voitures_disponibles!$L:$L,voitures_disponibles!$K:$K,,0))/1000*J33 -> 56.750878 | O33: =VLOOKUP($B33,Projets,2,FALSE) -> Gamma | P33: =VLOOKUP($B33,Projets,3,FALSE) -> data science | Q33: =_xlfn.XLOOKUP($A33,Matr_Employes,Employés!B:B,,0) -> Céline Marques | R33: =_xlfn.XLOOKUP($A33,Matr_Employes,Employés!D:D,,0) -> 28 | S33: =_xlfn.XLOOKUP($A33,Matr_Employes,Employés!F:F,,0) -> 1 | T33: =_xlfn.XLOOKUP($A33,Matr_Employes,Employés!G:G,,0) -> junior
A34: 7152 | B34: 9474 | C34: Champigny-sur-Marne | D34: 46245 | E34: 46248 | F34: train | H34: 5 | I34: =$E34-$D34 -> 3 | J34: =_xlfn.XLOOKUP($C34,villes[nom_commune],villes[distance_paris_km],,0)*2 -> 28.398105 | K34: =_xlfn.XLOOKUP(_xlfn.XLOOKUP($C34,villes[nom_commune],villes[Population],0,0),Seuil_population,Nuitées,0,1)*I34 -> 150 | L34: =VLOOKUP(A34,Employes,8,FALSE)*I34 -> 199.2 | M34: =K34+L34+IF(F34="voiture",J34*PrixKM,H34) -> 354.2 | N34: =IF(F34<>"voiture",_xlfn.XLOOKUP(F34,ModesTransp,EmissionCO2Moy,,0),_xlfn.XLOOKUP(G34,voitures_disponibles!$L:$L,voitures_disponibles!$K:$K,,0))/1000*J34 -> 0.05679621 | O34: =VLOOKUP($B34,Projets,2,FALSE) -> NextGen | P34: =VLOOKUP($B34,Projets,3,FALSE) -> transformation digitale | Q34: =_xlfn.XLOOKUP($A34,Matr_Employes,Employés!B:B,,0) -> Agnès-Julie Lopes | R34: =_xlfn.XLOOKUP($A34,Matr_Employes,Employés!D:D,,0) -> 29 | S34: =_xlfn.XLOOKUP($A34,Matr_Employes,Employés!F:F,,0) -> 1 | T34: =_xlfn.XLOOKUP($A34,Matr_Employes,Employés!G:G,,0) -> junior
A35: 9790 | B35: 9425 | C35: Villeneuve-d'Ascq | D35: 46249 | E35: 46254 | F35: avion | H35: 663 | I35: =$E35-$D35 -> 5 | J35: =_xlfn.XLOOKUP($C35,villes[nom_commune],villes[distance_paris_km],,0)*2 -> 410.92881 | K35: =_xlfn.XLOOKUP(_xlfn.XLOOKUP($C35,villes[nom_commune],villes[Population],0,0),Seuil_population,Nuitées,0,1)*I35 -> 250 | L35: =VLOOKUP(A35,Employes,8,FALSE)*I35 -> 378.5 | M35: =K35+L35+IF(F35="voiture",J35*PrixKM,H35) -> 1291.5 | N35: =IF(F35<>"voiture",_xlfn.XLOOKUP(F35,ModesTransp,EmissionCO2Moy,,0),_xlfn.XLOOKUP(G35,voitures_disponibles!$L:$L,voitures_disponibles!$K:$K,,0))/1000*J35 -> 41.092881 | O35: =VLOOKUP($B35,Projets,2,FALSE) -> Next | P35: =VLOOKUP($B35,Projets,3,FALSE) -> comptabilité | Q35: =_xlfn.XLOOKUP($A35,Matr_Employes,Employés!B:B,,0) -> Gérard Chrétien du Pelletier | R35: =_xlfn.XLOOKUP($A35,Matr_Employes,Employés!D:D,,0) -> 26 | S35: =_xlfn.XLOOKUP($A35,Matr_Employes,Employés!F:F,,0) -> 0 | T35: =_xlfn.XLOOKUP($A35,Matr_Employes,Employés!G:G,,0) -> junior
A36: 7152 | B36: 9474 | C36: Tours | D36: 46250 | E36: 46254 | F36: voiture | G36: QF-109-TX | I36: =$E36-$D36 -> 4 | J36: =_xlfn.XLOOKUP($C36,villes[nom_commune],villes[distance_paris_km],,0)*2 -> 406.90585 | K36: =_xlfn.XLOOKUP(_xlfn.XLOOKUP($C36,villes[nom_commune],villes[Population],0,0),Seuil_population,Nuitées,0,1)*I36 -> 300 | L36: =VLOOKUP(A36,Employes,8,FALSE)*I36 -> 265.6 | M36: =K36+L36+IF(F36="voiture",J36*PrixKM,H36) -> 1277.6852 | N36: =IF(F36<>"voiture",_xlfn.XLOOKUP(F36,ModesTransp,EmissionCO2Moy,,0),_xlfn.XLOOKUP(G36,voitures_disponibles!$L:$L,voitures_disponibles!$K:$K,,0))/1000*J36 -> 63.070406 | O36: =VLOOKUP($B36,Projets,2,FALSE) -> NextGen | P36: =VLOOKUP($B36,Projets,3,FALSE) -> transformation digitale | Q36: =_xlfn.XLOOKUP($A36,Matr_Employes,Employés!B:B,,0) -> Agnès-Julie Lopes | R36: =_xlfn.XLOOKUP($A36,Matr_Employes,Employés!D:D,,0) -> 29 | S36: =_xlfn.XLOOKUP($A36,Matr_Employes,Employés!F:F,,0) -> 1 | T36: =_xlfn.XLOOKUP($A36,Matr_Employes,Employés!G:G,,0) -> junior
A37: 9393 | B37: 1934 | C37: Toulouse | D37: 46254 | E37: 46256 | F37: train | H37: 276 | I37: =$E37-$D37 -> 2 | J37: =_xlfn.XLOOKUP($C37,villes[nom_commune],villes[distance_paris_km],,0)*2 -> 1179.0129 | K37: =_xlfn.XLOOKUP(_xlfn.XLOOKUP($C37,villes[nom_commune],villes[Population],0,0),Seuil_population,Nuitées,0,1)*I37 -> 300 | L37: =VLOOKUP(A37,Employes,8,FALSE)*I37 -> 134.16 | M37: =K37+L37+IF(F37="voiture",J37*PrixKM,H37) -> 710.16 | N37: =IF(F37<>"voiture",_xlfn.XLOOKUP(F37,ModesTransp,EmissionCO2Moy,,0),_xlfn.XLOOKUP(G37,voitures_disponibles!$L:$L,voitures_disponibles!$K:$K,,0))/1000*J37 -> 2.3580259 | O37: =VLOOKUP($B37,Projets,2,FALSE) -> Gamma | P37: =VLOOKUP($B37,Projets,3,FALSE) -> data science | Q37: =_xlfn.XLOOKUP($A37,Matr_Employes,Employés!B:B,,0) -> Céline Marques | R37: =_xlfn.XLOOKUP($A37,Matr_Employes,Employés!D:D,,0) -> 28 | S37: =_xlfn.XLOOKUP($A37,Matr_Employes,Employés!F:F,,0) -> 1 | T37: =_xlfn.XLOOKUP($A37,Matr_Employes,Employés!G:G,,0) -> junior
A38: 9564 | B38: 8519 | C38: Vannes | D38: 46258 | E38: 46262 | F38: voiture | G38: 542-YQB-50 | I38: =$E38-$D38 -> 4 | J38: =_xlfn.XLOOKUP($C38,villes[nom_commune],villes[distance_paris_km],,0)*2 -> 802.07384 | K38: =_xlfn.XLOOKUP(_xlfn.XLOOKUP($C38,villes[nom_commune],villes[Population],0,0),Seuil_population,Nuitées,0,1)*I38 -> 200 | L38: =VLOOKUP(A38,Employes,8,FALSE)*I38 -> 561.16 | M38: =K38+L38+IF(F38="voiture",J38*PrixKM,H38) -> 2164.7892 | N38: =IF(F38<>"voiture",_xlfn.XLOOKUP(F38,ModesTransp,EmissionCO2Moy,,0),_xlfn.XLOOKUP(G38,voitures_disponibles!$L:$L,voitures_disponibles!$K:$K,,0))/1000*J38 -> 190.0915 | O38: =VLOOKUP($B38,Projets,2,FALSE) -> Infra2 | P38: =VLOOKUP($B38,Projets,3,FALSE) -> data science | Q38: =_xlfn.XLOOKUP($A38,Matr_Employes,Employés!B:B,,0) -> Robert Grégoire-Masse | R38: =_xlfn.XLOOKUP($A38,Matr_Employes,Employés!D:D,,0) -> 41 | S38: =_xlfn.XLOOKUP($A38,Matr_Employes,Employés!F:F,,0) -> 2 | T38: =_xlfn.XLOOKUP($A38,Matr_Employes,Employés!G:G,,0) -> senior
A39: 9790 | B39: 9425 | C39: Montpellier | D39: 46258 | E39: 46263 | F39: voiture | G39: QQ-716-IN | I39: =$E39-$D39 -> 5 | J39: =_xlfn.XLOOKUP($C39,villes[nom_commune],villes[distance_paris_km],,0)*2 -> 1190.5827 | K39: =_xlfn.XLOOKUP(_xlfn.XLOOKUP($C39,villes[nom_commune],villes[Population],0,0),Seuil_population,Nuitées,0,1)*I39 -> 500 | L39: =VLOOKUP(A39,Employes,8,FALSE)*I39 -> 378.5 | M39: =K39+L39+IF(F39="voiture",J39*PrixKM,H39) -> 2962.0197 | N39: =IF(F39<>"voiture",_xlfn.XLOOKUP(F39,ModesTransp,EmissionCO2Moy,,0),_xlfn.XLOOKUP(G39,voitures_disponibles!$L:$L,voitures_disponibles!$K:$K,,0))/1000*J39 -> 194.06498 | O39: =VLOOKUP($B39,Projets,2,FALSE) -> Next | P39: =VLOOKUP($B39,Projets,3,FALSE) -> comptabilité | Q39: =_xlfn.XLOOKUP($A39,Matr_Employes,Employés!B:B,,0) -> Gérard Chrétien du Pelletier | R39: =_xlfn.XLOOKUP($A39,Matr_Employes,Employés!D:D,,0) -> 26 | S39: =_xlfn.XLOOKUP($A39,Matr_Employes,Employés!F:F,,0) -> 0 | T39: =_xlfn.XLOOKUP($A39,Matr_Employes,Employés!G:G,,0) -> junior
A40: 7152 | B40: 9474 | C40: Ajaccio | D40: 46259 | E40: 46263 | F40: avion | H40: 579 | I40: =$E40-$D40 -> 4 | J40: =_xlfn.XLOOKUP($C40,villes[nom_commune],villes[distance_paris_km],,0)*2 -> 1832.8525 | K40: =_xlfn.XLOOKUP(_xlfn.XLOOKUP($C40,villes[nom_commune],villes[Population],0,0),Seuil_population,Nuitées,0,1)*I40 -> 200 | L40: =VLOOKUP(A40,Employes,8,FALSE)*I40 -> 265.6 | M40: =K40+L40+IF(F40="voiture",J40*PrixKM,H40) -> 1044.6 | N40: =IF(F40<>"voiture",_xlfn.XLOOKUP(F40,ModesTransp,EmissionCO2Moy,,0),_xlfn.XLOOKUP(G40,voitures_disponibles!$L:$L,voitures_disponibles!$K:$K,,0))/1000*J40 -> 183.28525 | O40: =VLOOKUP($B40,Projets,2,FALSE) -> NextGen | P40: =VLOOKUP($B40,Projets,3,FALSE) -> transformation digitale | Q40: =_xlfn.XLOOKUP($A40,Matr_Employes,Employés!B:B,,0) -> Agnès-Julie Lopes | R40: =_xlfn.XLOOKUP($A40,Matr_Employes,Employés!D:D,,0) -> 29 | S40: =_xlfn.XLOOKUP($A40,Matr_Employes,Employés!F:F,,0) -> 1 | T40: =_xlfn.XLOOKUP($A40,Matr_Employes,Employés!G:G,,0) -> junior
...

Sheet Taux
A1: Seuil population | B1: Nuitée | F1: Taux émissions CO2 | H1: par personne | K1: Taux emission CO2 moyen
A2: 75000 | B2: 50 | F2: 2025-2026 | G2: 260 | H2: kg | K2: Avion | L2: 100 | M2: g/Km
A3: 150000 | B3: 75 | K3: Train | L3: 2 | M3: g/Km
A4: 300000 | B4: 100 | F4: KM roulé
A5: 500000 | B5: 150 | F5: 2025-2026 | G5: 1.75
A6: 1000000 | B6: 200

Sheet voitures_disponibles
A1: Make | B1: Model | C1: Vehicle Class | D1: Engine Size(L) | E1: Cylinders | F1: Transmission | G1: Fuel Consumption City (L/100 km) | H1: Fuel Consumption Hwy (L/100 km) | I1: Fuel Consumption Comb (L/100 km) | J1: Fuel Consumption Comb (mpg) | K1: CO2 Emissions(g/km) | L1: immatriculation
A2: HYUNDAI | B2: TUCSON | C2: SUV - SMALL | D2: 2 | E2: 4 | F2: A6 | G2: 10.2 | H2: 45696 | I2: 45725 | J2: 30 | K2: 214 | L2: TZ-811-YW
A3: MINI | B3: COOPER CLUBMAN | C3: SUBCOMPACT | D3: 1.6 | E3: 4 | F3: A6 | G3: 8.7 | H3: 45814 | I3: 45876 | J3: 36 | K3: 179 | L3: 881-PXG-62
A4: TOYOTA | B4: PRIUS | C4: MID-SIZE | D4: 1.8 | E4: 4 | F4: AV | G4: 4.7 | H4: 45904 | I4: 45873 | J4: 59 | K4: 110 | L4: 588-AHF-83
A5: TOYOTA | B5: YARIS | C5: COMPACT | D5: 1.5 | E5: 4 | F5: M5 | G5: 7.8 | H5: 45722 | I5: 45664 | J5: 40 | K5: 163 | L5: QQ-716-IN
A6: VOLKSWAGEN | B6: BEETLE TDI (modified) | C6: COMPACT | D6: 2 | E6: 4 | F6: A6 | G6: 8.4 | H6: 45905 | I6: 45754 | J6: 38 | K6: 200 | L6: 575-EXN-41
A7: VOLKSWAGEN | B7: TOUAREG | C7: SUV - STANDARD | D7: 3.6 | E7: 6 | F7: AS8 | G7: 14.4 | H7: 45757 | I7: 45820 | J7: 22 | K7: 296 | L7: 765-JSQ-81
A8: AUDI | B8: A6 QUATTRO | C8: MID-SIZE | D8: 2 | E8: 4 | F8: AS8 | G8: 12 | H8: 45665 | I8: 45726 | J8: 27 | K8: 237 | L8: 542-YQB-50
A9: AUDI | B9: Q5 HYBRID | C9: SUV - SMALL | D9: 2 | E9: 4 | F9: AS8 | G9: 9.8 | H9: 45907 | I9: 45908 | J9: 32 | K9: 205 | L9: 417-IHX-79
A10: HYUNDAI | B10: IONIQ | C10: FULL-SIZE | D10: 1.6 | E10: 4 | F10: AM6 | G10: 4.3 | H10: 45751 | I10: 45751 | J10: 64 | K10: 103 | L10: 006-BJC-20
A11: TOYOTA | B11: Yaris | C11: COMPACT | D11: 1.5 | E11: 4 | F11: AS6 | G11: 7.3 | H11: 45874 | I11: 45814 | J11: 43 | K11: 155 | L11: QF-109-TX

Sheet villes
A1: code_postal | B1: code_dep_insee | C1: nom_commune | D1: Population | E1: distance_paris_km
A2: 75001 | B2: 75 | C2: Paris | D2: 2141000 | E2: 0
A3: 13001 | B3: 13 | C3: Marseille | D3: 861635 | E3: 661.53607
A4: 69002 | B4: 69 | C4: Lyon | D4: 513275 | E4: 393.97795
A5: 31300 | B5: 31 | C5: Toulouse | D5: 390301 | E5: 589.50647
A6: 6200 | B6: 06 | C6: Nice | D6: 343123 | E6: 685.58587
A7: 44000 | B7: 44 | C7: Nantes | D7: 270343 | E7: 341.65367
A8: 67100 | B8: 67 | C8: Strasbourg | D8: 263941 | E8: 400.88503
A9: 34000 | B9: 34 | C9: Montpellier | D9: 225511 | E9: 595.29135
A10: 33000 | B10: 33 | C10: Bordeaux | D10: 215374 | E10: 497.4048
A11: 59160 | B11: 59 | C11: Lille | D11: 212566 | E11: 203.33536
A12: 35000 | B12: 35 | C12: Rennes | D12: 206194 | E12: 308.4852
A13: 76600 | B13: 76 | C13: Le Havre | D13: 190924 | E13: 175.02426
... A101: 90000 | B101: 90 | C101: Belfort | D101: 50406 | E101: 361.01002

Sheet TCD employes
B3: modes transport
B4: avion | D4: train | F4: voiture | H4: Total Nbr missions | I4: Total Moy KM
A5: Consultants | B5: Nbr missions | C5: Moy KM | D5: Nbr missions | E5: Moy KM | F5: Nbr missions | G5: Moy KM
A6: Agnès-Julie Lopes | B6: 2 | C6: 1423.9191 | D6: 2 | E6: 28.398105 | F6: 1 | G6: 406.90585 | H6: 5 | I6: 662.30804
A7: Antoinette Gomez | D7: 1 | E7: 1373.4564 | F7: 3 | G7: 463.9778 | H7: 4 | I7: 691.34746
A8: Céline Marques | B8: 1 | C8: 567.50878 | D8: 1 | E8: 1179.0129 | F8: 4 | G8: 369.12064 | H8: 6 | I8: 537.16738
A9: Édith Michaud | F9: 3 | G9: 477.3849 | H9: 3 | I9: 477.3849
A10: Gérard Chrétien du Pelletier | B10: 2 | C10: 488.2898 | D10: 1 | E10: 24.135524 | F10: 2 | G10: 1301.5435 | H10: 5 | I10: 720.76043
A11: Michèle de la Bonneau | B11: 2 | C11: 1383.9079 | F11: 3 | G11: 354.90076 | H11: 5 | I11: 766.50361
A12: Océane Petitjean-Delaunay | F12: 2 | G12: 807.38918 | H12: 2 | I12: 807.38918
A13: Philippe Jacquet | D13: 6 | E13: 268.80144 | F13: 1 | G13: 1371.1717 | H13: 7 | I13: 426.28291
A14: Robert Grégoire-Masse | D14: 1 | E14: 1161.0252 | F14: 3 | G14: 873.7793 | H14: 4 | I14: 945.59078
A15: Valérie Le Gall | D15: 4 | E15: 596.90923 | F15: 1 | G15: 132.76894 | H15: 5 | I15: 504.08117
A16: Total général | B16: 7 | C16: 1022.8203 | D16: 16 | E16: 487.1795 | F16: 23 | G16: 613.70968 | H16: 46 | I16: 631.95515
B25: Modes de transport
B26: avion | D26: train | F26: voiture | H26: Total % Nbr Mission | I26: Total % Somme CO2
A27: Consultant | B27: % Nbr Mission | C27: % Somme CO2 | D27: % Nbr Mission | E27: % Somme CO2 | F27: % Nbr Mission | G27: % Somme CO2
A28: Agnès-Julie Lopes | B28: 0.043478261 | C28: 0.091807873 | D28: 0.043478261 | E28: 3.6619632e-05 | F28: 0.02173913 | G28: 0.020332475 | H28: 0.10869565 | I28: 0.11217697
A29: Antoinette Gomez | B29: 0 | C29: 0 | D29: 0.02173913 | E29: 0.00088554272 | F29: 0.065217391 | G29: 0.1143498 | H29: 0.086956522 | I29: 0.11523535
A30: Céline Marques | B30: 0.02173913 | C30: 0.018295202 | D30: 0.02173913 | E30: 0.00076017432 | F30: 0.086956522 | G30: 0.10266196 | H30: 0.13043478 | I30: 0.12171734
A31: Édith Michaud | B31: 0 | C31: 0 | D31: 0 | E31: 0 | F31: 0.065217391 | G31: 0.051590727 | H31: 0.065217391 | I31: 0.051590727
A32: Gérard Chrétien du Pelletier | B32: 0.043478261 | C32: 0.031482722 | D32: 0.02173913 | E32: 1.5561497e-05 | F32: 0.043478261 | G32: 0.13314289 | H32: 0.10869565 | I32: 0.16464118
A33: Michèle de la Bonneau | B33: 0.043478261 | C33: 0.089228132 | D33: 0 | E33: 0 | F33: 0.065217391 | G33: 0.047131554 | H33: 0.10869565 | I33: 0.13635969
A34: Océane Petitjean-Delaunay | B34: 0 | C34: 0 | D34: 0 | E34: 0 | F34: 0.043478261 | G34: 0.073022988 | H34: 0.043478261 | I34: 0.073022988
A35: Philippe Jacquet | B35: 0 | C35: 0 | D35: 0.13043478 | E35: 0.0010398662 | F35: 0.02173913 | G35: 0.079124233 | H35: 0.15217391 | I35: 0.080164099
A36: Robert Grégoire-Masse | B36: 0 | C36: 0 | D36: 0.02173913 | E36: 0.00074857665 | F36: 0.065217391 | G36: 0.13809546 | H36: 0.086956522 | I36: 0.13884404
A37: Valérie Le Gall | B37: 0 | C37: 0 | D37: 0.086956522 | E37: 0.0015394405 | F37: 0.02173913 | G37: 0.004708188 | H37: 0.10869565 | I37: 0.0062476286
A38: Total général | B38: 0.15217391 | C38: 0.23081393 | D38: 0.34782609 | E38: 0.0050257816 | F38: 0.5 | G38: 0.76416029 | H38: 1 | I38: 1

Sheet TCD KMs
A3: Nombre de missions | B3: Modes de transport | I3: Moy Coût dépl | J3: Mode de transport
A4: Tranche de KM | B4: avion | C4: train | D4: voiture | E4: Total général | I4: Tranche KM | J4: avion | K4: train | L4: voiture | M4: Total général
A5: 5-25 | C5: 6 | D5: 5 | E5: 11 | I5: 5-25 | K5: 636.61167 | L5: 793.02236 | M5: 707.70744
A6: 25-45 | C6: 2 | E6: 2 | I6: 25-45 | K6: 354.2 | M6: 354.2
A7: 125-145 | D7: 1 | E7: 1 | I7: 125-145 | L7: 549.95564 | M7: 549.95564
A8: 245-265 | D8: 1 | E8: 1 | I8: 245-265 | L8: 879.50089 | M8: 879.50089
A9: 385-405 | C9: 1 | D9: 1 | E9: 2 | I9: 385-405 | K9: 1051.59 | L9: 1652.4384 | M9: 1352.0142
A10: 405-425 | B10: 1 | D10: 3 | E10: 4 | I10: 405-425 | J10: 1291.5 | L10: 1468.7568 | M10: 1424.4426
A11: 525-545 | C11: 1 | D11: 1 | E11: 2 | I11: 525-545 | K11: 678.28 | L11: 2276.0689 | M11: 1477.1744
A12: 565-585 | B12: 2 | E12: 2 | I12: 565-585 | J12: 1274.07 | M12: 1274.07
A13: 605-625 | D13: 1 | E13: 1 | I13: 605-625 | L13: 1399.7982 | M13: 1399.7982
A14: 685-705 | C14: 1 | E14: 1 | I14: 685-705 | K14: 601.81 | M14: 601.81
A15: 785-805 | D15: 3 | E15: 3 | I15: 785-805 | L15: 2274.4032 | M15: 2274.4032
A16: 965-985 | D16: 1 | E16: 1 | I16: 965-985 | L16: 2458.0756 | M16: 2458.0756
A17: >1005 | B17: 4 | C17: 5 | D17: 6 | E17: 15 | I17: >1005 | J17: 1356 | K17: 776.796 | L17: 3120.1726 | M17: 1868.601
A18: Total général | B18: 7 | C18: 16 | D18: 23 | E18: 46 | I18: Total général | J18: 1323.3771 | K18: 671.48312 | L18: 1875.2811 | M18: 1372.5834

Sheet TCD domaines
A2: Employé | B2: (Tous)
A3: Statut | B3: (Tous)
B5: Modes transport
B6: avion | D6: train | F6: voiture | H6: Total Somme de kg CO2 consommé | I6: Total Somme de Coût déplacement
A7: Domaine projet | B7: Somme de kg CO2 consommé | C7: Somme de Coût déplacement | D7: Somme de kg CO2 consommé | E7: Somme de Coût déplacement | F7: Somme de kg CO2 consommé | G7: Somme de Coût déplacement
A8: comptabilité | B8: 97.65796 | C8: 2404 | D8: 0.048271049 | E8: 1361.3 | F8: 413.00315 | G8: 6565.2023 | H8: 510.70938 | I8: 10330.502
A9: CRM | D9: 2.7469129 | E9: 602.26 | F9: 354.70785 | G9: 5476.3635 | H9: 357.45476 | I9: 6078.6235
A10: data science | B10: 56.750878 | C10: 1435.64 | D10: 9.4553502 | E10: 4208.97 | F10: 761.42308 | G10: 12890.851 | H10: 827.6293 | I10: 18535.461
A11: ERP | D11: 3.2256173 | E11: 3862.8 | F11: 245.43974 | G11: 3854.2905 | H11: 248.66536 | I11: 7717.0905
A12: finance | B12: 276.78157 | C12: 3087.8 | F12: 372.71388 | G12: 9380.4011 | H12: 649.49545 | I12: 12468.201
A13: logistique | F13: 160.03207 | G13: 3686.6707 | H13: 160.03207 | I13: 3686.6707
A14: transformation digitale | B14: 284.78381 | C14: 2336.2 | D14: 0.11359242 | E14: 708.4 | F14: 63.070406 | G14: 1277.6852 | H14: 347.96781 | I14: 4322.2852
A15: Total général | B15: 715.97422 | C15: 9263.64 | D15: 15.589744 | E15: 10743.73 | F15: 2370.3902 | G15: 43131.465 | H15: 3101.9541 | I15: 63138.835

Sheet TCD âges
A2: Domaine | B2: (Tous)
A3: mode de transport | B3: (Tous)
A5: Tranche d'âge | B5: Moy Ancienneté | C5: Moy Coût déplacement | D5: Somme CO2 consommé | E5: Nbr missions
A6: 25-29 | B6: 1.6451613 | C6: 1176.4754 | D6: 0.53653794 | E6: 0.67391304
A7: 30-34 | B7: 4 | C7: 2374.7611 | D7: 0.073022988 | E7: 0.043478261
A8: 35-39 | B8: 5 | C8: 1519.6559 | D8: 0.11523535 | E8: 0.086956522
A9: 40-44 | B9: 2 | C9: 1759.9945 | D9: 0.27520373 | E9: 0.19565217
A10: Total général | B10: 2.1086957 | C10: 1372.5834 | D10: 1 | E10: 1
