Workbook
Name AUJ: employés!$B$1
Name ChronologieNative_Position_start: #N/A
Name JOURSFERIEES: hollidays!$A:$A
Name Postes: postes!$A$1:$F$19

Sheet TableauQ21-22
A3: Department | B3: Min. de DURÉE | C3: Max. de DURÉE | D3: Moy de DURÉE | E3: Nbre Emp
A4: Accounting | B4: 0.083333333 | C4: 0.56944444 | D4: 0.25423326 | E4: 73
A5: Customer Service | B5: 0.083333333 | C5: 0.41666667 | D5: 0.25423815 | E5: 68
A6: Executive | B6: 0.125 | C6: 0.41666667 | D6: 0.24430556 | E6: 25
A7: Facilities | B7: 0.083333333 | C7: 0.41666667 | D7: 0.25328947 | E7: 19
A8: Human Resources | B8: 0.083333333 | C8: 0.41666667 | D8: 0.25516382 | E8: 78
A9: IT | B9: 0.083333333 | C9: 0.41666667 | D9: 0.26154003 | E9: 68
A10: Sales | B10: 0.03125 | C10: 0.41666667 | D10: 0.27328071 | E10: 227
A11: Total général | B11: 0.03125 | C11: 0.56944444 | D11: 0.26252614 | E11: 558
A18: Emp | B18: Min. de DURÉE | C18: Max. de DURÉE | D18: Moyenne de DURÉE
A19: Aanya Zhang | B19: 0.125 | C19: 0.41666667 | D19: 0.32102273
A20: Adam Barry | B20: 0.20833333 | C20: 0.41666667 | D20: 0.30555556
A21: Alexandra Donnell | B21: 0.125 | C21: 0.41666667 | D21: 0.28125
A22: Anna Clark | B22: 0.125 | C22: 0.41666667 | D22: 0.25260417
A23: Barbara Carlton | B23: 0.125 | C23: 0.375 | D23: 0.26799242
A24: Bob Decker | B24: 0.11805556 | C24: 0.41666667 | D24: 0.23719618
A25: Carlos Martinez | B25: 0.083333333 | C25: 0.41666667 | D25: 0.24791667
A26: Charlie Bui | B26: 0.16666667 | C26: 0.41666667 | D26: 0.275
A27: Connor Betts | B27: 0.16666667 | C27: 0.41666667 | D27: 0.29166667
A28: Daniel Flanders | B28: 0.083333333 | C28: 0.375 | D28: 0.27222222
A29: Elizabeth Chu | B29: 0.16666667 | C29: 0.41666667 | D29: 0.27777778
A30: Elizabeth Clark | B30: 0.083333333 | C30: 0.375 | D30: 0.23652778
... A54: Total général | B54: 0.03125 | C54: 0.56944444 | D54: 0.26252614

Sheet TableauQ18
A2: Position name | B2: (Tous)
B4: Contrat
B5: CDD | E5: CDI | H5: Total Nbr Delay? | I5: Total Moy On site | J5: Total Moy Long days
A6: Department | B6: Nbr Delay? | C6: Moy On site | D6: Moy Long days | E6: Nbr Delay? | F6: Moy On site | G6: Moy Long days
A7: Accounting | E7: 4 | F7: 18.25 | G7: 7.25 | H7: 4 | I7: 18.25 | J7: 7.25
A8: Customer Service | B8: 1 | C8: 27 | D8: 13 | E8: 3 | F8: 13.666667 | G8: 6 | H8: 4 | I8: 17 | J8: 7.75
A9: Executive | B9: 1 | C9: 18 | D9: 9 | E9: 1 | F9: 7 | G9: 1 | H9: 2 | I9: 12.5 | J9: 5
A10: Facilities | E10: 1 | F10: 19 | G10: 7 | H10: 1 | I10: 19 | J10: 7
A11: Human Resources | B11: 1 | C11: 17 | D11: 7 | E11: 3 | F11: 20.333333 | G11: 8.3333333 | H11: 4 | I11: 19.5 | J11: 8
A12: IT | B12: 4 | C12: 13 | D12: 6.75 | E12: 1 | F12: 16 | G12: 7 | H12: 5 | I12: 13.6 | J12: 6.8
A13: Sales | B13: 6 | C13: 16.5 | D13: 9.3333333 | E13: 9 | F13: 14.222222 | G13: 7.4444444 | H13: 15 | I13: 15.133333 | J13: 8.2
A14: Total général | B14: 13 | C14: 16.384615 | D14: 8.6153846 | E14: 22 | F14: 15.681818 | G14: 7 | H14: 35 | I14: 15.942857 | J14: 7.6

Sheet TableauQ19-20
A3: Moyenne de On site | B3: Contrat
A4: Anciennete | B4: CDD | C4: CDI | D4: Total général
A5: <2 | B5: 19.166667 | D5: 19.166667
A6: 2-3 | B6: 13.4 | D6: 13.4
A7: 4-5 | B7: 15.5 | C7: 15.25 | D7: 15.333333
A8: 6-8 | C8: 14.1 | D8: 14.1
A9: >8 | C9: 17.875 | D9: 17.875
A10: Total général | B10: 16.384615 | C10: 15.681818 | D10: 15.942857
A17: Nombre de Emp ID | B17: Department
A18: Age | B18: Accounting | C18: Customer Service | D18: Executive | E18: Facilities | F18: Human Resources | G18: IT | H18: Sales | I18: Total général
A19: 18-27 | G19: 1 | I19: 1
A20: 28-37 | B20: 1 | C20: 2 | D20: 1 | F20: 1 | G20: 1 | H20: 4 | I20: 10
A21: 38-47 | B21: 1 | C21: 2 | G21: 1 | H21: 3 | I21: 7
A22: 48-57 | E22: 1 | F22: 2 | G22: 1 | H22: 3 | I22: 7
A23: 58-68 | B23: 2 | D23: 1 | F23: 1 | G23: 1 | H23: 4 | I23: 9
A24: >68 | H24: 1 | I24: 1
A25: Total général | B25: 4 | C25: 4 | D25: 2 | E25: 1 | F25: 4 | G25: 5 | H25: 15 | I25: 35

Sheet employee_work_schedule
A1: Employee ID | B1: Date | C1: Arrival Time | D1: Departure Time | E1: Empoyee Full Name | F1: Department | G1: DURÉE
A2: F1180 | B2: 45537 | C2: 0.35416667 | D2: 0.64583333 | E2: =VLOOKUP(employee_work_schedule[[#This Row],[Employee ID]],employés!$A:$E,5,FALSE) -> Stevie Bacata | F2: =VLOOKUP(employee_work_schedule[[#This Row],[Employee ID]],employés!$A:$X,13,FALSE) -> Sales | G2: =employee_work_schedule[[#This Row],[Departure Time]]-employee_work_schedule[[#This Row],[Arrival Time]] -> 0.29166667
A3: F1180 | B3: 45539 | C3: 0.59722222 | D3: 0.97222222 | E3: =VLOOKUP(employee_work_schedule[[#This Row],[Employee ID]],employés!$A:$E,5,FALSE) -> Stevie Bacata | F3: =VLOOKUP(employee_work_schedule[[#This Row],[Employee ID]],employés!$A:$X,13,FALSE) -> Sales | G3: =employee_work_schedule[[#This Row],[Departure Time]]-employee_work_schedule[[#This Row],[Arrival Time]] -> 0.375
A4: F1180 | B4: 45545 | C4: 0.32638889 | D4: 0.61805556 | E4: =VLOOKUP(employee_work_schedule[[#This Row],[Employee ID]],employés!$A:$E,5,FALSE) -> Stevie Bacata | F4: =VLOOKUP(employee_work_schedule[[#This Row],[Employee ID]],employés!$A:$X,13,FALSE) -> Sales | G4: =employee_work_schedule[[#This Row],[Departure Time]]-employee_work_schedule[[#This Row],[Arrival Time]] -> 0.29166667
A5: F1180 | B5: 45559 | C5: 0.41666667 | D5: 0.6875 | E5: =VLOOKUP(employee_work_schedule[[#This Row],[Employee ID]],employés!$A:$E,5,FALSE) -> Stevie Bacata | F5: =VLOOKUP(employee_work_schedule[[#This Row],[Employee ID]],employés!$A:$X,13,FALSE) -> Sales | G5: =employee_work_schedule[[#This Row],[Departure Time]]-employee_work_schedule[[#This Row],[Arrival Time]] -> 0.27083333
A6: F1232 | B6: 45547 | C6: 0.51388889 | D6: 0.80555556 | E6: =VLOOKUP(employee_work_schedule[[#This Row],[Employee ID]],employés!$A:$E,5,FALSE) -> Connor Betts | F6: =VLOOKUP(employee_work_schedule[[#This Row],[Employee ID]],employés!$A:$X,13,FALSE) -> Sales | G6: =employee_work_schedule[[#This Row],[Departure Time]]-employee_work_schedule[[#This Row],[Arrival Time]] -> 0.29166667
A7: F1232 | B7: 45551 | C7: 0.69791667 | D7: 0.94791667 | E7: =VLOOKUP(employee_work_schedule[[#This Row],[Employee ID]],employés!$A:$E,5,FALSE) -> Connor Betts | F7: =VLOOKUP(employee_work_schedule[[#This Row],[Employee ID]],employés!$A:$X,13,FALSE) -> Sales | G7: =employee_work_schedule[[#This Row],[Departure Time]]-employee_work_schedule[[#This Row],[Arrival Time]] -> 0.25
A8: F1232 | B8: 45559 | C8: 0.35416667 | D8: 0.60416667 | E8: =VLOOKUP(employee_work_schedule[[#This Row],[Employee ID]],employés!$A:$E,5,FALSE) -> Connor Betts | F8: =VLOOKUP(employee_work_schedule[[#This Row],[Employee ID]],employés!$A:$X,13,FALSE) -> Sales | G8: =employee_work_schedule[[#This Row],[Departure Time]]-employee_work_schedule[[#This Row],[Arrival Time]] -> 0.25
A9: F1232 | B9: 45560 | C9: 0.52083333 | D9: 0.89583333 | E9: =VLOOKUP(employee_work_schedule[[#This Row],[Employee ID]],employés!$A:$E,5,FALSE) -> Connor Betts | F9: =VLOOKUP(employee_work_schedule[[#This Row],[Employee ID]],employés!$A:$X,13,FALSE) -> Sales | G9: =employee_work_schedule[[#This Row],[Departure Time]]-employee_work_schedule[[#This Row],[Arrival Time]] -> 0.375
A10: F1232 | B10: 45565 | C10: 0.49305556 | D10: 0.78472222 | E10: =VLOOKUP(employee_work_schedule[[#This Row],[Employee ID]],employés!$A:$E,5,FALSE) -> Connor Betts | F10: =VLOOKUP(employee_work_schedule[[#This Row],[Employee ID]],employés!$A:$X,13,FALSE) -> Sales | G10: =employee_work_schedule[[#This Row],[Departure Time]]-employee_work_schedule[[#This Row],[Arrival Time]] -> 0.29166667
A11: P1243 | B11: 45538 | C11: 0.71875 | D11: 0.88541667 | E11: =VLOOKUP(employee_work_schedule[[#This Row],[Employee ID]],employés!$A:$E,5,FALSE) -> Carlos Martinez | F11: =VLOOKUP(employee_work_schedule[[#This Row],[Employee ID]],employés!$A:$X,13,FALSE) -> Human Resources | G11: =employee_work_schedule[[#This Row],[Departure Time]]-employee_work_schedule[[#This Row],[Arrival Time]] -> 0.16666667
A12: P1243 | B12: 45539 | C12: 0.75 | D12: 0.875 | E12: =VLOOKUP(employee_work_schedule[[#This Row],[Employee ID]],employés!$A:$E,5,FALSE) -> Carlos Martinez | F12: =VLOOKUP(employee_work_schedule[[#This Row],[Employee ID]],employés!$A:$X,13,FALSE) -> Human Resources | G12: =employee_work_schedule[[#This Row],[Departure Time]]-employee_work_schedule[[#This Row],[Arrival Time]] -> 0.125
A13: P1243 | B13: 45541 | C13: 0.75 | D13: 0.83333333 | E13: =VLOOKUP(employee_work_schedule[[#This Row],[Employee ID]],employés!$A:$E,5,FALSE) -> Carlos Martinez | F13: =VLOOKUP(employee_work_schedule[[#This Row],[Employee ID]],employés!$A:$X,13,FALSE) -> Human Resources | G13: =employee_work_schedule[[#This Row],[Departure Time]]-employee_work_schedule[[#This Row],[Arrival Time]] -> 0.083333333
... A559: F1237 | B559: 45560 | C559: 0.53125 | D559: 0.82291667 | E559: =VLOOKUP(employee_work_schedule[[#This Row],[Employee ID]],employés!$A:$E,5,FALSE) -> Aanya Zhang | F559: =VLOOKUP(employee_work_schedule[[#This Row],[Employee ID]],employés!$A:$X,13,FALSE) -> Sales | G559: =employee_work_schedule[[#This Row],[Departure Time]]-employee_work_schedule[[#This Row],[Arrival Time]] -> 0.29166667

Sheet employés
A1: TODAY : | B1: =TODAY() -> 45634
A3: Emp ID | B3: Last | C3: First | D3: Email | E3: Full Name | F3: Birthdate | G3: Age | H3: Date of Hire | I3: Years Service | J3: employment contract | K3: end of contract | L3: Office | M3: Department | N3: Current Position | O3: Position name | P3: Base salary | Q3: Position start | R3: Last Review | S3: Next Review | T3: Delay? | U3: Total days off | V3: Call in? | W3: On site | X3: Long days
A4: F1180 | B4: Bacata | C4: Stevie | D4: =LOWER(_xlfn.CONCAT(C4,".",B4,"@pushpin.com")) -> stevie.bacata@pushpin.com | E4: =PROPER(_xlfn.CONCAT(C4," ",B4)) -> Stevie Bacata | F4: 32138 | G4: =ROUNDDOWN(YEARFRAC(F4,AUJ),0) -> 36 | H4: 42838 | I4: =ROUNDDOWN(YEARFRAC(H4,AUJ),0) -> 7 | J4: CDI | L4: 02-West 2635 | M4: =_xlfn.XLOOKUP(_xlfn.CONCAT(A4,"-",N4),'postes occupés'!G:G,'postes occupés'!D:D,"",0) -> Sales | N4: P342 | O4: =VLOOKUP(N4,Postes,2,FALSE) -> Sales person | P4: =VLOOKUP(N4,Postes,5,FALSE) -> 35000 | Q4: =_xlfn.XLOOKUP(_xlfn.CONCAT(A4,"-",N4),'postes occupés'!$G:$G,'postes occupés'!$E:$E) -> 42838 | R4: 45382 | S4: =IF(J4="CDI",IF(ISNUMBER(R4),EDATE(R4,12),EDATE(Q4,12)),WORKDAY(K4,-15,JOURSFERIEES)) -> 45747 | T4: =IF(S4<AUJ,NETWORKDAYS(S4,AUJ,JOURSFERIEES),"") | U4: 16 | V4: {=_xlfn.IFS(AND(U4<20,X4>10),"Urgent",OR(U4<20,W4<10,X4>10),"Yes",TRUE,"")} -> Urgent | W4: =COUNTIF(employee_work_schedule!$A:$A,employés!A4) -> 13 | X4: =COUNTIFS(employee_work_schedule!$A:$A,employés!A4,employee_work_schedule!$G:$G,">06:00:00") -> 11
A5: F1110 | B5: BARRY | C5: Adam | D5: =LOWER(_xlfn.CONCAT(C5,".",B5,"@pushpin.com")) -> adam.barry@pushpin.com | E5: =PROPER(_xlfn.CONCAT(C5," ",B5)) -> Adam Barry | F5: 34979 | G5: =ROUNDDOWN(YEARFRAC(F5,AUJ),0) -> 29 | H5: 41751 | I5: =ROUNDDOWN(YEARFRAC(H5,AUJ),0) -> 10 | J5: CDI | L5: 02-West 2018 | M5: =_xlfn.XLOOKUP(_xlfn.CONCAT(A5,"-",N5),'postes occupés'!G:G,'postes occupés'!D:D,"",0) -> Customer Service | N5: P731 | O5: =VLOOKUP(N5,Postes,2,FALSE) -> Assistant | P5: =VLOOKUP(N5,Postes,5,FALSE) -> 30000 | Q5: =_xlfn.XLOOKUP(_xlfn.CONCAT(A5,"-",N5),'postes occupés'!$G:$G,'postes occupés'!$E:$E) -> 42979 | R5: 45382 | S5: =IF(J5="CDI",IF(ISNUMBER(R5),EDATE(R5,12),EDATE(Q5,12)),WORKDAY(K5,-15,JOURSFERIEES)) -> 45747 | T5: =IF(S5<AUJ,NETWORKDAYS(S5,AUJ,JOURSFERIEES),"") | U5: 26 | V5: {=_xlfn.IFS(AND(U5<20,X5>10),"Urgent",OR(U5<20,W5<10,X5>10),"Yes",TRUE,"")} -> Yes | W5: =COUNTIF(employee_work_schedule!$A:$A,employés!A5) -> 9 | X5: =COUNTIFS(employee_work_schedule!$A:$A,employés!A5,employee_work_schedule!$G:$G,">06:00:00") -> 6
A6: F1232 | B6: Betts | C6: Connor | D6: =LOWER(_xlfn.CONCAT(C6,".",B6,"@pushpin.com")) -> connor.betts@pushpin.com | E6: =PROPER(_xlfn.CONCAT(C6," ",B6)) -> Connor Betts | F6: 30089 | G6: =ROUNDDOWN(YEARFRAC(F6,AUJ),0) -> 42 | H6: 43782 | I6: =ROUNDDOWN(YEARFRAC(H6,AUJ),0) -> 5 | J6: CDD | K6: 45688 | L6: 02-West 2347 | M6: =_xlfn.XLOOKUP(_xlfn.CONCAT(A6,"-",N6),'postes occupés'!G:G,'postes occupés'!D:D,"",0) -> Sales | N6: P342 | O6: =VLOOKUP(N6,Postes,2,FALSE) -> Sales person | P6: =VLOOKUP(N6,Postes,5,FALSE) -> 35000 | Q6: =_xlfn.XLOOKUP(_xlfn.CONCAT(A6,"-",N6),'postes occupés'!$G:$G,'postes occupés'!$E:$E) -> 43782 | R6: 44866 | S6: =IF(J6="CDI",IF(ISNUMBER(R6),EDATE(R6,12),EDATE(Q6,12)),WORKDAY(K6,-15,JOURSFERIEES)) -> 45667 | T6: =IF(S6<AUJ,NETWORKDAYS(S6,AUJ,JOURSFERIEES),"") | U6: 28 | V6: {=_xlfn.IFS(AND(U6<20,X6>10),"Urgent",OR(U6<20,W6<10,X6>10),"Yes",TRUE,"")} | W6: =COUNTIF(employee_work_schedule!$A:$A,employés!A6) -> 16 | X6: =COUNTIFS(employee_work_schedule!$A:$A,employés!A6,employee_work_schedule!$G:$G,">06:00:00") -> 8
A7: P1243 | B7: martinez | C7: carlos | D7: =LOWER(_xlfn.CONCAT(C7,".",B7,"@pushpin.com")) -> carlos.martinez@pushpin.com | E7: =PROPER(_xlfn.CONCAT(C7," ",B7)) -> Carlos Martinez | F7: 28100 | G7: =ROUNDDOWN(YEARFRAC(F7,AUJ),0) -> 48 | H7: 42229 | I7: =ROUNDDOWN(YEARFRAC(H7,AUJ),0) -> 9 | J7: CDI | L7: 03-West 2764 | M7: =_xlfn.XLOOKUP(_xlfn.CONCAT(A7,"-",N7),'postes occupés'!G:G,'postes occupés'!D:D,"",0) -> Human Resources | N7: P897 | O7: =VLOOKUP(N7,Postes,2,FALSE) -> HR Manager | P7: =VLOOKUP(N7,Postes,5,FALSE) -> 50000 | Q7: =_xlfn.XLOOKUP(_xlfn.CONCAT(A7,"-",N7),'postes occupés'!$G:$G,'postes occupés'!$E:$E) -> 45170 | S7: =IF(J7="CDI",IF(ISNUMBER(R7),EDATE(R7,12),EDATE(Q7,12)),WORKDAY(K7,-15,JOURSFERIEES)) -> 45536 | T7: =IF(S7<AUJ,NETWORKDAYS(S7,AUJ,JOURSFERIEES),"") -> 68 | U7: 20 | V7: {=_xlfn.IFS(AND(U7<20,X7>10),"Urgent",OR(U7<20,W7<10,X7>10),"Yes",TRUE,"")} | W7: =COUNTIF(employee_work_schedule!$A:$A,employés!A7) -> 20 | X7: =COUNTIFS(employee_work_schedule!$A:$A,employés!A7,employee_work_schedule!$G:$G,">06:00:00") -> 9
A8: P1248 | B8: Biti | C8: Yvette | D8: =LOWER(_xlfn.CONCAT(C8,".",B8,"@pushpin.com")) -> yvette.biti@pushpin.com | E8: =PROPER(_xlfn.CONCAT(C8," ",B8)) -> Yvette Biti | F8: 22167 | G8: =ROUNDDOWN(YEARFRAC(F8,AUJ),0) -> 64 | H8: 42384 | I8: =ROUNDDOWN(YEARFRAC(H8,AUJ),0) -> 8 | J8: CDI | L8: 02-West 2589 | M8: =_xlfn.XLOOKUP(_xlfn.CONCAT(A8,"-",N8),'postes occupés'!G:G,'postes occupés'!D:D,"",0) -> Sales | N8: P924 | O8: =VLOOKUP(N8,Postes,2,FALSE) -> Business Analyst | P8: =VLOOKUP(N8,Postes,5,FALSE) -> 45000 | Q8: =_xlfn.XLOOKUP(_xlfn.CONCAT(A8,"-",N8),'postes occupés'!$G:$G,'postes occupés'!$E:$E) -> 42384 | R8: 45169 | S8: =IF(J8="CDI",IF(ISNUMBER(R8),EDATE(R8,12),EDATE(Q8,12)),WORKDAY(K8,-15,JOURSFERIEES)) -> 45535 | T8: =IF(S8<AUJ,NETWORKDAYS(S8,AUJ,JOURSFERIEES),"") -> 68 | U8: 30 | V8: {=_xlfn.IFS(AND(U8<20,X8>10),"Urgent",OR(U8<20,W8<10,X8>10),"Yes",TRUE,"")} -> Yes | W8: =COUNTIF(employee_work_schedule!$A:$A,employés!A8) -> 2 | X8: =COUNTIFS(employee_work_schedule!$A:$A,employés!A8,employee_work_schedule!$G:$G,">06:00:00") -> 1
A9: P1227 | B9: BOLLER | C9: Jim | D9: =LOWER(_xlfn.CONCAT(C9,".",B9,"@pushpin.com")) -> jim.boller@pushpin.com | E9: =PROPER(_xlfn.CONCAT(C9," ",B9)) -> Jim Boller | F9: 23531 | G9: =ROUNDDOWN(YEARFRAC(F9,AUJ),0) -> 60 | H9: 41893 | I9: =ROUNDDOWN(YEARFRAC(H9,AUJ),0) -> 10 | J9: CDI | L9: 03-North 2318 | M9: =_xlfn.XLOOKUP(_xlfn.CONCAT(A9,"-",N9),'postes occupés'!G:G,'postes occupés'!D:D,"",0) -> Accounting | N9: P875 | O9: =VLOOKUP(N9,Postes,2,FALSE) -> Accountant | P9: =VLOOKUP(N9,Postes,5,FALSE) -> 45000 | Q9: =_xlfn.XLOOKUP(_xlfn.CONCAT(A9,"-",N9),'postes occupés'!$G:$G,'postes occupés'!$E:$E) -> 41893 | R9: 45169 | S9: =IF(J9="CDI",IF(ISNUMBER(R9),EDATE(R9,12),EDATE(Q9,12)),WORKDAY(K9,-15,JOURSFERIEES)) -> 45535 | T9: =IF(S9<AUJ,NETWORKDAYS(S9,AUJ,JOURSFERIEES),"") -> 68 | U9: 24 | V9: {=_xlfn.IFS(AND(U9<20,X9>10),"Urgent",OR(U9<20,W9<10,X9>10),"Yes",TRUE,"")} | W9: =COUNTIF(employee_work_schedule!$A:$A,employés!A9) -> 16 | X9: =COUNTIFS(employee_work_schedule!$A:$A,employés!A9,employee_work_schedule!$G:$G,">06:00:00") -> 6
A10: P1230 | B10: Bui | C10: Charlie | D10: =LOWER(_xlfn.CONCAT(C10,".",B10,"@pushpin.com")) -> charlie.bui@pushpin.com | E10: =PROPER(_xlfn.CONCAT(C10," ",B10)) -> Charlie Bui | F10: 22775 | G10: =ROUNDDOWN(YEARFRAC(F10,AUJ),0) -> 62 | H10: 44095 | I10: =ROUNDDOWN(YEARFRAC(H10,AUJ),0) -> 4 | J10: CDD | K10: 45900 | L10: 02-North 2694 | M10: =_xlfn.XLOOKUP(_xlfn.CONCAT(A10,"-",N10),'postes occupés'!G:G,'postes occupés'!D:D,"",0) -> Sales | N10: P731 | O10: =VLOOKUP(N10,Postes,2,FALSE) -> Assistant | P10: =VLOOKUP(N10,Postes,5,FALSE) -> 30000 | Q10: =_xlfn.XLOOKUP(_xlfn.CONCAT(A10,"-",N10),'postes occupés'!$G:$G,'postes occupés'!$E:$E) -> 44095 | R10: 45169 | S10: =IF(J10="CDI",IF(ISNUMBER(R10),EDATE(R10,12),EDATE(Q10,12)),WORKDAY(K10,-15,JOURSFERIEES)) -> 45880 | T10: =IF(S10<AUJ,NETWORKDAYS(S10,AUJ,JOURSFERIEES),"") | U10: 13 | V10: {=_xlfn.IFS(AND(U10<20,X10>10),"Urgent",OR(U10<20,W10<10,X10>10),"Yes",TRUE,"")} -> Yes | W10: =COUNTIF(employee_work_schedule!$A:$A,employés!A10) -> 15 | X10: =COUNTIFS(employee_work_schedule!$A:$A,employés!A10,employee_work_schedule!$G:$G,">06:00:00") -> 9
A11: F1162 | B11: Carlton | C11: Barbara | D11: =LOWER(_xlfn.CONCAT(C11,".",B11,"@pushpin.com")) -> barbara.carlton@pushpin.com | E11: =PROPER(_xlfn.CONCAT(C11," ",B11)) -> Barbara Carlton | F11: 32449 | G11: =ROUNDDOWN(YEARFRAC(F11,AUJ),0) -> 36 | H11: 42451 | I11: =ROUNDDOWN(YEARFRAC(H11,AUJ),0) -> 8 | J11: CDI | L11: 02-West 2699 | M11: =_xlfn.XLOOKUP(_xlfn.CONCAT(A11,"-",N11),'postes occupés'!G:G,'postes occupés'!D:D,"",0) -> Sales | N11: P651 | O11: =VLOOKUP(N11,Postes,2,FALSE) -> Project Manager | P11: =VLOOKUP(N11,Postes,5,FALSE) -> 45000 | Q11: =_xlfn.XLOOKUP(_xlfn.CONCAT(A11,"-",N11),'postes occupés'!$G:$G,'postes occupés'!$E:$E) -> 43344 | R11: 44985 | S11: =IF(J11="CDI",IF(ISNUMBER(R11),EDATE(R11,12),EDATE(Q11,12)),WORKDAY(K11,-15,JOURSFERIEES)) -> 45350 | T11: =IF(S11<AUJ,NETWORKDAYS(S11,AUJ,JOURSFERIEES),"") -> 196 | U11: 0 | V11: {=_xlfn.IFS(AND(U11<20,X11>10),"Urgent",OR(U11<20,W11<10,X11>10),"Yes",TRUE,"")} -> Yes | W11: =COUNTIF(employee_work_schedule!$A:$A,employés!A11) -> 11 | X11: =COUNTIFS(employee_work_schedule!$A:$A,employés!A11,employee_work_schedule!$G:$G,">06:00:00") -> 7
A12: P1001 | B12: CAROL | C12: Joe | D12: =LOWER(_xlfn.CONCAT(C12,".",B12,"@pushpin.com")) -> joe.carol@pushpin.com | E12: =PROPER(_xlfn.CONCAT(C12," ",B12)) -> Joe Carol | F12: 34574 | G12: =ROUNDDOWN(YEARFRAC(F12,AUJ),0) -> 30 | H12: 43497 | I12: =ROUNDDOWN(YEARFRAC(H12,AUJ),0) -> 5 | J12: CDI | L12: 01-North 2321 | M12: =_xlfn.XLOOKUP(_xlfn.CONCAT(A12,"-",N12),'postes occupés'!G:G,'postes occupés'!D:D,"",0) -> Executive | N12: P267 | O12: =VLOOKUP(N12,Postes,2,FALSE) -> Manager | P12: =VLOOKUP(N12,Postes,5,FALSE) -> 50000 | Q12: =_xlfn.XLOOKUP(_xlfn.CONCAT(A12,"-",N12),'postes occupés'!$G:$G,'postes occupés'!$E:$E) -> 43497 | R12: 45169 | S12: =IF(J12="CDI",IF(ISNUMBER(R12),EDATE(R12,12),EDATE(Q12,12)),WORKDAY(K12,-15,JOURSFERIEES)) -> 45535 | T12: =IF(S12<AUJ,NETWORKDAYS(S12,AUJ,JOURSFERIEES),"") -> 68 | U12: 14 | V12: {=_xlfn.IFS(AND(U12<20,X12>10),"Urgent",OR(U12<20,W12<10,X12>10),"Yes",TRUE,"")} -> Yes | W12: =COUNTIF(employee_work_schedule!$A:$A,employés!A12) -> 7 | X12: =COUNTIFS(employee_work_schedule!$A:$A,employés!A12,employee_work_schedule!$G:$G,">06:00:00") -> 1
A13: F1224 | B13: CHAFFEE | C13: Jim | D13: =LOWER(_xlfn.CONCAT(C13,".",B13,"@pushpin.com")) -> jim.chaffee@pushpin.com | E13: =PROPER(_xlfn.CONCAT(C13," ",B13)) -> Jim Chaffee | F13: 27864 | G13: =ROUNDDOWN(YEARFRAC(F13,AUJ),0) -> 48 | H13: 41787 | I13: =ROUNDDOWN(YEARFRAC(H13,AUJ),0) -> 10 | J13: CDI | L13: 03-West 2432 | M13: =_xlfn.XLOOKUP(_xlfn.CONCAT(A13,"-",N13),'postes occupés'!G:G,'postes occupés'!D:D,"",0) -> Facilities | N13: P181 | O13: =VLOOKUP(N13,Postes,2,FALSE) -> IT Support | P13: =VLOOKUP(N13,Postes,5,FALSE) -> 35000 | Q13: =_xlfn.XLOOKUP(_xlfn.CONCAT(A13,"-",N13),'postes occupés'!$G:$G,'postes occupés'!$E:$E) -> 42278 | R13: 45109 | S13: =IF(J13="CDI",IF(ISNUMBER(R13),EDATE(R13,12),EDATE(Q13,12)),WORKDAY(K13,-15,JOURSFERIEES)) -> 45475 | T13: =IF(S13<AUJ,NETWORKDAYS(S13,AUJ,JOURSFERIEES),"") -> 111 | U13: 14 | V13: {=_xlfn.IFS(AND(U13<20,X13>10),"Urgent",OR(U13<20,W13<10,X13>10),"Yes",TRUE,"")} -> Yes | W13: =COUNTIF(employee_work_schedule!$A:$A,employés!A13) -> 19 | X13: =COUNTIFS(employee_work_schedule!$A:$A,employés!A13,employee_work_schedule!$G:$G,">06:00:00") -> 7
A14: P1203 | B14: Chairs | C14: Samantha | D14: =LOWER(_xlfn.CONCAT(C14,".",B14,"@pushpin.com")) -> samantha.chairs@pushpin.com | E14: =PROPER(_xlfn.CONCAT(C14," ",B14)) -> Samantha Chairs | F14: 32296 | G14: =ROUNDDOWN(YEARFRAC(F14,AUJ),0) -> 36 | H14: 44978 | I14: =ROUNDDOWN(YEARFRAC(H14,AUJ),0) -> 1 | J14: CDD | K14: 45688 | L14: 02-West 2962 | M14: =_xlfn.XLOOKUP(_xlfn.CONCAT(A14,"-",N14),'postes occupés'!G:G,'postes occupés'!D:D,"",0) -> Sales | N14: P931 | O14: =VLOOKUP(N14,Postes,2,FALSE) -> Intership / alternantship | P14: =VLOOKUP(N14,Postes,5,FALSE) -> 20000 | Q14: =_xlfn.XLOOKUP(_xlfn.CONCAT(A14,"-",N14),'postes occupés'!$G:$G,'postes occupés'!$E:$E) -> 44978 | S14: =IF(J14="CDI",IF(ISNUMBER(R14),EDATE(R14,12),EDATE(Q14,12)),WORKDAY(K14,-15,JOURSFERIEES)) -> 45667 | T14: =IF(S14<AUJ,NETWORKDAYS(S14,AUJ,JOURSFERIEES),"") | U14: 21 | V14: {=_xlfn.IFS(AND(U14<20,X14>10),"Urgent",OR(U14<20,W14<10,X14>10),"Yes",TRUE,"")} -> Yes | W14: =COUNTIF(employee_work_schedule!$A:$A,employés!A14) -> 26 | X14: =COUNTIFS(employee_work_schedule!$A:$A,employés!A14,employee_work_schedule!$G:$G,">06:00:00") -> 15
A15: P1211 | B15: CHAUDRI | C15: Uma | D15: =LOWER(_xlfn.CONCAT(C15,".",B15,"@pushpin.com")) -> uma.chaudri@pushpin.com | E15: =PROPER(_xlfn.CONCAT(C15," ",B15)) -> Uma Chaudri | F15: 25204 | G15: =ROUNDDOWN(YEARFRAC(F15,AUJ),0) -> 55 | H15: 44646 | I15: =ROUNDDOWN(YEARFRAC(H15,AUJ),0) -> 2 | J15: CDD | K15: 45716 | L15: 03-North 2134 | M15: =_xlfn.XLOOKUP(_xlfn.CONCAT(A15,"-",N15),'postes occupés'!G:G,'postes occupés'!D:D,"",0) -> Human Resources | N15: P265 | O15: =VLOOKUP(N15,Postes,2,FALSE) -> HR Assistant | P15: =VLOOKUP(N15,Postes,5,FALSE) -> 40000 | Q15: =_xlfn.XLOOKUP(_xlfn.CONCAT(A15,"-",N15),'postes occupés'!$G:$G,'postes occupés'!$E:$E) -> 44646 | S15: =IF(J15="CDI",IF(ISNUMBER(R15),EDATE(R15,12),EDATE(Q15,12)),WORKDAY(K15,-15,JOURSFERIEES)) -> 45695 | T15: =IF(S15<AUJ,NETWORKDAYS(S15,AUJ,JOURSFERIEES),"") | U15: 28 | V15: {=_xlfn.IFS(AND(U15<20,X15>10),"Urgent",OR(U15<20,W15<10,X15>10),"Yes",TRUE,"")} | W15: =COUNTIF(employee_work_schedule!$A:$A,employés!A15) -> 17 | X15: =COUNTIFS(employee_work_schedule!$A:$A,employés!A15,employee_work_schedule!$G:$G,">06:00:00") -> 7
A16: P1198 | B16: CHU | C16: Elizabeth | D16: =LOWER(_xlfn.CONCAT(C16,".",B16,"@pushpin.com")) -> elizabeth.chu@pushpin.com | E16: =PROPER(_xlfn.CONCAT(C16," ",B16)) -> Elizabeth Chu | F16: 35919 | G16: =ROUNDDOWN(YEARFRAC(F16,AUJ),0) -> 26 | H16: 44238 | I16: =ROUNDDOWN(YEARFRAC(H16,AUJ),0) -> 3 | J16: CDD | K16: 45688 | L16: 01-West 2425 | M16: =_xlfn.XLOOKUP(_xlfn.CONCAT(A16,"-",N16),'postes occupés'!G:G,'postes occupés'!D:D,"",0) -> IT | N16: P993 | O16: =VLOOKUP(N16,Postes,2,FALSE) -> Developper | P16: =VLOOKUP(N16,Postes,5,FALSE) -> 40000 | Q16: =_xlfn.XLOOKUP(_xlfn.CONCAT(A16,"-",N16),'postes occupés'!$G:$G,'postes occupés'!$E:$E) -> 44238 | R16: 44957 | S16: =IF(J16="CDI",IF(ISNUMBER(R16),EDATE(R16,12),EDATE(Q16,12)),WORKDAY(K16,-15,JOURSFERIEES)) -> 45667 | T16: =IF(S16<AUJ,NETWORKDAYS(S16,AUJ,JOURSFERIEES),"") | U16: 21 | V16: {=_xlfn.IFS(AND(U16<20,X16>10),"Urgent",OR(U16<20,W16<10,X16>10),"Yes",TRUE,"")} -> Yes | W16: =COUNTIF(employee_work_schedule!$A:$A,employés!A16) -> 9 | X16: =COUNTIFS(employee_work_schedule!$A:$A,employés!A16,employee_work_schedule!$G:$G,">06:00:00") -> 3
A17: F1003 | B17: CHUNG | C17: Eric | D17: =LOWER(_xlfn.CONCAT(C17,".",B17,"@pushpin.com")) -> eric.chung@pushpin.com | E17: =PROPER(_xlfn.CONCAT(C17," ",B17)) -> Eric Chung | F17: 22993 | G17: =ROUNDDOWN(YEARFRAC(F17,AUJ),0) -> 61 | H17: 44984 | I17: =ROUNDDOWN(YEARFRAC(H17,AUJ),0) -> 1 | J17: CDD | K17: 45688 | L17: 03-West 2796 | M17: =_xlfn.XLOOKUP(_xlfn.CONCAT(A17,"-",N17),'postes occupés'!G:G,'postes occupés'!D:D,"",0) -> IT | N17: P993 | O17: =VLOOKUP(N17,Postes,2,FALSE) -> Developper | P17: =VLOOKUP(N17,Postes,5,FALSE) -> 40000 | Q17: =_xlfn.XLOOKUP(_xlfn.CONCAT(A17,"-",N17),'postes occupés'!$G:$G,'postes occupés'!$E:$E) -> 44984 | S17: =IF(J17="CDI",IF(ISNUMBER(R17),EDATE(R17,12),EDATE(Q17,12)),WORKDAY(K17,-15,JOURSFERIEES)) -> 45667 | T17: =IF(S17<AUJ,NETWORKDAYS(S17,AUJ,JOURSFERIEES),"") | U17: 14 | V17: {=_xlfn.IFS(AND(U17<20,X17>10),"Urgent",OR(U17<20,W17<10,X17>10),"Yes",TRUE,"")} -> Urgent | W17: =COUNTIF(employee_work_schedule!$A:$A,employés!A17) -> 15 | X17: =COUNTIFS(employee_work_schedule!$A:$A,employés!A17,employee_work_schedule!$G:$G,">06:00:00") -> 11
A18: F1235 | B18: CLARK | C18: elizabeth | D18: =LOWER(_xlfn.CONCAT(C18,".",B18,"@pushpin.com")) -> elizabeth.clark@pushpin.com | E18: =PROPER(_xlfn.CONCAT(C18," ",B18)) -> Elizabeth Clark | F18: 20760 | G18: =ROUNDDOWN(YEARFRAC(F18,AUJ),0) -> 68 | H18: 41989 | I18: =ROUNDDOWN(YEARFRAC(H18,AUJ),0) -> 9 | J18: CDI | L18: 02-West 2414 | M18: =_xlfn.XLOOKUP(_xlfn.CONCAT(A18,"-",N18),'postes occupés'!G:G,'postes occupés'!D:D,"",0) -> Accounting | N18: P875 | O18: =VLOOKUP(N18,Postes,2,FALSE) -> Accountant | P18: =VLOOKUP(N18,Postes,5,FALSE) -> 45000 | Q18: =_xlfn.XLOOKUP(_xlfn.CONCAT(A18,"-",N18),'postes occupés'!$G:$G,'postes occupés'!$E:$E) -> 43709 | R18: 45137 | S18: =IF(J18="CDI",IF(ISNUMBER(R18),EDATE(R18,12),EDATE(Q18,12)),WORKDAY(K18,-15,JOURSFERIEES)) -> 45503 | T18: =IF(S18<AUJ,NETWORKDAYS(S18,AUJ,JOURSFERIEES),"") -> 91 | U18: 22 | V18: {=_xlfn.IFS(AND(U18<20,X18>10),"Urgent",OR(U18<20,W18<10,X18>10),"Yes",TRUE,"")} | W18: =COUNTIF(employee_work_schedule!$A:$A,employés!A18) -> 25 | X18: =COUNTIFS(employee_work_schedule!$A:$A,employés!A18,employee_work_schedule!$G:$G,">06:00:00") -> 9
A19: P1253 | B19: CLARK | C19: ANNA | D19: =LOWER(_xlfn.CONCAT(C19,".",B19,"@pushpin.com")) -> anna.clark@pushpin.com | E19: =PROPER(_xlfn.CONCAT(C19," ",B19)) -> Anna Clark | F19: 29864 | G19: =ROUNDDOWN(YEARFRAC(F19,AUJ),0) -> 43 | H19: 43841 | I19: =ROUNDDOWN(YEARFRAC(H19,AUJ),0) -> 4 | J19: CDI | L19: 03-West 2601 | M19: =_xlfn.XLOOKUP(_xlfn.CONCAT(A19,"-",N19),'postes occupés'!G:G,'postes occupés'!D:D,"",0) -> Customer Service | N19: P731 | O19: =VLOOKUP(N19,Postes,2,FALSE) -> Assistant | P19: =VLOOKUP(N19,Postes,5,FALSE) -> 30000 | Q19: =_xlfn.XLOOKUP(_xlfn.CONCAT(A19,"-",N19),'postes occupés'!$G:$G,'postes occupés'!$E:$E) -> 43841 | R19: 45169 | S19: =IF(J19="CDI",IF(ISNUMBER(R19),EDATE(R19,12),EDATE(Q19,12)),WORKDAY(K19,-15,JOURSFERIEES)) -> 45535 | T19: =IF(S19<AUJ,NETWORKDAYS(S19,AUJ,JOURSFERIEES),"") -> 68 | U19: 10 | V19: {=_xlfn.IFS(AND(U19<20,X19>10),"Urgent",OR(U19<20,W19<10,X19>10),"Yes",TRUE,"")} -> Yes | W19: =COUNTIF(employee_work_schedule!$A:$A,employés!A19) -> 16 | X19: =COUNTIFS(employee_work_schedule!$A:$A,employés!A19,employee_work_schedule!$G:$G,">06:00:00") -> 5
A20: P1221 | B20: COLE | C20: Sabrina | D20: =LOWER(_xlfn.CONCAT(C20,".",B20,"@pushpin.com")) -> sabrina.cole@pushpin.com | E20: =PROPER(_xlfn.CONCAT(C20," ",B20)) -> Sabrina Cole | F20: 34104 | G20: =ROUNDDOWN(YEARFRAC(F20,AUJ),0) -> 31 | H20: 45053 | I20: =ROUNDDOWN(YEARFRAC(H20,AUJ),0) -> 1 | J20: CDD | K20: 45777 | L20: 02-West 2537 | M20: =_xlfn.XLOOKUP(_xlfn.CONCAT(A20,"-",N20),'postes occupés'!G:G,'postes occupés'!D:D,"",0) -> Customer Service | N20: P931 | O20: =VLOOKUP(N20,Postes,2,FALSE) -> Intership / alternantship | P20: =VLOOKUP(N20,Postes,5,FALSE) -> 20000 | Q20: =_xlfn.XLOOKUP(_xlfn.CONCAT(A20,"-",N20),'postes occupés'!$G:$G,'postes occupés'!$E:$E) -> 45053 | S20: =IF(J20="CDI",IF(ISNUMBER(R20),EDATE(R20,12),EDATE(Q20,12)),WORKDAY(K20,-15,JOURSFERIEES)) -> 45756 | T20: =IF(S20<AUJ,NETWORKDAYS(S20,AUJ,JOURSFERIEES),"") | U20: 20 | V20: {=_xlfn.IFS(AND(U20<20,X20>10),"Urgent",OR(U20<20,W20<10,X20>10),"Yes",TRUE,"")} -> Yes | W20: =COUNTIF(employee_work_schedule!$A:$A,employés!A20) -> 27 | X20: =COUNTIFS(employee_work_schedule!$A:$A,employés!A20,employee_work_schedule!$G:$G,">06:00:00") -> 13
A21: F1186 | B21: COMUNTZIS | C21: Janet | D21: =LOWER(_xlfn.CONCAT(C21,".",B21,"@pushpin.com")) -> janet.comuntzis@pushpin.com | E21: =PROPER(_xlfn.CONCAT(C21," ",B21)) -> Janet Comuntzis | F21: 34802 | G21: =ROUNDDOWN(YEARFRAC(F21,AUJ),0) -> 29 | H21: 42242 | I21: =ROUNDDOWN(YEARFRAC(H21,AUJ),0) -> 9 | J21: CDI | L21: 02-West 2286 | M21: =_xlfn.XLOOKUP(_xlfn.CONCAT(A21,"-",N21),'postes occupés'!G:G,'postes occupés'!D:D,"",0) -> Human Resources | N21: P265 | O21: =VLOOKUP(N21,Postes,2,FALSE) -> HR Assistant | P21: =VLOOKUP(N21,Postes,5,FALSE) -> 40000 | Q21: =_xlfn.XLOOKUP(_xlfn.CONCAT(A21,"-",N21),'postes occupés'!$G:$G,'postes occupés'!$E:$E) -> 42644 | R21: 45139 | S21: =IF(J21="CDI",IF(ISNUMBER(R21),EDATE(R21,12),EDATE(Q21,12)),WORKDAY(K21,-15,JOURSFERIEES)) -> 45505 | T21: =IF(S21<AUJ,NETWORKDAYS(S21,AUJ,JOURSFERIEES),"") -> 89 | U21: 13 | V21: {=_xlfn.IFS(AND(U21<20,X21>10),"Urgent",OR(U21<20,W21<10,X21>10),"Yes",TRUE,"")} -> Urgent | W21: =COUNTIF(employee_work_schedule!$A:$A,employés!A21) -> 25 | X21: =COUNTIFS(employee_work_schedule!$A:$A,employés!A21,employee_work_schedule!$G:$G,">06:00:00") -> 12
A22: P1218 | B22: DECKER | C22: Bob | D22: =LOWER(_xlfn.CONCAT(C22,".",B22,"@pushpin.com")) -> bob.decker@pushpin.com | E22: =PROPER(_xlfn.CONCAT(C22," ",B22)) -> Bob Decker | F22: 30009 | G22: =ROUNDDOWN(YEARFRAC(F22,AUJ),0) -> 42 | H22: 44862 | I22: =ROUNDDOWN(YEARFRAC(H22,AUJ),0) -> 2 | J22: CDD | K22: 45688 | L22: 01-North 2086 | M22: =_xlfn.XLOOKUP(_xlfn.CONCAT(A22,"-",N22),'postes occupés'!G:G,'postes occupés'!D:D,"",0) -> IT | N22: P890 | O22: =VLOOKUP(N22,Postes,2,FALSE) -> Project Manager | P22: =VLOOKUP(N22,Postes,5,FALSE) -> 45000 | Q22: =_xlfn.XLOOKUP(_xlfn.CONCAT(A22,"-",N22),'postes occupés'!$G:$G,'postes occupés'!$E:$E) -> 44862 | S22: =IF(J22="CDI",IF(ISNUMBER(R22),EDATE(R22,12),EDATE(Q22,12)),WORKDAY(K22,-15,JOURSFERIEES)) -> 45667 | T22: =IF(S22<AUJ,NETWORKDAYS(S22,AUJ,JOURSFERIEES),"") | U22: 22 | V22: {=_xlfn.IFS(AND(U22<20,X22>10),"Urgent",OR(U22<20,W22<10,X22>10),"Yes",TRUE,"")} | W22: =COUNTIF(employee_work_schedule!$A:$A,employés!A22) -> 16 | X22: =COUNTIFS(employee_work_schedule!$A:$A,employés!A22,employee_work_schedule!$G:$G,">06:00:00") -> 7
A23: F1215 | B23: DESIATO | C23: Tina | D23: =LOWER(_xlfn.CONCAT(C23,".",B23,"@pushpin.com")) -> tina.desiato@pushpin.com | E23: =PROPER(_xlfn.CONCAT(C23," ",B23)) -> Tina Desiato | F23: 32897 | G23: =ROUNDDOWN(YEARFRAC(F23,AUJ),0) -> 34 | H23: 44827 | I23: =ROUNDDOWN(YEARFRAC(H23,AUJ),0) -> 2 | J23: CDD | K23: 45688 | L23: 01-North 2358 | M23: =_xlfn.XLOOKUP(_xlfn.CONCAT(A23,"-",N23),'postes occupés'!G:G,'postes occupés'!D:D,"",0) -> IT | N23: P993 | O23: =VLOOKUP(N23,Postes,2,FALSE) -> Developper | P23: =VLOOKUP(N23,Postes,5,FALSE) -> 40000 | Q23: =_xlfn.XLOOKUP(_xlfn.CONCAT(A23,"-",N23),'postes occupés'!$G:$G,'postes occupés'!$E:$E) -> 44827 | S23: =IF(J23="CDI",IF(ISNUMBER(R23),EDATE(R23,12),EDATE(Q23,12)),WORKDAY(K23,-15,JOURSFERIEES)) -> 45667 | T23: =IF(S23<AUJ,NETWORKDAYS(S23,AUJ,JOURSFERIEES),"") | U23: 30 | V23: {=_xlfn.IFS(AND(U23<20,X23>10),"Urgent",OR(U23<20,W23<10,X23>10),"Yes",TRUE,"")} | W23: =COUNTIF(employee_work_schedule!$A:$A,employés!A23) -> 12 | X23: =COUNTIFS(employee_work_schedule!$A:$A,employés!A23,employee_work_schedule!$G:$G,">06:00:00") -> 6
A24: P1241 | B24: DONNELL | C24: Alexandra | D24: =LOWER(_xlfn.CONCAT(C24,".",B24,"@pushpin.com")) -> alexandra.donnell@pushpin.com | E24: =PROPER(_xlfn.CONCAT(C24," ",B24)) -> Alexandra Donnell | F24: 29195 | G24: =ROUNDDOWN(YEARFRAC(F24,AUJ),0) -> 45 | H24: 42228 | I24: =ROUNDDOWN(YEARFRAC(H24,AUJ),0) -> 9 | J24: CDI | L24: 03-West 2082 | M24: =_xlfn.XLOOKUP(_xlfn.CONCAT(A24,"-",N24),'postes occupés'!G:G,'postes occupés'!D:D,"",0) -> Accounting | N24: P184 | O24: =VLOOKUP(N24,Postes,2,FALSE) -> Accountant Assistant | P24: =VLOOKUP(N24,Postes,5,FALSE) -> 40000 | Q24: =_xlfn.XLOOKUP(_xlfn.CONCAT(A24,"-",N24),'postes occupés'!$G:$G,'postes occupés'!$E:$E) -> 42228 | R24: 45139 | S24: =IF(J24="CDI",IF(ISNUMBER(R24),EDATE(R24,12),EDATE(Q24,12)),WORKDAY(K24,-15,JOURSFERIEES)) -> 45505 | T24: =IF(S24<AUJ,NETWORKDAYS(S24,AUJ,JOURSFERIEES),"") -> 89 | U24: 20 | V24: {=_xlfn.IFS(AND(U24<20,X24>10),"Urgent",OR(U24<20,W24<10,X24>10),"Yes",TRUE,"")} | W24: =COUNTIF(employee_work_schedule!$A:$A,employés!A24) -> 16 | X24: =COUNTIFS(employee_work_schedule!$A:$A,employés!A24,employee_work_schedule!$G:$G,">06:00:00") -> 8
A25: F1246 | B25: ELLIS | C25: Mark | D25: =LOWER(_xlfn.CONCAT(C25,".",B25,"@pushpin.com")) -> mark.ellis@pushpin.com | E25: =PROPER(_xlfn.CONCAT(C25," ",B25)) -> Mark Ellis | F25: 27076 | G25: =ROUNDDOWN(YEARFRAC(F25,AUJ),0) -> 50 | H25: 42371 | I25: =ROUNDDOWN(YEARFRAC(H25,AUJ),0) -> 8 | J25: CDI | L25: 03-West 2482 | M25: =_xlfn.XLOOKUP(_xlfn.CONCAT(A25,"-",N25),'postes occupés'!G:G,'postes occupés'!D:D,"",0) -> IT | N25: P104 | O25: =VLOOKUP(N25,Postes,2,FALSE) -> PMO | P25: =VLOOKUP(N25,Postes,5,FALSE) -> 40000 | Q25: =_xlfn.XLOOKUP(_xlfn.CONCAT(A25,"-",N25),'postes occupés'!$G:$G,'postes occupés'!$E:$E) -> 44105 | R25: 45291 | S25: =IF(J25="CDI",IF(ISNUMBER(R25),EDATE(R25,12),EDATE(Q25,12)),WORKDAY(K25,-15,JOURSFERIEES)) -> 45657 | T25: =IF(S25<AUJ,NETWORKDAYS(S25,AUJ,JOURSFERIEES),"") | U25: 26 | V25: {=_xlfn.IFS(AND(U25<20,X25>10),"Urgent",OR(U25<20,W25<10,X25>10),"Yes",TRUE,"")} | W25: =COUNTIF(employee_work_schedule!$A:$A,employés!A25) -> 16 | X25: =COUNTIFS(employee_work_schedule!$A:$A,employés!A25,employee_work_schedule!$G:$G,">06:00:00") -> 7
A26: F1172 | B26: Fernandes | C26: Nicholas | D26: =LOWER(_xlfn.CONCAT(C26,".",B26,"@pushpin.com")) -> nicholas.fernandes@pushpin.com | E26: =PROPER(_xlfn.CONCAT(C26," ",B26)) -> Nicholas Fernandes | F26: 34459 | G26: =ROUNDDOWN(YEARFRAC(F26,AUJ),0) -> 30 | H26: 42676 | I26: =ROUNDDOWN(YEARFRAC(H26,AUJ),0) -> 8 | J26: CDI | L26: 02-North 2372 | M26: =_xlfn.XLOOKUP(_xlfn.CONCAT(A26,"-",N26),'postes occupés'!G:G,'postes occupés'!D:D,"",0) -> Accounting | N26: P184 | O26: =VLOOKUP(N26,Postes,2,FALSE) -> Accountant Assistant | P26: =VLOOKUP(N26,Postes,5,FALSE) -> 40000 | Q26: =_xlfn.XLOOKUP(_xlfn.CONCAT(A26,"-",N26),'postes occupés'!$G:$G,'postes occupés'!$E:$E) -> 42676 | R26: 45231 | S26: =IF(J26="CDI",IF(ISNUMBER(R26),EDATE(R26,12),EDATE(Q26,12)),WORKDAY(K26,-15,JOURSFERIEES)) -> 45597 | T26: =IF(S26<AUJ,NETWORKDAYS(S26,AUJ,JOURSFERIEES),"") -> 24 | U26: 37 | V26: {=_xlfn.IFS(AND(U26<20,X26>10),"Urgent",OR(U26<20,W26<10,X26>10),"Yes",TRUE,"")} | W26: =COUNTIF(employee_work_schedule!$A:$A,employés!A26) -> 16 | X26: =COUNTIFS(employee_work_schedule!$A:$A,employés!A26,employee_work_schedule!$G:$G,">06:00:00") -> 6
A27: F1134 | B27: FERRIS | C27: Mary | D27: =LOWER(_xlfn.CONCAT(C27,".",B27,"@pushpin.com")) -> mary.ferris@pushpin.com | E27: =PROPER(_xlfn.CONCAT(C27," ",B27)) -> Mary Ferris | F27: 27821 | G27: =ROUNDDOWN(YEARFRAC(F27,AUJ),0) -> 48 | H27: 42200 | I27: =ROUNDDOWN(YEARFRAC(H27,AUJ),0) -> 9 | J27: CDI | L27: 03-North 2392 | M27: =_xlfn.XLOOKUP(_xlfn.CONCAT(A27,"-",N27),'postes occupés'!G:G,'postes occupés'!D:D,"",0) -> Sales | N27: P267 | O27: =VLOOKUP(N27,Postes,2,FALSE) -> Manager | P27: =VLOOKUP(N27,Postes,5,FALSE) -> 50000 | Q27: =_xlfn.XLOOKUP(_xlfn.CONCAT(A27,"-",N27),'postes occupés'!$G:$G,'postes occupés'!$E:$E) -> 43748 | R27: 45107 | S27: =IF(J27="CDI",IF(ISNUMBER(R27),EDATE(R27,12),EDATE(Q27,12)),WORKDAY(K27,-15,JOURSFERIEES)) -> 45473 | T27: =IF(S27<AUJ,NETWORKDAYS(S27,AUJ,JOURSFERIEES),"") -> 112 | U27: 13 | V27: {=_xlfn.IFS(AND(U27<20,X27>10),"Urgent",OR(U27<20,W27<10,X27>10),"Yes",TRUE,"")} -> Yes | W27: =COUNTIF(employee_work_schedule!$A:$A,employés!A27) -> 13 | X27: =COUNTIFS(employee_work_schedule!$A:$A,employés!A27,employee_work_schedule!$G:$G,">06:00:00") -> 5
A28: F1150 | B28: FILOSA | C28: Susan | D28: =LOWER(_xlfn.CONCAT(C28,".",B28,"@pushpin.com")) -> susan.filosa@pushpin.com | E28: =PROPER(_xlfn.CONCAT(C28," ",B28)) -> Susan Filosa | F28: 29976 | G28: =ROUNDDOWN(YEARFRAC(F28,AUJ),0) -> 42 | H28: 42762 | I28: =ROUNDDOWN(YEARFRAC(H28,AUJ),0) -> 7 | J28: CDI | L28: 02-West 2279 | M28: =_xlfn.XLOOKUP(_xlfn.CONCAT(A28,"-",N28),'postes occupés'!G:G,'postes occupés'!D:D,"",0) -> Customer Service | N28: P181 | O28: =VLOOKUP(N28,Postes,2,FALSE) -> IT Support | P28: =VLOOKUP(N28,Postes,5,FALSE) -> 35000 | Q28: =_xlfn.XLOOKUP(_xlfn.CONCAT(A28,"-",N28),'postes occupés'!$G:$G,'postes occupés'!$E:$E) -> 42762 | R28: 45291 | S28: =IF(J28="CDI",IF(ISNUMBER(R28),EDATE(R28,12),EDATE(Q28,12)),WORKDAY(K28,-15,JOURSFERIEES)) -> 45657 | T28: =IF(S28<AUJ,NETWORKDAYS(S28,AUJ,JOURSFERIEES),"") | U28: 29 | V28: {=_xlfn.IFS(AND(U28<20,X28>10),"Urgent",OR(U28<20,W28<10,X28>10),"Yes",TRUE,"")} | W28: =COUNTIF(employee_work_schedule!$A:$A,employés!A28) -> 16 | X28: =COUNTIFS(employee_work_schedule!$A:$A,employés!A28,employee_work_schedule!$G:$G,">06:00:00") -> 7
A29: P1004 | B29: FLANDERS | C29: Daniel | D29: =LOWER(_xlfn.CONCAT(C29,".",B29,"@pushpin.com")) -> daniel.flanders@pushpin.com | E29: =PROPER(_xlfn.CONCAT(C29," ",B29)) -> Daniel Flanders | F29: 25289 | G29: =ROUNDDOWN(YEARFRAC(F29,AUJ),0) -> 55 | H29: 42624 | I29: =ROUNDDOWN(YEARFRAC(H29,AUJ),0) -> 8 | J29: CDI | L29: 02-North 2639 | M29: =_xlfn.XLOOKUP(_xlfn.CONCAT(A29,"-",N29),'postes occupés'!G:G,'postes occupés'!D:D,"",0) -> Sales | N29: P731 | O29: =VLOOKUP(N29,Postes,2,FALSE) -> Assistant | P29: =VLOOKUP(N29,Postes,5,FALSE) -> 30000 | Q29: =_xlfn.XLOOKUP(_xlfn.CONCAT(A29,"-",N29),'postes occupés'!$G:$G,'postes occupés'!$E:$E) -> 42624 | R29: 45169 | S29: =IF(J29="CDI",IF(ISNUMBER(R29),EDATE(R29,12),EDATE(Q29,12)),WORKDAY(K29,-15,JOURSFERIEES)) -> 45535 | T29: =IF(S29<AUJ,NETWORKDAYS(S29,AUJ,JOURSFERIEES),"") -> 68 | U29: 23 | V29: {=_xlfn.IFS(AND(U29<20,X29>10),"Urgent",OR(U29<20,W29<10,X29>10),"Yes",TRUE,"")} | W29: =COUNTIF(employee_work_schedule!$A:$A,employés!A29) -> 15 | X29: =COUNTIFS(employee_work_schedule!$A:$A,employés!A29,employee_work_schedule!$G:$G,">06:00:00") -> 8
A30: F1239 | B30: Forrest | C30: Leighton | D30: =LOWER(_xlfn.CONCAT(C30,".",B30,"@pushpin.com")) -> leighton.forrest@pushpin.com | E30: =PROPER(_xlfn.CONCAT(C30," ",B30)) -> Leighton Forrest | F30: 27985 | G30: =ROUNDDOWN(YEARFRAC(F30,AUJ),0) -> 48 | H30: 43216 | I30: =ROUNDDOWN(YEARFRAC(H30,AUJ),0) -> 6 | J30: CDI | L30: 02-North 2284 | M30: =_xlfn.XLOOKUP(_xlfn.CONCAT(A30,"-",N30),'postes occupés'!G:G,'postes occupés'!D:D,"",0) -> Sales | N30: P181 | O30: =VLOOKUP(N30,Postes,2,FALSE) -> IT Support | P30: =VLOOKUP(N30,Postes,5,FALSE) -> 35000 | Q30: =_xlfn.XLOOKUP(_xlfn.CONCAT(A30,"-",N30),'postes occupés'!$G:$G,'postes occupés'!$E:$E) -> 43216 | R30: 45169 | S30: =IF(J30="CDI",IF(ISNUMBER(R30),EDATE(R30,12),EDATE(Q30,12)),WORKDAY(K30,-15,JOURSFERIEES)) -> 45535 | T30: =IF(S30<AUJ,NETWORKDAYS(S30,AUJ,JOURSFERIEES),"") -> 68 | U30: 13 | V30: {=_xlfn.IFS(AND(U30<20,X30>10),"Urgent",OR(U30<20,W30<10,X30>10),"Yes",TRUE,"")} -> Yes | W30: =COUNTIF(employee_work_schedule!$A:$A,employés!A30) -> 20 | X30: =COUNTIFS(employee_work_schedule!$A:$A,employés!A30,employee_work_schedule!$G:$G,">06:00:00") -> 10
A31: F1250 | B31: Gour | C31: Phoebe | D31: =LOWER(_xlfn.CONCAT(C31,".",B31,"@pushpin.com")) -> phoebe.gour@pushpin.com | E31: =PROPER(_xlfn.CONCAT(C31," ",B31)) -> Phoebe Gour | F31: 30924 | G31: =ROUNDDOWN(YEARFRAC(F31,AUJ),0) -> 40 | H31: 43816 | I31: =ROUNDDOWN(YEARFRAC(H31,AUJ),0) -> 4 | J31: CDI | L31: 02-North 2910 | M31: =_xlfn.XLOOKUP(_xlfn.CONCAT(A31,"-",N31),'postes occupés'!G:G,'postes occupés'!D:D,"",0) -> Sales | N31: P342 | O31: =VLOOKUP(N31,Postes,2,FALSE) -> Sales person | P31: =VLOOKUP(N31,Postes,5,FALSE) -> 35000 | Q31: =_xlfn.XLOOKUP(_xlfn.CONCAT(A31,"-",N31),'postes occupés'!$G:$G,'postes occupés'!$E:$E) -> 43816 | R31: 45229 | S31: =IF(J31="CDI",IF(ISNUMBER(R31),EDATE(R31,12),EDATE(Q31,12)),WORKDAY(K31,-15,JOURSFERIEES)) -> 45595 | T31: =IF(S31<AUJ,NETWORKDAYS(S31,AUJ,JOURSFERIEES),"") -> 26 | U31: 26 | V31: {=_xlfn.IFS(AND(U31<20,X31>10),"Urgent",OR(U31<20,W31<10,X31>10),"Yes",TRUE,"")} | W31: =COUNTIF(employee_work_schedule!$A:$A,employés!A31) -> 22 | X31: =COUNTIFS(employee_work_schedule!$A:$A,employés!A31,employee_work_schedule!$G:$G,">06:00:00") -> 7
A32: P1192 | B32: Khan | C32: Mihael | D32: =LOWER(_xlfn.CONCAT(C32,".",B32,"@pushpin.com")) -> mihael.khan@pushpin.com | E32: =PROPER(_xlfn.CONCAT(C32," ",B32)) -> Mihael Khan | F32: 24264 | G32: =ROUNDDOWN(YEARFRAC(F32,AUJ),0) -> 58 | H32: 44908 | I32: =ROUNDDOWN(YEARFRAC(H32,AUJ),0) -> 1 | J32: CDD | K32: 45657 | L32: 02-North 2294 | M32: =_xlfn.XLOOKUP(_xlfn.CONCAT(A32,"-",N32),'postes occupés'!G:G,'postes occupés'!D:D,"",0) -> Sales | N32: P342 | O32: =VLOOKUP(N32,Postes,2,FALSE) -> Sales person | P32: =VLOOKUP(N32,Postes,5,FALSE) -> 35000 | Q32: =_xlfn.XLOOKUP(_xlfn.CONCAT(A32,"-",N32),'postes occupés'!$G:$G,'postes occupés'!$E:$E) -> 44908 | S32: =IF(J32="CDI",IF(ISNUMBER(R32),EDATE(R32,12),EDATE(Q32,12)),WORKDAY(K32,-15,JOURSFERIEES)) -> 45635 | T32: =IF(S32<AUJ,NETWORKDAYS(S32,AUJ,JOURSFERIEES),"") | U32: 15 | V32: {=_xlfn.IFS(AND(U32<20,X32>10),"Urgent",OR(U32<20,W32<10,X32>10),"Yes",TRUE,"")} -> Yes | W32: =COUNTIF(employee_work_schedule!$A:$A,employés!A32) -> 18 | X32: =COUNTIFS(employee_work_schedule!$A:$A,employés!A32,employee_work_schedule!$G:$G,">06:00:00") -> 9
A33: P1249 | B33: SANDERS | C33: Sean | D33: =LOWER(_xlfn.CONCAT(C33,".",B33,"@pushpin.com")) -> sean.sanders@pushpin.com | E33: =PROPER(_xlfn.CONCAT(C33," ",B33)) -> Sean Sanders | F33: 23486 | G33: =ROUNDDOWN(YEARFRAC(F33,AUJ),0) -> 60 | H33: 42691 | I33: =ROUNDDOWN(YEARFRAC(H33,AUJ),0) -> 8 | J33: CDI | L33: 03-West 2765 | M33: =_xlfn.XLOOKUP(_xlfn.CONCAT(A33,"-",N33),'postes occupés'!G:G,'postes occupés'!D:D,"",0) -> Human Resources | N33: P265 | O33: =VLOOKUP(N33,Postes,2,FALSE) -> HR Assistant | P33: =VLOOKUP(N33,Postes,5,FALSE) -> 40000 | Q33: =_xlfn.XLOOKUP(_xlfn.CONCAT(A33,"-",N33),'postes occupés'!$G:$G,'postes occupés'!$E:$E) -> 42691 | R33: 45231 | S33: =IF(J33="CDI",IF(ISNUMBER(R33),EDATE(R33,12),EDATE(Q33,12)),WORKDAY(K33,-15,JOURSFERIEES)) -> 45597 | T33: =IF(S33<AUJ,NETWORKDAYS(S33,AUJ,JOURSFERIEES),"") -> 24 | U33: 21 | V33: {=_xlfn.IFS(AND(U33<20,X33>10),"Urgent",OR(U33<20,W33<10,X33>10),"Yes",TRUE,"")} | W33: =COUNTIF(employee_work_schedule!$A:$A,employés!A33) -> 16 | X33: =COUNTIFS(employee_work_schedule!$A:$A,employés!A33,employee_work_schedule!$G:$G,">06:00:00") -> 4
A34: P1245 | B34: Senome | C34: Radhya | D34: =LOWER(_xlfn.CONCAT(C34,".",B34,"@pushpin.com")) -> radhya.senome@pushpin.com | E34: =PROPER(_xlfn.CONCAT(C34," ",B34)) -> Radhya Senome | F34: 20196 | G34: =ROUNDDOWN(YEARFRAC(F34,AUJ),0) -> 69 | H34: 43785 | I34: =ROUNDDOWN(YEARFRAC(H34,AUJ),0) -> 5 | J34: CDI | L34: 02-North 2260 | M34: =_xlfn.XLOOKUP(_xlfn.CONCAT(A34,"-",N34),'postes occupés'!G:G,'postes occupés'!D:D,"",0) -> Sales | N34: P342 | O34: =VLOOKUP(N34,Postes,2,FALSE) -> Sales person | P34: =VLOOKUP(N34,Postes,5,FALSE) -> 35000 | Q34: =_xlfn.XLOOKUP(_xlfn.CONCAT(A34,"-",N34),'postes occupés'!$G:$G,'postes occupés'!$E:$E) -> 43785 | R34: 45231 | S34: =IF(J34="CDI",IF(ISNUMBER(R34),EDATE(R34,12),EDATE(Q34,12)),WORKDAY(K34,-15,JOURSFERIEES)) -> 45597 | T34: =IF(S34<AUJ,NETWORKDAYS(S34,AUJ,JOURSFERIEES),"") -> 24 | U34: 32 | V34: {=_xlfn.IFS(AND(U34<20,X34>10),"Urgent",OR(U34<20,W34<10,X34>10),"Yes",TRUE,"")} | W34: =COUNTIF(employee_work_schedule!$A:$A,employés!A34) -> 16 | X34: =COUNTIFS(employee_work_schedule!$A:$A,employés!A34,employee_work_schedule!$G:$G,">06:00:00") -> 6
A35: P1207 | B35: Song | C35: Natasha | D35: =LOWER(_xlfn.CONCAT(C35,".",B35,"@pushpin.com")) -> natasha.song@pushpin.com | E35: =PROPER(_xlfn.CONCAT(C35," ",B35)) -> Natasha Song | F35: 32181 | G35: =ROUNDDOWN(YEARFRAC(F35,AUJ),0) -> 36 | H35: 44366 | I35: =ROUNDDOWN(YEARFRAC(H35,AUJ),0) -> 3 | J35: CDD | K35: 45657 | L35: 02-West 2578 | M35: =_xlfn.XLOOKUP(_xlfn.CONCAT(A35,"-",N35),'postes occupés'!G:G,'postes occupés'!D:D,"",0) -> Sales | N35: P342 | O35: =VLOOKUP(N35,Postes,2,FALSE) -> Sales person | P35: =VLOOKUP(N35,Postes,5,FALSE) -> 35000 | Q35: =_xlfn.XLOOKUP(_xlfn.CONCAT(A35,"-",N35),'postes occupés'!$G:$G,'postes occupés'!$E:$E) -> 44366 | R35: 45077 | S35: =IF(J35="CDI",IF(ISNUMBER(R35),EDATE(R35,12),EDATE(Q35,12)),WORKDAY(K35,-15,JOURSFERIEES)) -> 45635 | T35: =IF(S35<AUJ,NETWORKDAYS(S35,AUJ,JOURSFERIEES),"") | U35: 5 | V35: {=_xlfn.IFS(AND(U35<20,X35>10),"Urgent",OR(U35<20,W35<10,X35>10),"Yes",TRUE,"")} -> Yes | W35: =COUNTIF(employee_work_schedule!$A:$A,employés!A35) -> 13 | X35: =COUNTIFS(employee_work_schedule!$A:$A,employés!A35,employee_work_schedule!$G:$G,">06:00:00") -> 5
A36: P1244 | B36: Staples | C36: Peter | D36: =LOWER(_xlfn.CONCAT(C36,".",B36,"@pushpin.com")) -> peter.staples@pushpin.com | E36: =PROPER(_xlfn.CONCAT(C36," ",B36)) -> Peter Staples | F36: 22801 | G36: =ROUNDDOWN(YEARFRAC(F36,AUJ),0) -> 62 | H36: 43417 | I36: =ROUNDDOWN(YEARFRAC(H36,AUJ),0) -> 6 | J36: CDI | L36: 02-North 2654 | M36: =_xlfn.XLOOKUP(_xlfn.CONCAT(A36,"-",N36),'postes occupés'!G:G,'postes occupés'!D:D,"",0) -> Sales | N36: P651 | O36: =VLOOKUP(N36,Postes,2,FALSE) -> Project Manager | P36: =VLOOKUP(N36,Postes,5,FALSE) -> 45000 | Q36: =_xlfn.XLOOKUP(_xlfn.CONCAT(A36,"-",N36),'postes occupés'!$G:$G,'postes occupés'!$E:$E) -> 44148 | R36: 45139 | S36: =IF(J36="CDI",IF(ISNUMBER(R36),EDATE(R36,12),EDATE(Q36,12)),WORKDAY(K36,-15,JOURSFERIEES)) -> 45505 | T36: =IF(S36<AUJ,NETWORKDAYS(S36,AUJ,JOURSFERIEES),"") -> 89 | U36: 21 | V36: {=_xlfn.IFS(AND(U36<20,X36>10),"Urgent",OR(U36<20,W36<10,X36>10),"Yes",TRUE,"")} -> Yes | W36: =COUNTIF(employee_work_schedule!$A:$A,employés!A36) -> 16 | X36: =COUNTIFS(employee_work_schedule!$A:$A,employés!A36,employee_work_schedule!$G:$G,">06:00:00") -> 12
A37: F1252 | B37: WANG | C37: Mei | D37: =LOWER(_xlfn.CONCAT(C37,".",B37,"@pushpin.com")) -> mei.wang@pushpin.com | E37: =PROPER(_xlfn.CONCAT(C37," ",B37)) -> Mei Wang | F37: 24388 | G37: =ROUNDDOWN(YEARFRAC(F37,AUJ),0) -> 58 | H37: 44936 | I37: =ROUNDDOWN(YEARFRAC(H37,AUJ),0) -> 1 | J37: CDD | K37: 45657 | L37: 01-West 2783 | M37: =_xlfn.XLOOKUP(_xlfn.CONCAT(A37,"-",N37),'postes occupés'!G:G,'postes occupés'!D:D,"",0) -> Executive | N37: P731 | O37: =VLOOKUP(N37,Postes,2,FALSE) -> Assistant | P37: =VLOOKUP(N37,Postes,5,FALSE) -> 30000 | Q37: =_xlfn.XLOOKUP(_xlfn.CONCAT(A37,"-",N37),'postes occupés'!$G:$G,'postes occupés'!$E:$E) -> 44936 | S37: =IF(J37="CDI",IF(ISNUMBER(R37),EDATE(R37,12),EDATE(Q37,12)),WORKDAY(K37,-15,JOURSFERIEES)) -> 45635 | T37: =IF(S37<AUJ,NETWORKDAYS(S37,AUJ,JOURSFERIEES),"") | U37: 25 | V37: {=_xlfn.IFS(AND(U37<20,X37>10),"Urgent",OR(U37<20,W37<10,X37>10),"Yes",TRUE,"")} | W37: =COUNTIF(employee_work_schedule!$A:$A,employés!A37) -> 18 | X37: =COUNTIFS(employee_work_schedule!$A:$A,employés!A37,employee_work_schedule!$G:$G,">06:00:00") -> 9
A38: F1237 | B38: Zhang | C38: Aanya | D38: =LOWER(_xlfn.CONCAT(C38,".",B38,"@pushpin.com")) -> aanya.zhang@pushpin.com | E38: =PROPER(_xlfn.CONCAT(C38," ",B38)) -> Aanya Zhang | F38: 31292 | G38: =ROUNDDOWN(YEARFRAC(F38,AUJ),0) -> 39 | H38: 44924 | I38: =ROUNDDOWN(YEARFRAC(H38,AUJ),0) -> 1 | J38: CDD | K38: 45688 | L38: 02-North 2793 | M38: =_xlfn.XLOOKUP(_xlfn.CONCAT(A38,"-",N38),'postes occupés'!G:G,'postes occupés'!D:D,"",0) -> Sales | N38: P342 | O38: =VLOOKUP(N38,Postes,2,FALSE) -> Sales person | P38: =VLOOKUP(N38,Postes,5,FALSE) -> 35000 | Q38: =_xlfn.XLOOKUP(_xlfn.CONCAT(A38,"-",N38),'postes occupés'!$G:$G,'postes occupés'!$E:$E) -> 44924 | S38: =IF(J38="CDI",IF(ISNUMBER(R38),EDATE(R38,12),EDATE(Q38,12)),WORKDAY(K38,-15,JOURSFERIEES)) -> 45667 | T38: =IF(S38<AUJ,NETWORKDAYS(S38,AUJ,JOURSFERIEES),"") | U38: 14 | V38: {=_xlfn.IFS(AND(U38<20,X38>10),"Urgent",OR(U38<20,W38<10,X38>10),"Yes",TRUE,"")} -> Yes | W38: =COUNTIF(employee_work_schedule!$A:$A,employés!A38) -> 11 | X38: =COUNTIFS(employee_work_schedule!$A:$A,employés!A38,employee_work_schedule!$G:$G,">06:00:00") -> 10

Sheet postes
A1: Position ID | B1: Position | C1: Domain | D1: Grad? | E1: Base Salary (annual) | F1: Days off per year
A2: P342 | B2: Sales person | C2: Marketing | D2: No | E2: 35000 | F2: 35
A3: P924 | B3: Business Analyst | C3: Marketing | D3: Yes | E3: 45000 | F3: 40
A4: P638 | B4: Business Analyst | C4: IT | D4: Yes | E4: 40000 | F4: 40
A5: P778 | B5: Product Owner | C5: Marketing | D5: Yes | E5: 45000 | F5: 40
A6: P993 | B6: Developper | C6: IT | D6: Yes | E6: 40000 | F6: 40
A7: P890 | B7: Project Manager | C7: IT | D7: Yes | E7: 45000 | F7: 40
A8: P651 | B8: Project Manager | C8: Marketing | D8: Yes | E8: 45000 | F8: 40
A9: P999 | B9: Data Officer | C9: IT | D9: Yes | E9: 40000 | F9: 40
A10: P104 | B10: PMO | C10: IT | D10: Yes | E10: 40000 | F10: 40
A11: P875 | B11: Accountant | C11: Accounting | D11: Yes | E11: 45000 | F11: 40
A12: P731 | B12: Assistant | D12: No | E12: 30000 | F12: 35
A13: P265 | B13: HR Assistant | C13: HR | D13: Yes | E13: 40000 | F13: 40
A14: P897 | B14: HR Manager | C14: HR | D14: Yes | E14: 50000 | F14: 40
A15: P184 | B15: Accountant Assistant | C15: Accounting | D15: Yes | E15: 40000 | F15: 40
A16: P267 | B16: Manager | D16: Yes | E16: 50000 | F16: 40
A17: P958 | B17: PMO Assistant | C17: IT | D17: Yes | E17: 35000 | F17: 40
A18: P931 | B18: Intership / alternantship | D18: No | E18: 20000 | F18: 35
A19: P181 | B19: IT Support | C19: IT | D19: Yes | E19: 35000 | F19: 40

Sheet postes occupés
A1: Emp ID | B1: Position ID | C1: Position | D1: Department | E1: Start date | F1: End date | G1: Code position
A2: F1180 | B2: P342 | C2: =VLOOKUP(B2,Postes,2,FALSE) -> Sales person | D2: Sales | E2: 42838 | G2: =_xlfn.CONCAT(A2,"-",B2) -> F1180-P342
A3: F1110 | B3: P731 | C3: =VLOOKUP(B3,Postes,2,FALSE) -> Assistant | D3: Customer Service | E3: 42979 | G3: =_xlfn.CONCAT(A3,"-",B3) -> F1110-P731
A4: F1232 | B4: P342 | C4: =VLOOKUP(B4,Postes,2,FALSE) -> Sales person | D4: Sales | E4: 43782 | F4: 45688 | G4: =_xlfn.CONCAT(A4,"-",B4) -> F1232-P342
A5: P1243 | B5: P897 | C5: =VLOOKUP(B5,Postes,2,FALSE) -> HR Manager | D5: Human Resources | E5: 45170 | G5: =_xlfn.CONCAT(A5,"-",B5) -> P1243-P897
A6: P1248 | B6: P924 | C6: =VLOOKUP(B6,Postes,2,FALSE) -> Business Analyst | D6: Sales | E6: 42384 | G6: =_xlfn.CONCAT(A6,"-",B6) -> P1248-P924
A7: P1227 | B7: P875 | C7: =VLOOKUP(B7,Postes,2,FALSE) -> Accountant | D7: Accounting | E7: 41893 | G7: =_xlfn.CONCAT(A7,"-",B7) -> P1227-P875
A8: P1230 | B8: P731 | C8: =VLOOKUP(B8,Postes,2,FALSE) -> Assistant | D8: Sales | E8: 44095 | F8: 45900 | G8: =_xlfn.CONCAT(A8,"-",B8) -> P1230-P731
A9: F1162 | B9: P651 | C9: =VLOOKUP(B9,Postes,2,FALSE) -> Project Manager | D9: Sales | E9: 43344 | G9: =_xlfn.CONCAT(A9,"-",B9) -> F1162-P651
A10: P1001 | B10: P267 | C10: =VLOOKUP(B10,Postes,2,FALSE) -> Manager | D10: Executive | E10: 43497 | G10: =_xlfn.CONCAT(A10,"-",B10) -> P1001-P267
A11: F1224 | B11: P181 | C11: =VLOOKUP(B11,Postes,2,FALSE) -> IT Support | D11: Facilities | E11: 42278 | F11: 44135 | G11: =_xlfn.CONCAT(A11,"-",B11) -> F1224-P181
A12: P1203 | B12: P931 | C12: =VLOOKUP(B12,Postes,2,FALSE) -> Intership / alternantship | D12: Sales | E12: 44978 | F12: 45688 | G12: =_xlfn.CONCAT(A12,"-",B12) -> P1203-P931
A13: P1211 | B13: P265 | C13: =VLOOKUP(B13,Postes,2,FALSE) -> HR Assistant | D13: Human Resources | E13: 44646 | F13: 45716 | G13: =_xlfn.CONCAT(A13,"-",B13) -> P1211-P265
A14: P1198 | B14: P993 | C14: =VLOOKUP(B14,Postes,2,FALSE) -> Developper | D14: IT | E14: 44238 | F14: 45688 | G14: =_xlfn.CONCAT(A14,"-",B14) -> P1198-P993
A15: F1003 | B15: P993 | C15: =VLOOKUP(B15,Postes,2,FALSE) -> Developper | D15: IT | E15: 44984 | F15: 45688 | G15: =_xlfn.CONCAT(A15,"-",B15) -> F1003-P993
A16: F1235 | B16: P875 | C16: =VLOOKUP(B16,Postes,2,FALSE) -> Accountant | D16: Accounting | E16: 43709 | G16: =_xlfn.CONCAT(A16,"-",B16) -> F1235-P875
A17: P1253 | B17: P731 | C17: =VLOOKUP(B17,Postes,2,FALSE) -> Assistant | D17: Customer Service | E17: 43841 | G17: =_xlfn.CONCAT(A17,"-",B17) -> P1253-P731
A18: P1221 | B18: P931 | C18: =VLOOKUP(B18,Postes,2,FALSE) -> Intership / alternantship | D18: Customer Service | E18: 45053 | F18: 45777 | G18: =_xlfn.CONCAT(A18,"-",B18) -> P1221-P931
A19: F1186 | B19: P265 | C19: =VLOOKUP(B19,Postes,2,FALSE) -> HR Assistant | D19: Human Resources | E19: 42644 | G19: =_xlfn.CONCAT(A19,"-",B19) -> F1186-P265
A20: P1218 | B20: P890 | C20: =VLOOKUP(B20,Postes,2,FALSE) -> Project Manager | D20: IT | E20: 44862 | F20: 45626 | G20: =_xlfn.CONCAT(A20,"-",B20) -> P1218-P890
A21: F1215 | B21: P993 | C21: =VLOOKUP(B21,Postes,2,FALSE) -> Developper | D21: IT | E21: 44827 | F21: 45657 | G21: =_xlfn.CONCAT(A21,"-",B21) -> F1215-P993
A22: P1241 | B22: P184 | C22: =VLOOKUP(B22,Postes,2,FALSE) -> Accountant Assistant | D22: Accounting | E22: 42228 | G22: =_xlfn.CONCAT(A22,"-",B22) -> P1241-P184
A23: F1246 | B23: P104 | C23: =VLOOKUP(B23,Postes,2,FALSE) -> PMO | D23: IT | E23: 44105 | G23: =_xlfn.CONCAT(A23,"-",B23) -> F1246-P104
A24: F1172 | B24: P184 | C24: =VLOOKUP(B24,Postes,2,FALSE) -> Accountant Assistant | D24: Accounting | E24: 42676 | G24: =_xlfn.CONCAT(A24,"-",B24) -> F1172-P184
A25: F1134 | B25: P267 | C25: =VLOOKUP(B25,Postes,2,FALSE) -> Manager | D25: Sales | E25: 43748 | G25: =_xlfn.CONCAT(A25,"-",B25) -> F1134-P267
A26: F1150 | B26: P181 | C26: =VLOOKUP(B26,Postes,2,FALSE) -> IT Support | D26: Customer Service | E26: 42762 | G26: =_xlfn.CONCAT(A26,"-",B26) -> F1150-P181
A27: P1004 | B27: P731 | C27: =VLOOKUP(B27,Postes,2,FALSE) -> Assistant | D27: Sales | E27: 42624 | G27: =_xlfn.CONCAT(A27,"-",B27) -> P1004-P731
A28: F1239 | B28: P181 | C28: =VLOOKUP(B28,Postes,2,FALSE) -> IT Support | D28: Sales | E28: 43216 | G28: =_xlfn.CONCAT(A28,"-",B28) -> F1239-P181
A29: F1250 | B29: P342 | C29: =VLOOKUP(B29,Postes,2,FALSE) -> Sales person | D29: Sales | E29: 43816 | G29: =_xlfn.CONCAT(A29,"-",B29) -> F1250-P342
A30: P1192 | B30: P342 | C30: =VLOOKUP(B30,Postes,2,FALSE) -> Sales person | D30: Sales | E30: 44908 | F30: 45626 | G30: =_xlfn.CONCAT(A30,"-",B30) -> P1192-P342
A31: P1249 | B31: P265 | C31: =VLOOKUP(B31,Postes,2,FALSE) -> HR Assistant | D31: Human Resources | E31: 42691 | G31: =_xlfn.CONCAT(A31,"-",B31) -> P1249-P265
A32: P1245 | B32: P342 | C32: =VLOOKUP(B32,Postes,2,FALSE) -> Sales person | D32: Sales | E32: 43785 | G32: =_xlfn.CONCAT(A32,"-",B32) -> P1245-P342
A33: P1207 | B33: P342 | C33: =VLOOKUP(B33,Postes,2,FALSE) -> Sales person | D33: Sales | E33: 44366 | F33: 45657 | G33: =_xlfn.CONCAT(A33,"-",B33) -> P1207-P342
A34: P1244 | B34: P651 | C34: =VLOOKUP(B34,Postes,2,FALSE) -> Project Manager | D34: Sales | E34: 44148 | G34: =_xlfn.CONCAT(A34,"-",B34) -> P1244-P651
A35: F1252 | B35: P731 | C35: =VLOOKUP(B35,Postes,2,FALSE) -> Assistant | D35: Executive | E35: 44936 | F35: 45657 | G35: =_xlfn.CONCAT(A35,"-",B35) -> F1252-P731
A36: F1237 | B36: P342 | C36: =VLOOKUP(B36,Postes,2,FALSE) -> Sales person | D36: Sales | E36: 44924 | F36: 45626 | G36: =_xlfn.CONCAT(A36,"-",B36) -> F1237-P342
A37: F1224 | B37: P931 | C37: =VLOOKUP(B37,Postes,2,FALSE) -> Intership / alternantship | D37: IT | E37: 41787 | G37: =_xlfn.CONCAT(A37,"-",B37) -> F1224-P931
A38: F1110 | B38: P342 | C38: =VLOOKUP(B38,Postes,2,FALSE) -> Sales person | D38: Customer Service | E38: 41751 | F38: 42977 | G38: =_xlfn.CONCAT(A38,"-",B38) -> F1110-P342
A39: P1243 | B39: P731 | C39: =VLOOKUP(B39,Postes,2,FALSE) -> Assistant | D39: Human Resources | E39: 42229 | F39: 43342 | G39: =_xlfn.CONCAT(A39,"-",B39) -> P1243-P731
A40: F1162 | B40: P731 | C40: =VLOOKUP(B40,Postes,2,FALSE) -> Assistant | D40: Sales | E40: 42451 | F40: 43342 | G40: =_xlfn.CONCAT(A40,"-",B40) -> F1162-P731
A41: F1235 | B41: P184 | C41: =VLOOKUP(B41,Postes,2,FALSE) -> Accountant Assistant | D41: Accounting | E41: 41989 | F41: 43707 | G41: =_xlfn.CONCAT(A41,"-",B41) -> F1235-P184
A42: F1186 | B42: P931 | C42: =VLOOKUP(B42,Postes,2,FALSE) -> Intership / alternantship | D42: Human Resources | E42: 42241 | F42: 42643 | G42: =_xlfn.CONCAT(A42,"-",B42) -> F1186-P931
A43: F1246 | B43: P931 | C43: =VLOOKUP(B43,Postes,2,FALSE) -> Intership / alternantship | D43: IT | E43: 42371 | F43: 42977 | G43: =_xlfn.CONCAT(A43,"-",B43) -> F1246-P931
A44: F1246 | B44: P890 | C44: =VLOOKUP(B44,Postes,2,FALSE) -> Project Manager | D44: IT | E44: 42979 | F44: 42643 | G44: =_xlfn.CONCAT(A44,"-",B44) -> F1246-P890
A45: F1134 | B45: P342 | C45: =VLOOKUP(B45,Postes,2,FALSE) -> Sales person | D45: Sales | E45: 42200 | F45: 43747 | G45: =_xlfn.CONCAT(A45,"-",B45) -> F1134-P342
A46: P1244 | B46: P342 | C46: =VLOOKUP(B46,Postes,2,FALSE) -> Sales person | D46: Sales | E46: 43417 | F46: 44116 | G46: =_xlfn.CONCAT(A46,"-",B46) -> P1244-P342
A47: P1243 | B47: P265 | C47: =VLOOKUP(B47,Postes,2,FALSE) -> HR Assistant | D47: Human Resources | E47: 43342 | G47: =_xlfn.CONCAT(A47,"-",B47) -> P1243-P265

Sheet working days
A1: Month | C1: oct | F1: Code | G1: V | H1: Vacation | J1: P | K1: congé parentale | N1: C | O1: autres congés | R1: W | S1: week-end
G2: R | H2: RTT | J2: M | K2: congé maladie | N2: A | O2: absent
A4: ID EMP | B4: Days off | C4: 1 | D4: 2 | E4: 3 | F4: 4 | G4: 5 | H4: 6 | I4: 7 | J4: 8 | K4: 9 | L4: 10 | M4: 11 | N4: 12 | O4: 13 | P4: 14 | Q4: 15 | R4: 16 | S4: 17 | T4: 18 | U4: 19 | V4: 20 | W4: 21 | X4: 22 | Y4: 23 | Z4: 24 | AA4: 25 | AB4: 26 | AC4: 27 | AD4: 28 | AE4: 29 | AF4: 30 | AG4: 31
A5: F1180 | B5: =COUNTIF(C5:AG5,$G$1) -> 2 | C5: W | H5: R | I5: W | J5: W | P5: W | Q5: W | W5: W | X5: W | AD5: W | AE5: W | AF5: V | AG5: V
A6: F1110 | B6: =COUNTIF(C6:AG6,$G$1) -> 0 | C6: W | I6: W | J6: W | P6: W | Q6: W | W6: W | X6: W | AC6: R | AD6: W | AE6: W
A7: F1232 | B7: =COUNTIF(C7:AG7,$G$1) -> 3 | C7: W | D7: V | I7: W | J7: W | P7: W | Q7: W | W7: W | X7: W | AD7: W | AE7: W | AF7: V | AG7: V
A8: P1243 | B8: =COUNTIF(C8:AG8,$G$1) -> 0 | C8: W | H8: R | I8: W | J8: W | P8: W | Q8: W | W8: W | X8: W | AD8: W | AE8: W
A9: P1248 | B9: =COUNTIF(C9:AG9,$G$1) -> 3 | C9: W | D9: V | I9: W | J9: W | P9: W | Q9: W | W9: W | X9: W | AD9: W | AE9: W | AF9: V | AG9: V
A10: P1227 | B10: =COUNTIF(C10:AG10,$G$1) -> 5 | C10: W | I10: W | J10: W | K10: V | L10: V | M10: V | N10: V | O10: V | P10: W | Q10: W | W10: W | X10: W | AC10: R | AD10: W | AE10: W
A11: P1230 | B11: =COUNTIF(C11:AG11,$G$1) -> 0 | C11: W | I11: W | J11: W | P11: W | Q11: W | T11: P | U11: P | V11: P | W11: W | X11: W | AD11: W | AE11: W
A12: F1162 | B12: =COUNTIF(C12:AG12,$G$1) -> 2 | C12: W | I12: W | J12: W | P12: W | Q12: W | W12: W | X12: W | AD12: W | AE12: W | AF12: V | AG12: V
A13: P1001 | B13: =COUNTIF(C13:AG13,$G$1) -> 0 | C13: W | D13: R | I13: W | J13: W | P13: W | Q13: W | W13: W | X13: W | AD13: W | AE13: W
A14: F1224 | B14: =COUNTIF(C14:AG14,$G$1) -> 7 | C14: W | I14: W | J14: W | P14: W | Q14: W | W14: W | X14: W | Y14: V | Z14: V | AA14: V | AB14: V | AC14: V | AD14: W | AE14: W | AF14: V | AG14: V
A15: P1203 | B15: =COUNTIF(C15:AG15,$G$1) -> 0 | C15: W | I15: W | J15: W | P15: W | Q15: W | W15: W | X15: W | AD15: W | AE15: W
A16: P1211 | B16: =COUNTIF(C16:AG16,$G$1) -> 2 | C16: W | H16: A | I16: W | J16: W | K16: M | P16: W | Q16: W | W16: W | X16: W | AD16: W | AE16: W | AF16: V | AG16: V
A17: P1198 | B17: =COUNTIF(C17:AG17,$G$1) -> 0 | C17: W | I17: W | J17: W | P17: W | Q17: W | W17: W | X17: W | AD17: W | AE17: W
A18: F1003 | B18: =COUNTIF(C18:AG18,$G$1) -> 3 | C18: W | I18: W | J18: W | P18: W | Q18: W | V18: V | W18: W | X18: W | Y18: V | Z18: V | AD18: W | AE18: W
A19: F1235 | B19: =COUNTIF(C19:AG19,$G$1) -> 0 | C19: W | D19: R | I19: W | J19: W | P19: W | Q19: W | W19: W | X19: W | AD19: W | AE19: W
A20: P1253 | B20: =COUNTIF(C20:AG20,$G$1) -> 0 | C20: W | I20: W | J20: W | P20: W | Q20: W | W20: W | X20: W | AD20: W | AE20: W
A21: P1221 | B21: =COUNTIF(C21:AG21,$G$1) -> 2 | C21: W | I21: W | J21: W | K21: M | L21: M | M21: M | N21: M | O21: M | P21: W | Q21: W | R21: M | W21: W | X21: W | AD21: W | AE21: W | AF21: V | AG21: V
A22: F1186 | B22: =COUNTIF(C22:AG22,$G$1) -> 2 | C22: W | I22: W | J22: W | P22: W | Q22: W | W22: W | X22: W | AC22: R | AD22: W | AE22: W | AF22: V | AG22: V
A23: P1218 | B23: =COUNTIF(C23:AG23,$G$1) -> 5 | C23: W | D23: V | E23: V | F23: V | G23: V | H23: V | I23: W | J23: W | P23: W | Q23: W | W23: W | X23: W | AD23: W | AE23: W
A24: F1215 | B24: =COUNTIF(C24:AG24,$G$1) -> 0 | C24: W | H24: R | I24: W | J24: W | P24: W | Q24: W | W24: W | X24: W | AD24: W | AE24: W
A25: P1241 | B25: =COUNTIF(C25:AG25,$G$1) -> 0 | C25: W | I25: W | J25: W | K25: C | L25: C | M25: C | N25: C | O25: C | P25: W | Q25: W | W25: W | X25: W | AD25: W | AE25: W
A26: F1246 | B26: =COUNTIF(C26:AG26,$G$1) -> 7 | C26: W | I26: W | J26: W | P26: W | Q26: W | W26: W | X26: W | Y26: V | Z26: V | AA26: V | AB26: V | AC26: V | AD26: W | AE26: W | AF26: V | AG26: V
A27: F1172 | B27: =COUNTIF(C27:AG27,$G$1) -> 0 | C27: W | I27: W | J27: W | P27: W | Q27: W | W27: W | X27: W | AD27: W | AE27: W
A28: F1134 | B28: =COUNTIF(C28:AG28,$G$1) -> 0 | C28: W | I28: W | J28: W | O28: R | P28: W | Q28: W | R28: R | W28: W | X28: W | AD28: W | AE28: W
A29: F1150 | B29: =COUNTIF(C29:AG29,$G$1) -> 0 | C29: P | D29: P | E29: P | F29: P | G29: P | H29: P | I29: P | J29: P | K29: P | L29: P | M29: P | N29: P | O29: P | P29: P | Q29: P | R29: P | S29: P | T29: P | U29: P | V29: P | W29: P | X29: P | Y29: P | Z29: P | AA29: P | AB29: P | AC29: P | AD29: P | AE29: P | AF29: P | AG29: P
A30: P1004 | B30: =COUNTIF(C30:AG30,$G$1) -> 2 | C30: W | I30: W | J30: W | P30: W | Q30: W | W30: W | X30: W | AD30: W | AE30: W | AF30: V | AG30: V
A31: F1239 | B31: =COUNTIF(C31:AG31,$G$1) -> 0 | C31: W | I31: W | J31: W | P31: W | Q31: W | W31: W | X31: W | AC31: R | AD31: W | AE31: W
A32: F1250 | B32: =COUNTIF(C32:AG32,$G$1) -> 5 | C32: W | D32: V | E32: V | F32: V | G32: V | H32: V | I32: W | J32: W | P32: W | Q32: W | W32: W | X32: W | AD32: W | AE32: W
A33: P1192 | B33: =COUNTIF(C33:AG33,$G$1) -> 0 | C33: W | I33: W | J33: W | P33: W | Q33: W | W33: W | X33: W | Y33: A | AD33: W | AE33: W
A34: P1249 | B34: =COUNTIF(C34:AG34,$G$1) -> 2 | C34: W | I34: W | J34: W | P34: W | Q34: W | W34: W | X34: W | AD34: W | AE34: W | AF34: V | AG34: V
A35: P1245 | B35: =COUNTIF(C35:AG35,$G$1) -> 3 | C35: W | I35: W | J35: W | P35: W | Q35: W | R35: R | S35: V | T35: V | U35: V | V35: R | W35: W | X35: W | AD35: W | AE35: W
A36: P1207 | B36: =COUNTIF(C36:AG36,$G$1) -> 0 | C36: W | I36: W | J36: W | P36: W | Q36: W | W36: W | X36: W | AD36: W | AE36: W
A37: P1244 | B37: =COUNTIF(C37:AG37,$G$1) -> 0 | C37: W | F37: A | G37: A | I37: W | J37: W | P37: W | Q37: W | W37: W | X37: W | AD37: W | AE37: W
A38: F1252 | B38: =COUNTIF(C38:AG38,$G$1) -> 2 | C38: W | I38: W | J38: W | P38: W | Q38: W | W38: W | X38: W | AD38: W | AE38: W | AF38: V | AG38: V
A39: F1237 | B39: =COUNTIF(C39:AG39,$G$1) -> 0 | C39: W | I39: W | J39: W | M39: A | P39: W | Q39: W | W39: W | X39: W | AD39: W | AE39: W

Sheet hollidays
B1: Hollidays | C1: Year | D1: 2024
A2: 45292 | B2: Jour de l'An
A3: 45392 | B3: Lundi de Pâques
A4: 45413 | B4: Fête du Travail
A5: 45420 | B5: Victoire 1945
A6: 45430 | B6: Ascension
A7: 45441 | B7: Pentecôte
A8: 45487 | B8: Fête nationale
A9: 45519 | B9: Assomption
A10: 45597 | B10: Toussaint
A11: 45607 | B11: Armistice 1918
A12: 45651 | B12: Noël
