Workbook
Name ChronologieNative_Date_Début: #N/A
Name CO2_Train: 'Valeurs de référence'!$E$2
Name Dernier_contrat: Contrats!$H:$H
Name Domaine_Deplacements: Deplacements!$L:$L
Name Factures: 'Valeurs de référence'!$G$2:$G$3
Name Immat_voitures: voitures_declarees!$M:$M
Name Jours_Fériés: 'Jours fériés'!$A$2:$A$23
Name Matr: Consultants!$A:$A
Name Matr_Contrats: Contrats!$A:$A
Name Matr_Deplacements: Deplacements!$A:$A
Name Moyens: 'Valeurs de référence'!$D$2:$D$3
Name nom_commune: villes_clients!$C:$C
Name Nuitée: 'Valeurs de référence'!$B$2:$B$6
Name Num_Projet: Projets!$A:$A
Name Num_Projet_Depl: Deplacements!$B:$B
Name PlageDeplacements: OFFSET(Deplacements!$A$1,0,0,COUNTA(Deplacements!$A:$A), COUNTA(Deplacements!$1:$1))
Name Segment_Domaine: #N/A
Name Segment_Moyen: #N/A
Name Seuil_population: 'Valeurs de référence'!$A$2:$A$6

Sheet Consultants
A1: Matr | B1: Nom | C1: Date naissance | D1: Dernier Bilan | E1: Début contrat actuel | F1: Type Contrat | G1: Fin contrat actuel | H1: Prochain Bilan | K1: formules | M1: type | N1: date fin
A2: 3137 | B2: Élise Jean | C2: 31413 | D2: 46172 | E2: =_xlfn.MAXIFS(Contrats!F:F,Matr_Contrats,Consultants!$A2) -> 45833 | F2: =_xlfn.XLOOKUP(_xlfn.CONCAT($A2,"-",$E2),Dernier_contrat,Contrats!B:B,"",0) -> CDD | G2: =IF(F2="CDI","",_xlfn.XLOOKUP(_xlfn.CONCAT($A2,"-",$E2),Dernier_contrat,Contrats!G:G,"",0)) -> 46553 | H2: =IF(ISBLANK(D2), IF(EDATE(E2,12) < TODAY(), WORKDAY(TODAY(),5,Jours_Fériés), EDATE(E2,12) ), IF( G2 < EDATE(D2,12), WORKDAY(G2,-15,Jours_Fériés), EDATE(D2,12) ) ) -> 46537 | K2: alternatives | M2: {=_xlfn.XLOOKUP(1, (Matr_Contrats = $A2 ) * (Contrats!$F:$F = $E2), Contrats!B:B)} -> CDD | N2: {=IF(M2="CDD",_xlfn.XLOOKUP(1, (Matr_Contrats = $A2 ) * (Contrats!$F:$F = $E2), Contrats!G:G),"")} -> 46553
A3: 3542 | B3: Adélaïde Pires-Martineau | C3: 35429 | E3: =_xlfn.MAXIFS(Contrats!F:F,Matr_Contrats,Consultants!$A3) -> 45932 | F3: =_xlfn.XLOOKUP(_xlfn.CONCAT($A3,"-",$E3),Dernier_contrat,Contrats!B:B,"",0) -> CDI | G3: =IF(F3="CDI","",_xlfn.XLOOKUP(_xlfn.CONCAT($A3,"-",$E3),Dernier_contrat,Contrats!G:G,"",0)) | H3: =IF(ISBLANK(D3), IF(EDATE(E3,12) < TODAY(), WORKDAY(TODAY(),5,Jours_Fériés), EDATE(E3,12) ), IF( G3 < EDATE(D3,12), WORKDAY(G3,-15,Jours_Fériés), EDATE(D3,12) ) ) -> 46297 | M3: {=_xlfn.XLOOKUP(1, (Matr_Contrats = $A3 ) * (Contrats!$F:$F = $E3), Contrats!B:B)} -> CDI | N3: {=IF(M3="CDD",_xlfn.XLOOKUP(1, (Matr_Contrats = $A3 ) * (Contrats!$F:$F = $E3), Contrats!G:G),"")}
A4: 6423 | B4: Arthur Joubert | C4: 32755 | D4: 45957 | E4: =_xlfn.MAXIFS(Contrats!F:F,Matr_Contrats,Consultants!$A4) -> 44418 | F4: =_xlfn.XLOOKUP(_xlfn.CONCAT($A4,"-",$E4),Dernier_contrat,Contrats!B:B,"",0) -> CDI | G4: =IF(F4="CDI","",_xlfn.XLOOKUP(_xlfn.CONCAT($A4,"-",$E4),Dernier_contrat,Contrats!G:G,"",0)) | H4: =IF(ISBLANK(D4), IF(EDATE(E4,12) < TODAY(), WORKDAY(TODAY(),5,Jours_Fériés), EDATE(E4,12) ), IF( G4 < EDATE(D4,12), WORKDAY(G4,-15,Jours_Fériés), EDATE(D4,12) ) ) -> 46322 | M4: {=_xlfn.XLOOKUP(1, (Matr_Contrats = $A4 ) * (Contrats!$F:$F = $E4), Contrats!B:B)} -> CDI | N4: {=IF(M4="CDD",_xlfn.XLOOKUP(1, (Matr_Contrats = $A4 ) * (Contrats!$F:$F = $E4), Contrats!G:G),"")}
A5: 4751 | B5: David Dupont | C5: 32102 | E5: =_xlfn.MAXIFS(Contrats!F:F,Matr_Contrats,Consultants!$A5) -> 45650 | F5: =_xlfn.XLOOKUP(_xlfn.CONCAT($A5,"-",$E5),Dernier_contrat,Contrats!B:B,"",0) -> CDD | G5: =IF(F5="CDI","",_xlfn.XLOOKUP(_xlfn.CONCAT($A5,"-",$E5),Dernier_contrat,Contrats!G:G,"",0)) -> 46370 | H5: =IF(ISBLANK(D5), IF(EDATE(E5,12) < TODAY(), WORKDAY(TODAY(),5,Jours_Fériés), EDATE(E5,12) ), IF( G5 < EDATE(D5,12), WORKDAY(G5,-15,Jours_Fériés), EDATE(D5,12) ) ) -> 46272 | M5: {=_xlfn.XLOOKUP(1, (Matr_Contrats = $A5 ) * (Contrats!$F:$F = $E5), Contrats!B:B)} -> CDD | N5: {=IF(M5="CDD",_xlfn.XLOOKUP(1, (Matr_Contrats = $A5 ) * (Contrats!$F:$F = $E5), Contrats!G:G),"")} -> 46370
A6: 5959 | B6: Alexandre Guyot | C6: 26186 | D6: 45960 | E6: =_xlfn.MAXIFS(Contrats!F:F,Matr_Contrats,Consultants!$A6) -> 44388 | F6: =_xlfn.XLOOKUP(_xlfn.CONCAT($A6,"-",$E6),Dernier_contrat,Contrats!B:B,"",0) -> CDI | G6: =IF(F6="CDI","",_xlfn.XLOOKUP(_xlfn.CONCAT($A6,"-",$E6),Dernier_contrat,Contrats!G:G,"",0)) | H6: =IF(ISBLANK(D6), IF(EDATE(E6,12) < TODAY(), WORKDAY(TODAY(),5,Jours_Fériés), EDATE(E6,12) ), IF( G6 < EDATE(D6,12), WORKDAY(G6,-15,Jours_Fériés), EDATE(D6,12) ) ) -> 46325 | M6: {=_xlfn.XLOOKUP(1, (Matr_Contrats = $A6 ) * (Contrats!$F:$F = $E6), Contrats!B:B)} -> CDI | N6: {=IF(M6="CDD",_xlfn.XLOOKUP(1, (Matr_Contrats = $A6 ) * (Contrats!$F:$F = $E6), Contrats!G:G),"")}
A7: 7954 | B7: Charlotte de la Munoz | C7: 29774 | D7: 45910 | E7: =_xlfn.MAXIFS(Contrats!F:F,Matr_Contrats,Consultants!$A7) -> 44958 | F7: =_xlfn.XLOOKUP(_xlfn.CONCAT($A7,"-",$E7),Dernier_contrat,Contrats!B:B,"",0) -> CDI | G7: =IF(F7="CDI","",_xlfn.XLOOKUP(_xlfn.CONCAT($A7,"-",$E7),Dernier_contrat,Contrats!G:G,"",0)) | H7: =IF(ISBLANK(D7), IF(EDATE(E7,12) < TODAY(), WORKDAY(TODAY(),5,Jours_Fériés), EDATE(E7,12) ), IF( G7 < EDATE(D7,12), WORKDAY(G7,-15,Jours_Fériés), EDATE(D7,12) ) ) -> 46275 | M7: {=_xlfn.XLOOKUP(1, (Matr_Contrats = $A7 ) * (Contrats!$F:$F = $E7), Contrats!B:B)} -> CDI | N7: {=IF(M7="CDD",_xlfn.XLOOKUP(1, (Matr_Contrats = $A7 ) * (Contrats!$F:$F = $E7), Contrats!G:G),"")}
A8: 8810 | B8: Daniel Breton | C8: 36647 | E8: =_xlfn.MAXIFS(Contrats!F:F,Matr_Contrats,Consultants!$A8) -> 46033 | F8: =_xlfn.XLOOKUP(_xlfn.CONCAT($A8,"-",$E8),Dernier_contrat,Contrats!B:B,"",0) -> CDD | G8: =IF(F8="CDI","",_xlfn.XLOOKUP(_xlfn.CONCAT($A8,"-",$E8),Dernier_contrat,Contrats!G:G,"",0)) -> 46573 | H8: =IF(ISBLANK(D8), IF(EDATE(E8,12) < TODAY(), WORKDAY(TODAY(),5,Jours_Fériés), EDATE(E8,12) ), IF( G8 < EDATE(D8,12), WORKDAY(G8,-15,Jours_Fériés), EDATE(D8,12) ) ) -> 46398 | M8: {=_xlfn.XLOOKUP(1, (Matr_Contrats = $A8 ) * (Contrats!$F:$F = $E8), Contrats!B:B)} -> CDD | N8: {=IF(M8="CDD",_xlfn.XLOOKUP(1, (Matr_Contrats = $A8 ) * (Contrats!$F:$F = $E8), Contrats!G:G),"")} -> 46573
A9: 5211 | B9: Odette Le Gomez | C9: 30470 | D9: 45957 | E9: =_xlfn.MAXIFS(Contrats!F:F,Matr_Contrats,Consultants!$A9) -> 44666 | F9: =_xlfn.XLOOKUP(_xlfn.CONCAT($A9,"-",$E9),Dernier_contrat,Contrats!B:B,"",0) -> CDI | G9: =IF(F9="CDI","",_xlfn.XLOOKUP(_xlfn.CONCAT($A9,"-",$E9),Dernier_contrat,Contrats!G:G,"",0)) | H9: =IF(ISBLANK(D9), IF(EDATE(E9,12) < TODAY(), WORKDAY(TODAY(),5,Jours_Fériés), EDATE(E9,12) ), IF( G9 < EDATE(D9,12), WORKDAY(G9,-15,Jours_Fériés), EDATE(D9,12) ) ) -> 46322 | M9: {=_xlfn.XLOOKUP(1, (Matr_Contrats = $A9 ) * (Contrats!$F:$F = $E9), Contrats!B:B)} -> CDI | N9: {=IF(M9="CDD",_xlfn.XLOOKUP(1, (Matr_Contrats = $A9 ) * (Contrats!$F:$F = $E9), Contrats!G:G),"")}
A10: 3582 | B10: Nicolas Bertrand | C10: 36081 | D10: 45904 | E10: =_xlfn.MAXIFS(Contrats!F:F,Matr_Contrats,Consultants!$A10) -> 45568 | F10: =_xlfn.XLOOKUP(_xlfn.CONCAT($A10,"-",$E10),Dernier_contrat,Contrats!B:B,"",0) -> CDI | G10: =IF(F10="CDI","",_xlfn.XLOOKUP(_xlfn.CONCAT($A10,"-",$E10),Dernier_contrat,Contrats!G:G,"",0)) | H10: =IF(ISBLANK(D10), IF(EDATE(E10,12) < TODAY(), WORKDAY(TODAY(),5,Jours_Fériés), EDATE(E10,12) ), IF( G10 < EDATE(D10,12), WORKDAY(G10,-15,Jours_Fériés), EDATE(D10,12) ) ) -> 46269 | M10: {=_xlfn.XLOOKUP(1, (Matr_Contrats = $A10 ) * (Contrats!$F:$F = $E10), Contrats!B:B)} -> CDI | N10: {=IF(M10="CDD",_xlfn.XLOOKUP(1, (Matr_Contrats = $A10 ) * (Contrats!$F:$F = $E10), Contrats!G:G),"")}
A11: 7063 | B11: Julie-Margaud Barthelemy | C11: 28491 | D11: 45968 | E11: =_xlfn.MAXIFS(Contrats!F:F,Matr_Contrats,Consultants!$A11) -> 43903 | F11: =_xlfn.XLOOKUP(_xlfn.CONCAT($A11,"-",$E11),Dernier_contrat,Contrats!B:B,"",0) -> CDI | G11: =IF(F11="CDI","",_xlfn.XLOOKUP(_xlfn.CONCAT($A11,"-",$E11),Dernier_contrat,Contrats!G:G,"",0)) | H11: =IF(ISBLANK(D11), IF(EDATE(E11,12) < TODAY(), WORKDAY(TODAY(),5,Jours_Fériés), EDATE(E11,12) ), IF( G11 < EDATE(D11,12), WORKDAY(G11,-15,Jours_Fériés), EDATE(D11,12) ) ) -> 46333 | M11: {=_xlfn.XLOOKUP(1, (Matr_Contrats = $A11 ) * (Contrats!$F:$F = $E11), Contrats!B:B)} -> CDI | N11: {=IF(M11="CDD",_xlfn.XLOOKUP(1, (Matr_Contrats = $A11 ) * (Contrats!$F:$F = $E11), Contrats!G:G),"")}
A12: 4733 | B12: Odette Schmitt-Pelletier | C12: 27374 | D12: 45913 | E12: =_xlfn.MAXIFS(Contrats!F:F,Matr_Contrats,Consultants!$A12) -> 45635 | F12: =_xlfn.XLOOKUP(_xlfn.CONCAT($A12,"-",$E12),Dernier_contrat,Contrats!B:B,"",0) -> CDI | G12: =IF(F12="CDI","",_xlfn.XLOOKUP(_xlfn.CONCAT($A12,"-",$E12),Dernier_contrat,Contrats!G:G,"",0)) | H12: =IF(ISBLANK(D12), IF(EDATE(E12,12) < TODAY(), WORKDAY(TODAY(),5,Jours_Fériés), EDATE(E12,12) ), IF( G12 < EDATE(D12,12), WORKDAY(G12,-15,Jours_Fériés), EDATE(D12,12) ) ) -> 46278 | M12: {=_xlfn.XLOOKUP(1, (Matr_Contrats = $A12 ) * (Contrats!$F:$F = $E12), Contrats!B:B)} -> CDI | N12: {=IF(M12="CDD",_xlfn.XLOOKUP(1, (Matr_Contrats = $A12 ) * (Contrats!$F:$F = $E12), Contrats!G:G),"")}
A13: 7175 | B13: Denise-Marie Fournier | C13: 33621 | E13: =_xlfn.MAXIFS(Contrats!F:F,Matr_Contrats,Consultants!$A13) -> 46027 | F13: =_xlfn.XLOOKUP(_xlfn.CONCAT($A13,"-",$E13),Dernier_contrat,Contrats!B:B,"",0) -> CDD | G13: =IF(F13="CDI","",_xlfn.XLOOKUP(_xlfn.CONCAT($A13,"-",$E13),Dernier_contrat,Contrats!G:G,"",0)) -> 46567 | H13: =IF(ISBLANK(D13), IF(EDATE(E13,12) < TODAY(), WORKDAY(TODAY(),5,Jours_Fériés), EDATE(E13,12) ), IF( G13 < EDATE(D13,12), WORKDAY(G13,-15,Jours_Fériés), EDATE(D13,12) ) ) -> 46392 | M13: {=_xlfn.XLOOKUP(1, (Matr_Contrats = $A13 ) * (Contrats!$F:$F = $E13), Contrats!B:B)} -> CDD | N13: {=IF(M13="CDD",_xlfn.XLOOKUP(1, (Matr_Contrats = $A13 ) * (Contrats!$F:$F = $E13), Contrats!G:G),"")} -> 46567
A14: 5607 | B14: Laurent Chauveau | C14: 36390 | D14: 45988 | E14: =_xlfn.MAXIFS(Contrats!F:F,Matr_Contrats,Consultants!$A14) -> 44656 | F14: =_xlfn.XLOOKUP(_xlfn.CONCAT($A14,"-",$E14),Dernier_contrat,Contrats!B:B,"",0) -> CDI | G14: =IF(F14="CDI","",_xlfn.XLOOKUP(_xlfn.CONCAT($A14,"-",$E14),Dernier_contrat,Contrats!G:G,"",0)) | H14: =IF(ISBLANK(D14), IF(EDATE(E14,12) < TODAY(), WORKDAY(TODAY(),5,Jours_Fériés), EDATE(E14,12) ), IF( G14 < EDATE(D14,12), WORKDAY(G14,-15,Jours_Fériés), EDATE(D14,12) ) ) -> 46353 | M14: {=_xlfn.XLOOKUP(1, (Matr_Contrats = $A14 ) * (Contrats!$F:$F = $E14), Contrats!B:B)} -> CDI | N14: {=IF(M14="CDD",_xlfn.XLOOKUP(1, (Matr_Contrats = $A14 ) * (Contrats!$F:$F = $E14), Contrats!G:G),"")}
A15: 4641 | B15: André Le Gall de Legendre | C15: 28429 | D15: 46366 | E15: =_xlfn.MAXIFS(Contrats!F:F,Matr_Contrats,Consultants!$A15) -> 46010 | F15: =_xlfn.XLOOKUP(_xlfn.CONCAT($A15,"-",$E15),Dernier_contrat,Contrats!B:B,"",0) -> CDD | G15: =IF(F15="CDI","",_xlfn.XLOOKUP(_xlfn.CONCAT($A15,"-",$E15),Dernier_contrat,Contrats!G:G,"",0)) -> 46550 | H15: =IF(ISBLANK(D15), IF(EDATE(E15,12) < TODAY(), WORKDAY(TODAY(),5,Jours_Fériés), EDATE(E15,12) ), IF( G15 < EDATE(D15,12), WORKDAY(G15,-15,Jours_Fériés), EDATE(D15,12) ) ) -> 46531 | M15: {=_xlfn.XLOOKUP(1, (Matr_Contrats = $A15 ) * (Contrats!$F:$F = $E15), Contrats!B:B)} -> CDD | N15: {=IF(M15="CDD",_xlfn.XLOOKUP(1, (Matr_Contrats = $A15 ) * (Contrats!$F:$F = $E15), Contrats!G:G),"")} -> 46550
A16: 4744 | B16: Marcel du Marchal | C16: 29399 | D16: 45974 | E16: =_xlfn.MAXIFS(Contrats!F:F,Matr_Contrats,Consultants!$A16) -> 44601 | F16: =_xlfn.XLOOKUP(_xlfn.CONCAT($A16,"-",$E16),Dernier_contrat,Contrats!B:B,"",0) -> CDI | G16: =IF(F16="CDI","",_xlfn.XLOOKUP(_xlfn.CONCAT($A16,"-",$E16),Dernier_contrat,Contrats!G:G,"",0)) | H16: =IF(ISBLANK(D16), IF(EDATE(E16,12) < TODAY(), WORKDAY(TODAY(),5,Jours_Fériés), EDATE(E16,12) ), IF( G16 < EDATE(D16,12), WORKDAY(G16,-15,Jours_Fériés), EDATE(D16,12) ) ) -> 46339 | M16: {=_xlfn.XLOOKUP(1, (Matr_Contrats = $A16 ) * (Contrats!$F:$F = $E16), Contrats!B:B)} -> CDI | N16: {=IF(M16="CDD",_xlfn.XLOOKUP(1, (Matr_Contrats = $A16 ) * (Contrats!$F:$F = $E16), Contrats!G:G),"")}
A17: 1435 | B17: Anaïs Sanchez | C17: 32739 | D17: 45986 | E17: =_xlfn.MAXIFS(Contrats!F:F,Matr_Contrats,Consultants!$A17) -> 45276 | F17: =_xlfn.XLOOKUP(_xlfn.CONCAT($A17,"-",$E17),Dernier_contrat,Contrats!B:B,"",0) -> CDI | G17: =IF(F17="CDI","",_xlfn.XLOOKUP(_xlfn.CONCAT($A17,"-",$E17),Dernier_contrat,Contrats!G:G,"",0)) | H17: =IF(ISBLANK(D17), IF(EDATE(E17,12) < TODAY(), WORKDAY(TODAY(),5,Jours_Fériés), EDATE(E17,12) ), IF( G17 < EDATE(D17,12), WORKDAY(G17,-15,Jours_Fériés), EDATE(D17,12) ) ) -> 46351 | M17: {=_xlfn.XLOOKUP(1, (Matr_Contrats = $A17 ) * (Contrats!$F:$F = $E17), Contrats!B:B)} -> CDI | N17: {=IF(M17="CDD",_xlfn.XLOOKUP(1, (Matr_Contrats = $A17 ) * (Contrats!$F:$F = $E17), Contrats!G:G),"")}
A18: 8195 | B18: Margaux Hebert du Dupont | C18: 27899 | D18: 45941 | E18: =_xlfn.MAXIFS(Contrats!F:F,Matr_Contrats,Consultants!$A18) -> 45407 | F18: =_xlfn.XLOOKUP(_xlfn.CONCAT($A18,"-",$E18),Dernier_contrat,Contrats!B:B,"",0) -> CDI | G18: =IF(F18="CDI","",_xlfn.XLOOKUP(_xlfn.CONCAT($A18,"-",$E18),Dernier_contrat,Contrats!G:G,"",0)) | H18: =IF(ISBLANK(D18), IF(EDATE(E18,12) < TODAY(), WORKDAY(TODAY(),5,Jours_Fériés), EDATE(E18,12) ), IF( G18 < EDATE(D18,12), WORKDAY(G18,-15,Jours_Fériés), EDATE(D18,12) ) ) -> 46306 | M18: {=_xlfn.XLOOKUP(1, (Matr_Contrats = $A18 ) * (Contrats!$F:$F = $E18), Contrats!B:B)} -> CDI | N18: {=IF(M18="CDD",_xlfn.XLOOKUP(1, (Matr_Contrats = $A18 ) * (Contrats!$F:$F = $E18), Contrats!G:G),"")}
A19: 3772 | B19: Éric-Xavier Dias | C19: 31032 | E19: =_xlfn.MAXIFS(Contrats!F:F,Matr_Contrats,Consultants!$A19) -> 45945 | F19: =_xlfn.XLOOKUP(_xlfn.CONCAT($A19,"-",$E19),Dernier_contrat,Contrats!B:B,"",0) -> CDD | G19: =IF(F19="CDI","",_xlfn.XLOOKUP(_xlfn.CONCAT($A19,"-",$E19),Dernier_contrat,Contrats!G:G,"",0)) -> 46305 | H19: =IF(ISBLANK(D19), IF(EDATE(E19,12) < TODAY(), WORKDAY(TODAY(),5,Jours_Fériés), EDATE(E19,12) ), IF( G19 < EDATE(D19,12), WORKDAY(G19,-15,Jours_Fériés), EDATE(D19,12) ) ) -> 46310 | M19: {=_xlfn.XLOOKUP(1, (Matr_Contrats = $A19 ) * (Contrats!$F:$F = $E19), Contrats!B:B)} -> CDD | N19: {=IF(M19="CDD",_xlfn.XLOOKUP(1, (Matr_Contrats = $A19 ) * (Contrats!$F:$F = $E19), Contrats!G:G),"")} -> 46305
A20: 8988 | B20: Émilie-Claire Blanchet | C20: 36513 | E20: =_xlfn.MAXIFS(Contrats!F:F,Matr_Contrats,Consultants!$A20) -> 45781 | F20: =_xlfn.XLOOKUP(_xlfn.CONCAT($A20,"-",$E20),Dernier_contrat,Contrats!B:B,"",0) -> CDI | G20: =IF(F20="CDI","",_xlfn.XLOOKUP(_xlfn.CONCAT($A20,"-",$E20),Dernier_contrat,Contrats!G:G,"",0)) | H20: =IF(ISBLANK(D20), IF(EDATE(E20,12) < TODAY(), WORKDAY(TODAY(),5,Jours_Fériés), EDATE(E20,12) ), IF( G20 < EDATE(D20,12), WORKDAY(G20,-15,Jours_Fériés), EDATE(D20,12) ) ) -> 46272
A21: 4359 | B21: David Girard | C21: 36095 | D21: 45965 | E21: =_xlfn.MAXIFS(Contrats!F:F,Matr_Contrats,Consultants!$A21) -> 44349 | F21: =_xlfn.XLOOKUP(_xlfn.CONCAT($A21,"-",$E21),Dernier_contrat,Contrats!B:B,"",0) -> CDI | G21: =IF(F21="CDI","",_xlfn.XLOOKUP(_xlfn.CONCAT($A21,"-",$E21),Dernier_contrat,Contrats!G:G,"",0)) | H21: =IF(ISBLANK(D21), IF(EDATE(E21,12) < TODAY(), WORKDAY(TODAY(),5,Jours_Fériés), EDATE(E21,12) ), IF( G21 < EDATE(D21,12), WORKDAY(G21,-15,Jours_Fériés), EDATE(D21,12) ) ) -> 46330

Sheet Domaines
A1: Matr | B1: Expertise | C1: âge | D1: Total Jours ouvrés
A2: 3137 | B2: cybersécurité | C2: =ROUNDDOWN(YEARFRAC(_xlfn.XLOOKUP(A2,Matr,Consultants!C:C,0,0),TODAY()),0) -> 40 | D2: =SUMIFS(Deplacements!J:J,Matr_Deplacements,TableauDom[[#This Row],[Matr]],Domaine_Deplacements,TableauDom[[#This Row],[Expertise]]) -> 0
A3: 3542 | B3: cybersécurité | C3: =ROUNDDOWN(YEARFRAC(_xlfn.XLOOKUP(A3,Matr,Consultants!C:C,0,0),TODAY()),0) -> 29 | D3: =SUMIFS(Deplacements!J:J,Matr_Deplacements,TableauDom[[#This Row],[Matr]],Domaine_Deplacements,TableauDom[[#This Row],[Expertise]]) -> 0
A4: 3542 | B4: transformation digital | C4: =ROUNDDOWN(YEARFRAC(_xlfn.XLOOKUP(A4,Matr,Consultants!C:C,0,0),TODAY()),0) -> 29 | D4: =SUMIFS(Deplacements!J:J,Matr_Deplacements,TableauDom[[#This Row],[Matr]],Domaine_Deplacements,TableauDom[[#This Row],[Expertise]]) -> 0
A5: 3542 | B5: systèmes d'information | C5: =ROUNDDOWN(YEARFRAC(_xlfn.XLOOKUP(A5,Matr,Consultants!C:C,0,0),TODAY()),0) -> 29 | D5: =SUMIFS(Deplacements!J:J,Matr_Deplacements,TableauDom[[#This Row],[Matr]],Domaine_Deplacements,TableauDom[[#This Row],[Expertise]]) -> 12
A6: 6423 | B6: intelligence artificielle | C6: =ROUNDDOWN(YEARFRAC(_xlfn.XLOOKUP(A6,Matr,Consultants!C:C,0,0),TODAY()),0) -> 36 | D6: =SUMIFS(Deplacements!J:J,Matr_Deplacements,TableauDom[[#This Row],[Matr]],Domaine_Deplacements,TableauDom[[#This Row],[Expertise]]) -> 10
A7: 4751 | B7: gouvernance | C7: =ROUNDDOWN(YEARFRAC(_xlfn.XLOOKUP(A7,Matr,Consultants!C:C,0,0),TODAY()),0) -> 38 | D7: =SUMIFS(Deplacements!J:J,Matr_Deplacements,TableauDom[[#This Row],[Matr]],Domaine_Deplacements,TableauDom[[#This Row],[Expertise]]) -> 20
A8: 4751 | B8: transformation digital | C8: =ROUNDDOWN(YEARFRAC(_xlfn.XLOOKUP(A8,Matr,Consultants!C:C,0,0),TODAY()),0) -> 38 | D8: =SUMIFS(Deplacements!J:J,Matr_Deplacements,TableauDom[[#This Row],[Matr]],Domaine_Deplacements,TableauDom[[#This Row],[Expertise]]) -> 17
A9: 5959 | B9: intelligence artificielle | C9: =ROUNDDOWN(YEARFRAC(_xlfn.XLOOKUP(A9,Matr,Consultants!C:C,0,0),TODAY()),0) -> 54 | D9: =SUMIFS(Deplacements!J:J,Matr_Deplacements,TableauDom[[#This Row],[Matr]],Domaine_Deplacements,TableauDom[[#This Row],[Expertise]]) -> 0
A10: 5959 | B10: transformation digital | C10: =ROUNDDOWN(YEARFRAC(_xlfn.XLOOKUP(A10,Matr,Consultants!C:C,0,0),TODAY()),0) -> 54 | D10: =SUMIFS(Deplacements!J:J,Matr_Deplacements,TableauDom[[#This Row],[Matr]],Domaine_Deplacements,TableauDom[[#This Row],[Expertise]]) -> 10
A11: 5959 | B11: gouvernance | C11: =ROUNDDOWN(YEARFRAC(_xlfn.XLOOKUP(A11,Matr,Consultants!C:C,0,0),TODAY()),0) -> 54 | D11: =SUMIFS(Deplacements!J:J,Matr_Deplacements,TableauDom[[#This Row],[Matr]],Domaine_Deplacements,TableauDom[[#This Row],[Expertise]]) -> 57
A12: 7954 | B12: intelligence artificielle | C12: =ROUNDDOWN(YEARFRAC(_xlfn.XLOOKUP(A12,Matr,Consultants!C:C,0,0),TODAY()),0) -> 45 | D12: =SUMIFS(Deplacements!J:J,Matr_Deplacements,TableauDom[[#This Row],[Matr]],Domaine_Deplacements,TableauDom[[#This Row],[Expertise]]) -> 0
A13: 7954 | B13: cybersécurité | C13: =ROUNDDOWN(YEARFRAC(_xlfn.XLOOKUP(A13,Matr,Consultants!C:C,0,0),TODAY()),0) -> 45 | D13: =SUMIFS(Deplacements!J:J,Matr_Deplacements,TableauDom[[#This Row],[Matr]],Domaine_Deplacements,TableauDom[[#This Row],[Expertise]]) -> 15
... A46: 4359 | B46: contrôle de gestion | C46: =ROUNDDOWN(YEARFRAC(_xlfn.XLOOKUP(A46,Matr,Consultants!C:C,0,0),TODAY()),0) -> 27 | D46: =SUMIFS(Deplacements!J:J,Matr_Deplacements,TableauDom[[#This Row],[Matr]],Domaine_Deplacements,TableauDom[[#This Row],[Expertise]]) -> 0

Sheet Contrats
A1: Matr | B1: Type | C1: Salaire | D1: Forfait | E1: Nb Jours Conges | F1: Date Debut | G1: Date Fin | H1: Dernier contrat
A2: 5607 | B2: CDD | C2: 3289 | D2: 146 | E2: 38 | F2: 43010 | G2: 43239 | H2: =_xlfn.CONCAT(A2,"-",F2) -> 5607-43010
A3: 7063 | B3: CDD | C3: 3657 | D3: 152 | E3: 32 | F3: 43032 | G3: 43363 | H3: =_xlfn.CONCAT(A3,"-",F3) -> 7063-43032
A4: 5607 | B4: CDD | C4: 3542 | D4: 130 | E4: 32 | F4: 43242 | G4: 43869 | H4: =_xlfn.CONCAT(A4,"-",F4) -> 5607-43242
A5: 7063 | B5: CDD | C5: 5127 | D5: 150 | E5: 38 | F5: 43372 | G5: 43897 | H5: =_xlfn.CONCAT(A5,"-",F5) -> 7063-43372
A6: 4359 | B6: CDD | C6: 5543 | D6: 250 | E6: 32 | F6: 43524 | G6: 43648 | H6: =_xlfn.CONCAT(A6,"-",F6) -> 4359-43524
A7: 4359 | B7: CDD | C7: 2670 | D7: 99 | E7: 38 | F7: 43650 | G7: 43796 | H7: =_xlfn.CONCAT(A7,"-",F7) -> 4359-43650
A8: 6423 | B8: CDD | C8: 3613 | D8: 149 | E8: 32 | F8: 43692 | G8: 43863 | H8: =_xlfn.CONCAT(A8,"-",F8) -> 6423-43692
A9: 4359 | B9: CDD | C9: 6659 | D9: 115 | E9: 38 | F9: 43807 | G9: 44210 | H9: =_xlfn.CONCAT(A9,"-",F9) -> 4359-43807
A10: 6423 | B10: CDD | C10: 3250 | D10: 119 | E10: 30 | F10: 43867 | G10: 44043 | H10: =_xlfn.CONCAT(A10,"-",F10) -> 6423-43867
A11: 5607 | B11: CDD | C11: 2989 | D11: 164 | E11: 30 | F11: 43874 | G11: 44339 | H11: =_xlfn.CONCAT(A11,"-",F11) -> 5607-43874
A12: 7063 | B12: CDI | C12: 4020 | D12: 142 | E12: 38 | F12: 43903 | H12: =_xlfn.CONCAT(A12,"-",F12) -> 7063-43903
A13: 5959 | B13: CDD | C13: 5695 | D13: 85 | E13: 35 | F13: 43974 | G13: 44374 | H13: =_xlfn.CONCAT(A13,"-",F13) -> 5959-43974
A14: 1435 | B14: CDD | C14: 2629 | D14: 203 | E14: 32 | F14: 44012 | G14: 44265 | H14: =_xlfn.CONCAT(A14,"-",F14) -> 1435-44012
A15: 6423 | B15: CDD | C15: 4948 | D15: 146 | E15: 32 | F15: 44052 | G15: 44305 | H15: =_xlfn.CONCAT(A15,"-",F15) -> 6423-44052
A16: 4359 | B16: CDD | C16: 3929 | D16: 99 | E16: 30 | F16: 44224 | G16: 44340 | H16: =_xlfn.CONCAT(A16,"-",F16) -> 4359-44224
A17: 1435 | B17: CDD | C17: 5506 | D17: 158 | E17: 30 | F17: 44278 | G17: 44906 | H17: =_xlfn.CONCAT(A17,"-",F17) -> 1435-44278
A18: 6423 | B18: CDD | C18: 5054 | D18: 113 | E18: 32 | F18: 44314 | G18: 44412 | H18: =_xlfn.CONCAT(A18,"-",F18) -> 6423-44314
A19: 8195 | B19: CDD | C19: 6299 | D19: 149 | E19: 30 | F19: 44331 | G19: 44726 | H19: =_xlfn.CONCAT(A19,"-",F19) -> 8195-44331
A20: 5607 | B20: CDD | C20: 2703 | D20: 240 | E20: 38 | F20: 44344 | G20: 44650 | H20: =_xlfn.CONCAT(A20,"-",F20) -> 5607-44344
A21: 4359 | B21: CDI | C21: 3639 | D21: 102 | E21: 32 | F21: 44349 | H21: =_xlfn.CONCAT(A21,"-",F21) -> 4359-44349
A22: 5959 | B22: CDI | C22: 6316 | D22: 198 | E22: 35 | F22: 44388 | H22: =_xlfn.CONCAT(A22,"-",F22) -> 5959-44388
A23: 6423 | B23: CDI | C23: 6697 | D23: 209 | E23: 38 | F23: 44418 | H23: =_xlfn.CONCAT(A23,"-",F23) -> 6423-44418
A24: 3582 | B24: CDD | C24: 5977 | D24: 170 | E24: 30 | F24: 44498 | G24: 44640 | H24: =_xlfn.CONCAT(A24,"-",F24) -> 3582-44498
A25: 7954 | B25: CDD | C25: 4449 | D25: 85 | E25: 35 | F25: 44557 | G25: 44944 | H25: =_xlfn.CONCAT(A25,"-",F25) -> 7954-44557
A26: 3542 | B26: CDD | C26: 4622 | D26: 157 | E26: 38 | F26: 44558 | G26: 45229 | H26: =_xlfn.CONCAT(A26,"-",F26) -> 3542-44558
A27: 4744 | B27: CDI | C27: 3532 | D27: 127 | E27: 32 | F27: 44601 | H27: =_xlfn.CONCAT(A27,"-",F27) -> 4744-44601
A28: 3582 | B28: CDD | C28: 4879 | D28: 99 | E28: 35 | F28: 44650 | G28: 44881 | H28: =_xlfn.CONCAT(A28,"-",F28) -> 3582-44650
A29: 5607 | B29: CDI | C29: 3805 | D29: 104 | E29: 38 | F29: 44656 | H29: =_xlfn.CONCAT(A29,"-",F29) -> 5607-44656
A30: 5211 | B30: CDI | C30: 2585 | D30: 177 | E30: 38 | F30: 44666 | H30: =_xlfn.CONCAT(A30,"-",F30) -> 5211-44666
A31: 8195 | B31: CDD | C31: 5074 | D31: 203 | E31: 30 | F31: 44739 | G31: 45395 | H31: =_xlfn.CONCAT(A31,"-",F31) -> 8195-44739
A32: 8988 | B32: CDD | C32: 5607 | D32: 150 | E32: 38 | F32: 44790 | G32: 45049 | H32: =_xlfn.CONCAT(A32,"-",F32) -> 8988-44790
A33: 3582 | B33: CDD | C33: 4398 | D33: 193 | E33: 38 | F33: 44890 | G33: 45558 | H33: =_xlfn.CONCAT(A33,"-",F33) -> 3582-44890
A34: 1435 | B34: CDD | C34: 6214 | D34: 135 | E34: 38 | F34: 44914 | G34: 45096 | H34: =_xlfn.CONCAT(A34,"-",F34) -> 1435-44914
A35: 7954 | B35: CDI | C35: 4791 | D35: 115 | E35: 38 | F35: 44958 | H35: =_xlfn.CONCAT(A35,"-",F35) -> 7954-44958
A36: 8810 | B36: CDD | C36: 3432 | D36: 109 | E36: 38 | F36: 44991 | G36: 45296 | H36: =_xlfn.CONCAT(A36,"-",F36) -> 8810-44991
A37: 8988 | B37: CDD | C37: 3206 | D37: 216 | E37: 32 | F37: 45059 | G37: 45679 | H37: =_xlfn.CONCAT(A37,"-",F37) -> 8988-45059
A38: 1435 | B38: CDD | C38: 2815 | D38: 98 | E38: 35 | F38: 45107 | G38: 45273 | H38: =_xlfn.CONCAT(A38,"-",F38) -> 1435-45107
A39: 3137 | B39: CDD | C39: 4786 | D39: 201 | E39: 38 | F39: 45117 | G39: 45549 | H39: =_xlfn.CONCAT(A39,"-",F39) -> 3137-45117
A40: 4733 | B40: CDD | C40: 4779 | D40: 152 | E40: 30 | F40: 45161 | G40: 45446 | H40: =_xlfn.CONCAT(A40,"-",F40) -> 4733-45161
...

Sheet Projets
A1: Num Projet | B1: Intitulé | C1: Domaine | D1: Client | E1: Date début | F1: Durée (mois) | G1: Prix km | H1: Budget Investissement | I1: Budget Fonctionnement | J1: Conso Investissement | K1: Conso Fonctionnement
A2: 4641 | B2: Arche | C2: systèmes d'information | D2: Banque Invest | E2: 45752 | F2: 42 | G2: 11.48 | H2: 16827.15 | I2: 5602.78 | J2: 7959.41 | K2: 2106.44
A3: 8140 | B3: Beta | C3: systèmes d'information | D3: Société AHT | E3: 45783 | F3: 38 | G3: 7.86 | H3: 18750.45 | I3: 13207.42 | J3: 8394.81 | K3: 5309.25
A4: 9437 | B4: E30 | C4: gouvernance | D4: Cooperative Muvuca | E4: 45832 | F4: 24 | G4: 6.93 | H4: 7069.34 | I4: 3616.37 | J4: 5129.92 | K4: 2177.82
A5: 1309 | B5: Arc25 | C5: intelligence artificielle | D5: Banque Invest | E5: 45836 | F5: 46 | G5: 9.06 | H5: 14369.41 | I5: 13619.79 | J5: 4477.21 | K5: 4384.04
A6: 5674 | B6: SuiviConso | C6: gouvernance | D6: Banque Invest | E6: 45858 | F6: 39 | G6: 11.52 | H6: 18231.46 | I6: 14444.63 | J6: 5973.81 | K6: 5421.27
A7: 3987 | B7: Gamma | C7: gouvernance | D7: Cooperative Muvuca | E7: 45859 | F7: 43 | G7: 9.83 | H7: 8619.11 | I7: 9995.17 | J7: 3294.1 | K7: 3567.53
A8: 4125 | B8: ADV | C8: gouvernance | D8: Industries Nova Tech | E8: 45907 | F8: 32 | G8: 8.07 | H8: 6538.07 | I8: 2990.94 | J8: 2615.86 | K8: 1196.55
A9: 3850 | B9: Hercules | C9: cybersécurité | D9: Société AHT | E9: 45910 | F9: 36 | G9: 11.82 | H9: 20975.3 | I9: 14419.62 | J9: 8633.32 | K9: 4386.66
A10: 4687 | B10: Mirage | C10: cybersécurité | D10: Banque Invest | E10: 45919 | F10: 43 | G10: 8.48 | H10: 23338.93 | I10: 13021.57 | J10: 6505.97 | K10: 3242.44
A11: 2776 | B11: Destroyer | C11: gouvernance | D11: Groupe Oignon | E11: 45954 | F11: 26 | G11: 10.28 | H11: 10271.58 | I11: 6110.56 | J11: 4994.17 | K11: 2669.49
A12: 9256 | B12: Log2030 | C12: gouvernance | D12: Banque Invest | E12: 46000 | F12: 24 | G12: 6.6 | H12: 10180.63 | I12: 7132.32 | J12: 3463.4 | K12: 2316.68
A13: 9018 | B13: Onix | C13: systèmes d'information | D13: Société AHT | E13: 46025 | F13: 26 | G13: 6.34 | H13: 6180.88 | I13: 2837.73 | J13: 1787.09 | K13: 823.75
... A15: 7371 | B15: Infra2 | C15: cybersécurité | D15: Société AHT | E15: 46182 | F15: 32 | G15: 9.01 | H15: 7182.83 | I15: 3543.86 | J15: 468.69 | K15: 222.77
A16: 2764 | B16: MARCO | C16: transformation digital | D16: Banque Invest | E16: 46228 | F16: 38 | G16: 7.03 | H16: 15858.65 | I16: 5972.23
A17: 3394 | B17: NextGen | C17: transformation digital | D17: Cooperative Muvuca | E17: 46244 | F17: 45 | G17: 8.49 | H17: 19155.34 | I17: 4958.72
A18: 7717 | B18: Alpha | C18: gouvernance | D18: Industries Nova Tech | E18: 46246 | F18: 45 | G18: 8.42 | H18: 16390.91 | I18: 10053.42

Sheet Deplacements
A1: Matr | B1: Num Projet | C1: Date Début | D1: Date Fin | E1: Ville | F1: Moyen | G1: Billet | H1: Factures | I1: Immatriculation | J1: Nb Jours Ouvrés | K1: Intitulé | L1: Domaine | M1: Client | N1: Distance | O1: Frais Transport | P1: Frais Hébergement | Q1: Coût forfait | R1: Coût total | S1: Conso CO2 (en kg)
A2: 3137 | B2: 2764 | C2: 46204 | D2: 46217 | E2: Antibes | F2: train | G2: 230.69 | H2: Oui | J2: =NETWORKDAYS(C2,D2,Jours_Fériés) -> 9 | K2: =_xlfn.XLOOKUP($B2,Num_Projet,Projets!B:B,"Inexistant",0) -> MARCO | L2: =_xlfn.XLOOKUP($B2,Num_Projet,Projets!C:C,"Inexistant",0) -> transformation digital | M2: =_xlfn.XLOOKUP($B2,Num_Projet,Projets!D:D,"Inexistant",0) -> Banque Invest | N2: =_xlfn.XLOOKUP(E2,nom_commune,villes_clients!E:E)*2 -> 1383.9079 | O2: =IF(F2="train",G2,_xlfn.XLOOKUP(B2,Num_Projet,Projets!G:G,0,0)*N2) -> 230.69 | P2: =_xlfn.XLOOKUP(_xlfn.XLOOKUP(E2,nom_commune,villes_clients!D:D,0,0),Seuil_population,Nuitée,0,1) * J2 -> 450 | Q2: =_xlfn.XLOOKUP( _xlfn.CONCAT(A2,"-",_xlfn.XLOOKUP(A2,Matr,Consultants!E:E) ),Dernier_contrat,Contrats!D:D,0,0) * IF(J2>0,J2,1) -> 1764 | R2: =Q2 + SUM(O2:P2) * IF(H2 = "Oui",1,0.75) -> 2444.69 | S2: =( IF(F2="train", CO2_Train, _xlfn.XLOOKUP(I2,Immat_voitures,voitures_declarees!L:L,0,0)) * N2 ) / 1000 -> 2.7678157
A3: 6423 | B3: 4125 | C3: 46205 | D3: 46214 | E3: Montpellier | F3: train | G3: 192.11 | H3: Non | J3: =NETWORKDAYS(C3,D3,Jours_Fériés) -> 7 | K3: =_xlfn.XLOOKUP($B3,Num_Projet,Projets!B:B,"Inexistant",0) -> ADV | L3: =_xlfn.XLOOKUP($B3,Num_Projet,Projets!C:C,"Inexistant",0) -> gouvernance | M3: =_xlfn.XLOOKUP($B3,Num_Projet,Projets!D:D,"Inexistant",0) -> Industries Nova Tech | N3: =_xlfn.XLOOKUP(E3,nom_commune,villes_clients!E:E)*2 -> 1190.5827 | O3: =IF(F3="train",G3,_xlfn.XLOOKUP(B3,Num_Projet,Projets!G:G,0,0)*N3) -> 192.11 | P3: =_xlfn.XLOOKUP(_xlfn.XLOOKUP(E3,nom_commune,villes_clients!D:D,0,0),Seuil_population,Nuitée,0,1) * J3 -> 700 | Q3: =_xlfn.XLOOKUP( _xlfn.CONCAT(A3,"-",_xlfn.XLOOKUP(A3,Matr,Consultants!E:E) ),Dernier_contrat,Contrats!D:D,0,0) * IF(J3>0,J3,1) -> 1463 | R3: =Q3 + SUM(O3:P3) * IF(H3 = "Oui",1,0.75) -> 2132.0825 | S3: =( IF(F3="train", CO2_Train, _xlfn.XLOOKUP(I3,Immat_voitures,voitures_declarees!L:L,0,0)) * N3 ) / 1000 -> 2.3811654
A4: 4744 | B4: 6665 | C4: 46205 | D4: 46208 | E4: Laval | F4: train | G4: 134.55 | H4: Oui | J4: =NETWORKDAYS(C4,D4,Jours_Fériés) -> 2 | K4: =_xlfn.XLOOKUP($B4,Num_Projet,Projets!B:B,"Inexistant",0) -> Orion | L4: =_xlfn.XLOOKUP($B4,Num_Projet,Projets!C:C,"Inexistant",0) -> gouvernance | M4: =_xlfn.XLOOKUP($B4,Num_Projet,Projets!D:D,"Inexistant",0) -> Industries Nova Tech | N4: =_xlfn.XLOOKUP(E4,nom_commune,villes_clients!E:E)*2 -> 492.25514 | O4: =IF(F4="train",G4,_xlfn.XLOOKUP(B4,Num_Projet,Projets!G:G,0,0)*N4) -> 134.55 | P4: =_xlfn.XLOOKUP(_xlfn.XLOOKUP(E4,nom_commune,villes_clients!D:D,0,0),Seuil_population,Nuitée,0,1) * J4 -> 100 | Q4: =_xlfn.XLOOKUP( _xlfn.CONCAT(A4,"-",_xlfn.XLOOKUP(A4,Matr,Consultants!E:E) ),Dernier_contrat,Contrats!D:D,0,0) * IF(J4>0,J4,1) -> 254 | R4: =Q4 + SUM(O4:P4) * IF(H4 = "Oui",1,0.75) -> 488.55 | S4: =( IF(F4="train", CO2_Train, _xlfn.XLOOKUP(I4,Immat_voitures,voitures_declarees!L:L,0,0)) * N4 ) / 1000 -> 0.98451029
A5: 4751 | B5: 9437 | C5: 46207 | D5: 46218 | E5: Bourges | F5: train | G5: 307.37 | H5: Non | J5: =NETWORKDAYS(C5,D5,Jours_Fériés) -> 7 | K5: =_xlfn.XLOOKUP($B5,Num_Projet,Projets!B:B,"Inexistant",0) -> E30 | L5: =_xlfn.XLOOKUP($B5,Num_Projet,Projets!C:C,"Inexistant",0) -> gouvernance | M5: =_xlfn.XLOOKUP($B5,Num_Projet,Projets!D:D,"Inexistant",0) -> Cooperative Muvuca | N5: =_xlfn.XLOOKUP(E5,nom_commune,villes_clients!E:E)*2 -> 397.67091 | O5: =IF(F5="train",G5,_xlfn.XLOOKUP(B5,Num_Projet,Projets!G:G,0,0)*N5) -> 307.37 | P5: =_xlfn.XLOOKUP(_xlfn.XLOOKUP(E5,nom_commune,villes_clients!D:D,0,0),Seuil_population,Nuitée,0,1) * J5 -> 350 | Q5: =_xlfn.XLOOKUP( _xlfn.CONCAT(A5,"-",_xlfn.XLOOKUP(A5,Matr,Consultants!E:E) ),Dernier_contrat,Contrats!D:D,0,0) * IF(J5>0,J5,1) -> 1022 | R5: =Q5 + SUM(O5:P5) * IF(H5 = "Oui",1,0.75) -> 1515.0275 | S5: =( IF(F5="train", CO2_Train, _xlfn.XLOOKUP(I5,Immat_voitures,voitures_declarees!L:L,0,0)) * N5 ) / 1000 -> 0.79534182
A6: 4733 | B6: 9437 | C6: 46208 | D6: 46208 | E6: Boulogne-Billancourt | F6: voiture | H6: Oui | I6: 588-AHF-83 | J6: =NETWORKDAYS(C6,D6,Jours_Fériés) -> 0 | K6: =_xlfn.XLOOKUP($B6,Num_Projet,Projets!B:B,"Inexistant",0) -> E30 | L6: =_xlfn.XLOOKUP($B6,Num_Projet,Projets!C:C,"Inexistant",0) -> gouvernance | M6: =_xlfn.XLOOKUP($B6,Num_Projet,Projets!D:D,"Inexistant",0) -> Cooperative Muvuca | N6: =_xlfn.XLOOKUP(E6,nom_commune,villes_clients!E:E)*2 -> 15.392821 | O6: =IF(F6="train",G6,_xlfn.XLOOKUP(B6,Num_Projet,Projets!G:G,0,0)*N6) -> 106.67225 | P6: =_xlfn.XLOOKUP(_xlfn.XLOOKUP(E6,nom_commune,villes_clients!D:D,0,0),Seuil_population,Nuitée,0,1) * J6 -> 0 | Q6: =_xlfn.XLOOKUP( _xlfn.CONCAT(A6,"-",_xlfn.XLOOKUP(A6,Matr,Consultants!E:E) ),Dernier_contrat,Contrats!D:D,0,0) * IF(J6>0,J6,1) -> 194 | R6: =Q6 + SUM(O6:P6) * IF(H6 = "Oui",1,0.75) -> 300.67225 | S6: =( IF(F6="train", CO2_Train, _xlfn.XLOOKUP(I6,Immat_voitures,voitures_declarees!L:L,0,0)) * N6 ) / 1000 -> 1.6932103
A7: 8988 | B7: 4125 | C7: 46208 | D7: 46213 | E7: Fontenay-sous-Bois | F7: voiture | H7: Oui | I7: 575-EXN-41 | J7: =NETWORKDAYS(C7,D7,Jours_Fériés) -> 5 | K7: =_xlfn.XLOOKUP($B7,Num_Projet,Projets!B:B,"Inexistant",0) -> ADV | L7: =_xlfn.XLOOKUP($B7,Num_Projet,Projets!C:C,"Inexistant",0) -> gouvernance | M7: =_xlfn.XLOOKUP($B7,Num_Projet,Projets!D:D,"Inexistant",0) -> Industries Nova Tech | N7: =_xlfn.XLOOKUP(E7,nom_commune,villes_clients!E:E)*2 -> 20.3654 | O7: =IF(F7="train",G7,_xlfn.XLOOKUP(B7,Num_Projet,Projets!G:G,0,0)*N7) -> 164.34878 | P7: =_xlfn.XLOOKUP(_xlfn.XLOOKUP(E7,nom_commune,villes_clients!D:D,0,0),Seuil_population,Nuitée,0,1) * J7 -> 250 | Q7: =_xlfn.XLOOKUP( _xlfn.CONCAT(A7,"-",_xlfn.XLOOKUP(A7,Matr,Consultants!E:E) ),Dernier_contrat,Contrats!D:D,0,0) * IF(J7>0,J7,1) -> 990 | R7: =Q7 + SUM(O7:P7) * IF(H7 = "Oui",1,0.75) -> 1404.3488 | S7: =( IF(F7="train", CO2_Train, _xlfn.XLOOKUP(I7,Immat_voitures,voitures_declarees!L:L,0,0)) * N7 ) / 1000 -> 4.07308
A8: 4359 | B8: 6665 | C8: 46209 | D8: 46224 | E8: Boulogne-Billancourt | F8: voiture | H8: Non | I8: TZ-811-YW | J8: =NETWORKDAYS(C8,D8,Jours_Fériés) -> 11 | K8: =_xlfn.XLOOKUP($B8,Num_Projet,Projets!B:B,"Inexistant",0) -> Orion | L8: =_xlfn.XLOOKUP($B8,Num_Projet,Projets!C:C,"Inexistant",0) -> gouvernance | M8: =_xlfn.XLOOKUP($B8,Num_Projet,Projets!D:D,"Inexistant",0) -> Industries Nova Tech | N8: =_xlfn.XLOOKUP(E8,nom_commune,villes_clients!E:E)*2 -> 15.392821 | O8: =IF(F8="train",G8,_xlfn.XLOOKUP(B8,Num_Projet,Projets!G:G,0,0)*N8) -> 183.02064 | P8: =_xlfn.XLOOKUP(_xlfn.XLOOKUP(E8,nom_commune,villes_clients!D:D,0,0),Seuil_population,Nuitée,0,1) * J8 -> 825 | Q8: =_xlfn.XLOOKUP( _xlfn.CONCAT(A8,"-",_xlfn.XLOOKUP(A8,Matr,Consultants!E:E) ),Dernier_contrat,Contrats!D:D,0,0) * IF(J8>0,J8,1) -> 1122 | R8: =Q8 + SUM(O8:P8) * IF(H8 = "Oui",1,0.75) -> 1878.0155 | S8: =( IF(F8="train", CO2_Train, _xlfn.XLOOKUP(I8,Immat_voitures,voitures_declarees!L:L,0,0)) * N8 ) / 1000 -> 3.2940636
A9: 4733 | B9: 9437 | C9: 46212 | D9: 46226 | E9: Poitiers | F9: train | G9: 257.33 | H9: Oui | J9: =NETWORKDAYS(C9,D9,Jours_Fériés) -> 10 | K9: =_xlfn.XLOOKUP($B9,Num_Projet,Projets!B:B,"Inexistant",0) -> E30 | L9: =_xlfn.XLOOKUP($B9,Num_Projet,Projets!C:C,"Inexistant",0) -> gouvernance | M9: =_xlfn.XLOOKUP($B9,Num_Projet,Projets!D:D,"Inexistant",0) -> Cooperative Muvuca | N9: =_xlfn.XLOOKUP(E9,nom_commune,villes_clients!E:E)*2 -> 587.06205 | O9: =IF(F9="train",G9,_xlfn.XLOOKUP(B9,Num_Projet,Projets!G:G,0,0)*N9) -> 257.33 | P9: =_xlfn.XLOOKUP(_xlfn.XLOOKUP(E9,nom_commune,villes_clients!D:D,0,0),Seuil_population,Nuitée,0,1) * J9 -> 750 | Q9: =_xlfn.XLOOKUP( _xlfn.CONCAT(A9,"-",_xlfn.XLOOKUP(A9,Matr,Consultants!E:E) ),Dernier_contrat,Contrats!D:D,0,0) * IF(J9>0,J9,1) -> 1940 | R9: =Q9 + SUM(O9:P9) * IF(H9 = "Oui",1,0.75) -> 2947.33 | S9: =( IF(F9="train", CO2_Train, _xlfn.XLOOKUP(I9,Immat_voitures,voitures_declarees!L:L,0,0)) * N9 ) / 1000 -> 1.1741241
A10: 5211 | B10: 2764 | C10: 46214 | D10: 46225 | E10: Strasbourg | F10: train | G10: 87.68 | H10: Oui | J10: =NETWORKDAYS(C10,D10,Jours_Fériés) -> 7 | K10: =_xlfn.XLOOKUP($B10,Num_Projet,Projets!B:B,"Inexistant",0) -> MARCO | L10: =_xlfn.XLOOKUP($B10,Num_Projet,Projets!C:C,"Inexistant",0) -> transformation digital | M10: =_xlfn.XLOOKUP($B10,Num_Projet,Projets!D:D,"Inexistant",0) -> Banque Invest | N10: =_xlfn.XLOOKUP(E10,nom_commune,villes_clients!E:E)*2 -> 801.77006 | O10: =IF(F10="train",G10,_xlfn.XLOOKUP(B10,Num_Projet,Projets!G:G,0,0)*N10) -> 87.68 | P10: =_xlfn.XLOOKUP(_xlfn.XLOOKUP(E10,nom_commune,villes_clients!D:D,0,0),Seuil_population,Nuitée,0,1) * J10 -> 700 | Q10: =_xlfn.XLOOKUP( _xlfn.CONCAT(A10,"-",_xlfn.XLOOKUP(A10,Matr,Consultants!E:E) ),Dernier_contrat,Contrats!D:D,0,0) * IF(J10>0,J10,1) -> 1239 | R10: =Q10 + SUM(O10:P10) * IF(H10 = "Oui",1,0.75) -> 2026.68 | S10: =( IF(F10="train", CO2_Train, _xlfn.XLOOKUP(I10,Immat_voitures,voitures_declarees!L:L,0,0)) * N10 ) / 1000 -> 1.6035401
A11: 6423 | B11: 7371 | C11: 46217 | D11: 46225 | E11: Perpignan | F11: train | G11: 87.8 | H11: Oui | J11: =NETWORKDAYS(C11,D11,Jours_Fériés) -> 6 | K11: =_xlfn.XLOOKUP($B11,Num_Projet,Projets!B:B,"Inexistant",0) -> Infra2 | L11: =_xlfn.XLOOKUP($B11,Num_Projet,Projets!C:C,"Inexistant",0) -> cybersécurité | M11: =_xlfn.XLOOKUP($B11,Num_Projet,Projets!D:D,"Inexistant",0) -> Société AHT | N11: =_xlfn.XLOOKUP(E11,nom_commune,villes_clients!E:E)*2 -> 1373.4564 | O11: =IF(F11="train",G11,_xlfn.XLOOKUP(B11,Num_Projet,Projets!G:G,0,0)*N11) -> 87.8 | P11: =_xlfn.XLOOKUP(_xlfn.XLOOKUP(E11,nom_commune,villes_clients!D:D,0,0),Seuil_population,Nuitée,0,1) * J11 -> 450 | Q11: =_xlfn.XLOOKUP( _xlfn.CONCAT(A11,"-",_xlfn.XLOOKUP(A11,Matr,Consultants!E:E) ),Dernier_contrat,Contrats!D:D,0,0) * IF(J11>0,J11,1) -> 1254 | R11: =Q11 + SUM(O11:P11) * IF(H11 = "Oui",1,0.75) -> 1791.8 | S11: =( IF(F11="train", CO2_Train, _xlfn.XLOOKUP(I11,Immat_voitures,voitures_declarees!L:L,0,0)) * N11 ) / 1000 -> 2.7469129
A12: 8810 | B12: 6665 | C12: 46218 | D12: 46230 | E12: Montauban | F12: train | G12: 207.12 | H12: Oui | J12: =NETWORKDAYS(C12,D12,Jours_Fériés) -> 9 | K12: =_xlfn.XLOOKUP($B12,Num_Projet,Projets!B:B,"Inexistant",0) -> Orion | L12: =_xlfn.XLOOKUP($B12,Num_Projet,Projets!C:C,"Inexistant",0) -> gouvernance | M12: =_xlfn.XLOOKUP($B12,Num_Projet,Projets!D:D,"Inexistant",0) -> Industries Nova Tech | N12: =_xlfn.XLOOKUP(E12,nom_commune,villes_clients!E:E)*2 -> 1086.4076 | O12: =IF(F12="train",G12,_xlfn.XLOOKUP(B12,Num_Projet,Projets!G:G,0,0)*N12) -> 207.12 | P12: =_xlfn.XLOOKUP(_xlfn.XLOOKUP(E12,nom_commune,villes_clients!D:D,0,0),Seuil_population,Nuitée,0,1) * J12 -> 450 | Q12: =_xlfn.XLOOKUP( _xlfn.CONCAT(A12,"-",_xlfn.XLOOKUP(A12,Matr,Consultants!E:E) ),Dernier_contrat,Contrats!D:D,0,0) * IF(J12>0,J12,1) -> 1683 | R12: =Q12 + SUM(O12:P12) * IF(H12 = "Oui",1,0.75) -> 2340.12 | S12: =( IF(F12="train", CO2_Train, _xlfn.XLOOKUP(I12,Immat_voitures,voitures_declarees!L:L,0,0)) * N12 ) / 1000 -> 2.1728151
A13: 7063 | B13: 4687 | C13: 46219 | D13: 46227 | E13: Nice | F13: train | G13: 96.37 | H13: Non | J13: =NETWORKDAYS(C13,D13,Jours_Fériés) -> 7 | K13: =_xlfn.XLOOKUP($B13,Num_Projet,Projets!B:B,"Inexistant",0) -> Mirage | L13: =_xlfn.XLOOKUP($B13,Num_Projet,Projets!C:C,"Inexistant",0) -> cybersécurité | M13: =_xlfn.XLOOKUP($B13,Num_Projet,Projets!D:D,"Inexistant",0) -> Banque Invest | N13: =_xlfn.XLOOKUP(E13,nom_commune,villes_clients!E:E)*2 -> 1371.1717 | O13: =IF(F13="train",G13,_xlfn.XLOOKUP(B13,Num_Projet,Projets!G:G,0,0)*N13) -> 96.37 | P13: =_xlfn.XLOOKUP(_xlfn.XLOOKUP(E13,nom_commune,villes_clients!D:D,0,0),Seuil_population,Nuitée,0,1) * J13 -> 1050 | Q13: =_xlfn.XLOOKUP( _xlfn.CONCAT(A13,"-",_xlfn.XLOOKUP(A13,Matr,Consultants!E:E) ),Dernier_contrat,Contrats!D:D,0,0) * IF(J13>0,J13,1) -> 994 | R13: =Q13 + SUM(O13:P13) * IF(H13 = "Oui",1,0.75) -> 1853.7775 | S13: =( IF(F13="train", CO2_Train, _xlfn.XLOOKUP(I13,Immat_voitures,voitures_declarees!L:L,0,0)) * N13 ) / 1000 -> 2.7423435
A14: 3542 | B14: 3987 | C14: 46220 | D14: 46234 | E14: Rennes | F14: voiture | H14: Non | I14: QF-109-TX | J14: =NETWORKDAYS(C14,D14,Jours_Fériés) -> 11 | K14: =_xlfn.XLOOKUP($B14,Num_Projet,Projets!B:B,"Inexistant",0) -> Gamma | L14: =_xlfn.XLOOKUP($B14,Num_Projet,Projets!C:C,"Inexistant",0) -> gouvernance | M14: =_xlfn.XLOOKUP($B14,Num_Projet,Projets!D:D,"Inexistant",0) -> Cooperative Muvuca | N14: =_xlfn.XLOOKUP(E14,nom_commune,villes_clients!E:E)*2 -> 616.9704 | O14: =IF(F14="train",G14,_xlfn.XLOOKUP(B14,Num_Projet,Projets!G:G,0,0)*N14) -> 6064.8191 | P14: =_xlfn.XLOOKUP(_xlfn.XLOOKUP(E14,nom_commune,villes_clients!D:D,0,0),Seuil_population,Nuitée,0,1) * J14 -> 1100 | Q14: =_xlfn.XLOOKUP( _xlfn.CONCAT(A14,"-",_xlfn.XLOOKUP(A14,Matr,Consultants!E:E) ),Dernier_contrat,Contrats!D:D,0,0) * IF(J14>0,J14,1) -> 1617 | R14: =Q14 + SUM(O14:P14) * IF(H14 = "Oui",1,0.75) -> 6990.6143 | S14: =( IF(F14="train", CO2_Train, _xlfn.XLOOKUP(I14,Immat_voitures,voitures_declarees!L:L,0,0)) * N14 ) / 1000 -> 95.630412
A15: 3137 | B15: 3987 | C15: 46222 | D15: 46236 | E15: Caen | F15: train | G15: 83.7 | H15: Oui | J15: =NETWORKDAYS(C15,D15,Jours_Fériés) -> 10 | K15: =_xlfn.XLOOKUP($B15,Num_Projet,Projets!B:B,"Inexistant",0) -> Gamma | L15: =_xlfn.XLOOKUP($B15,Num_Projet,Projets!C:C,"Inexistant",0) -> gouvernance | M15: =_xlfn.XLOOKUP($B15,Num_Projet,Projets!D:D,"Inexistant",0) -> Cooperative Muvuca | N15: =_xlfn.XLOOKUP(E15,nom_commune,villes_clients!E:E)*2 -> 402.24192 | O15: =IF(F15="train",G15,_xlfn.XLOOKUP(B15,Num_Projet,Projets!G:G,0,0)*N15) -> 83.7 | P15: =_xlfn.XLOOKUP(_xlfn.XLOOKUP(E15,nom_commune,villes_clients!D:D,0,0),Seuil_population,Nuitée,0,1) * J15 -> 750 | Q15: =_xlfn.XLOOKUP( _xlfn.CONCAT(A15,"-",_xlfn.XLOOKUP(A15,Matr,Consultants!E:E) ),Dernier_contrat,Contrats!D:D,0,0) * IF(J15>0,J15,1) -> 1960 | R15: =Q15 + SUM(O15:P15) * IF(H15 = "Oui",1,0.75) -> 2793.7 | S15: =( IF(F15="train", CO2_Train, _xlfn.XLOOKUP(I15,Immat_voitures,voitures_declarees!L:L,0,0)) * N15 ) / 1000 -> 0.80448384
A16: 7954 | B16: 8140 | C16: 46222 | D16: 46226 | E16: Montreuil | F16: voiture | H16: Non | I16: 575-EXN-41 | J16: =NETWORKDAYS(C16,D16,Jours_Fériés) -> 4 | K16: =_xlfn.XLOOKUP($B16,Num_Projet,Projets!B:B,"Inexistant",0) -> Beta | L16: =_xlfn.XLOOKUP($B16,Num_Projet,Projets!C:C,"Inexistant",0) -> systèmes d'information | M16: =_xlfn.XLOOKUP($B16,Num_Projet,Projets!D:D,"Inexistant",0) -> Société AHT | N16: =_xlfn.XLOOKUP(E16,nom_commune,villes_clients!E:E)*2 -> 16.416835 | O16: =IF(F16="train",G16,_xlfn.XLOOKUP(B16,Num_Projet,Projets!G:G,0,0)*N16) -> 129.03632 | P16: =_xlfn.XLOOKUP(_xlfn.XLOOKUP(E16,nom_commune,villes_clients!D:D,0,0),Seuil_population,Nuitée,0,1) * J16 -> 300 | Q16: =_xlfn.XLOOKUP( _xlfn.CONCAT(A16,"-",_xlfn.XLOOKUP(A16,Matr,Consultants!E:E) ),Dernier_contrat,Contrats!D:D,0,0) * IF(J16>0,J16,1) -> 460 | R16: =Q16 + SUM(O16:P16) * IF(H16 = "Oui",1,0.75) -> 781.77724 | S16: =( IF(F16="train", CO2_Train, _xlfn.XLOOKUP(I16,Immat_voitures,voitures_declarees!L:L,0,0)) * N16 ) / 1000 -> 3.283367
A17: 3772 | B17: 2764 | C17: 46222 | D17: 46237 | E17: Amiens | F17: voiture | H17: Non | I17: 881-PXG-62 | J17: =NETWORKDAYS(C17,D17,Jours_Fériés) -> 11 | K17: =_xlfn.XLOOKUP($B17,Num_Projet,Projets!B:B,"Inexistant",0) -> MARCO | L17: =_xlfn.XLOOKUP($B17,Num_Projet,Projets!C:C,"Inexistant",0) -> transformation digital | M17: =_xlfn.XLOOKUP($B17,Num_Projet,Projets!D:D,"Inexistant",0) -> Banque Invest | N17: =_xlfn.XLOOKUP(E17,nom_commune,villes_clients!E:E)*2 -> 231.05603 | O17: =IF(F17="train",G17,_xlfn.XLOOKUP(B17,Num_Projet,Projets!G:G,0,0)*N17) -> 1624.3239 | P17: =_xlfn.XLOOKUP(_xlfn.XLOOKUP(E17,nom_commune,villes_clients!D:D,0,0),Seuil_population,Nuitée,0,1) * J17 -> 825 | Q17: =_xlfn.XLOOKUP( _xlfn.CONCAT(A17,"-",_xlfn.XLOOKUP(A17,Matr,Consultants!E:E) ),Dernier_contrat,Contrats!D:D,0,0) * IF(J17>0,J17,1) -> 2255 | R17: =Q17 + SUM(O17:P17) * IF(H17 = "Oui",1,0.75) -> 4091.9929 | S17: =( IF(F17="train", CO2_Train, _xlfn.XLOOKUP(I17,Immat_voitures,voitures_declarees!L:L,0,0)) * N17 ) / 1000 -> 41.35903
A18: 5607 | B18: 4641 | C18: 46223 | D18: 46226 | E18: Laval | F18: train | G18: 261.9 | H18: Non | J18: =NETWORKDAYS(C18,D18,Jours_Fériés) -> 4 | K18: =_xlfn.XLOOKUP($B18,Num_Projet,Projets!B:B,"Inexistant",0) -> Arche | L18: =_xlfn.XLOOKUP($B18,Num_Projet,Projets!C:C,"Inexistant",0) -> systèmes d'information | M18: =_xlfn.XLOOKUP($B18,Num_Projet,Projets!D:D,"Inexistant",0) -> Banque Invest | N18: =_xlfn.XLOOKUP(E18,nom_commune,villes_clients!E:E)*2 -> 492.25514 | O18: =IF(F18="train",G18,_xlfn.XLOOKUP(B18,Num_Projet,Projets!G:G,0,0)*N18) -> 261.9 | P18: =_xlfn.XLOOKUP(_xlfn.XLOOKUP(E18,nom_commune,villes_clients!D:D,0,0),Seuil_population,Nuitée,0,1) * J18 -> 200 | Q18: =_xlfn.XLOOKUP( _xlfn.CONCAT(A18,"-",_xlfn.XLOOKUP(A18,Matr,Consultants!E:E) ),Dernier_contrat,Contrats!D:D,0,0) * IF(J18>0,J18,1) -> 416 | R18: =Q18 + SUM(O18:P18) * IF(H18 = "Oui",1,0.75) -> 762.425 | S18: =( IF(F18="train", CO2_Train, _xlfn.XLOOKUP(I18,Immat_voitures,voitures_declarees!L:L,0,0)) * N18 ) / 1000 -> 0.98451029
A19: 4751 | B19: 9018 | C19: 46224 | D19: 46232 | E19: Le Havre | F19: train | G19: 330.93 | H19: Non | J19: =NETWORKDAYS(C19,D19,Jours_Fériés) -> 7 | K19: =_xlfn.XLOOKUP($B19,Num_Projet,Projets!B:B,"Inexistant",0) -> Onix | L19: =_xlfn.XLOOKUP($B19,Num_Projet,Projets!C:C,"Inexistant",0) -> systèmes d'information | M19: =_xlfn.XLOOKUP($B19,Num_Projet,Projets!D:D,"Inexistant",0) -> Société AHT | N19: =_xlfn.XLOOKUP(E19,nom_commune,villes_clients!E:E)*2 -> 350.04851 | O19: =IF(F19="train",G19,_xlfn.XLOOKUP(B19,Num_Projet,Projets!G:G,0,0)*N19) -> 330.93 | P19: =_xlfn.XLOOKUP(_xlfn.XLOOKUP(E19,nom_commune,villes_clients!D:D,0,0),Seuil_population,Nuitée,0,1) * J19 -> 700 | Q19: =_xlfn.XLOOKUP( _xlfn.CONCAT(A19,"-",_xlfn.XLOOKUP(A19,Matr,Consultants!E:E) ),Dernier_contrat,Contrats!D:D,0,0) * IF(J19>0,J19,1) -> 1022 | R19: =Q19 + SUM(O19:P19) * IF(H19 = "Oui",1,0.75) -> 1795.1975 | S19: =( IF(F19="train", CO2_Train, _xlfn.XLOOKUP(I19,Immat_voitures,voitures_declarees!L:L,0,0)) * N19 ) / 1000 -> 0.70009703
A20: 4641 | B20: 7371 | C20: 46224 | D20: 46236 | E20: Angers | F20: train | G20: 127.34 | H20: Non | J20: =NETWORKDAYS(C20,D20,Jours_Fériés) -> 9 | K20: =_xlfn.XLOOKUP($B20,Num_Projet,Projets!B:B,"Inexistant",0) -> Infra2 | L20: =_xlfn.XLOOKUP($B20,Num_Projet,Projets!C:C,"Inexistant",0) -> cybersécurité | M20: =_xlfn.XLOOKUP($B20,Num_Projet,Projets!D:D,"Inexistant",0) -> Société AHT | N20: =_xlfn.XLOOKUP(E20,nom_commune,villes_clients!E:E)*2 -> 529.1982 | O20: =IF(F20="train",G20,_xlfn.XLOOKUP(B20,Num_Projet,Projets!G:G,0,0)*N20) -> 127.34 | P20: =_xlfn.XLOOKUP(_xlfn.XLOOKUP(E20,nom_commune,villes_clients!D:D,0,0),Seuil_population,Nuitée,0,1) * J20 -> 900 | Q20: =_xlfn.XLOOKUP( _xlfn.CONCAT(A20,"-",_xlfn.XLOOKUP(A20,Matr,Consultants!E:E) ),Dernier_contrat,Contrats!D:D,0,0) * IF(J20>0,J20,1) -> 1233 | R20: =Q20 + SUM(O20:P20) * IF(H20 = "Oui",1,0.75) -> 2003.505 | S20: =( IF(F20="train", CO2_Train, _xlfn.XLOOKUP(I20,Immat_voitures,voitures_declarees!L:L,0,0)) * N20 ) / 1000 -> 1.0583964
A21: 3582 | B21: 7717 | C21: 46225 | D21: 46228 | E21: Issy-les-Moulineaux | F21: voiture | H21: Oui | I21: 575-EXN-41 | J21: =NETWORKDAYS(C21,D21,Jours_Fériés) -> 3 | K21: =_xlfn.XLOOKUP($B21,Num_Projet,Projets!B:B,"Inexistant",0) -> Alpha | L21: =_xlfn.XLOOKUP($B21,Num_Projet,Projets!C:C,"Inexistant",0) -> gouvernance | M21: =_xlfn.XLOOKUP($B21,Num_Projet,Projets!D:D,"Inexistant",0) -> Industries Nova Tech | N21: =_xlfn.XLOOKUP(E21,nom_commune,villes_clients!E:E)*2 -> 13.672243 | O21: =IF(F21="train",G21,_xlfn.XLOOKUP(B21,Num_Projet,Projets!G:G,0,0)*N21) -> 115.12029 | P21: =_xlfn.XLOOKUP(_xlfn.XLOOKUP(E21,nom_commune,villes_clients!D:D,0,0),Seuil_population,Nuitée,0,1) * J21 -> 150 | Q21: =_xlfn.XLOOKUP( _xlfn.CONCAT(A21,"-",_xlfn.XLOOKUP(A21,Matr,Consultants!E:E) ),Dernier_contrat,Contrats!D:D,0,0) * IF(J21>0,J21,1) -> 252 | R21: =Q21 + SUM(O21:P21) * IF(H21 = "Oui",1,0.75) -> 517.12029 | S21: =( IF(F21="train", CO2_Train, _xlfn.XLOOKUP(I21,Immat_voitures,voitures_declarees!L:L,0,0)) * N21 ) / 1000 -> 2.7344487
A22: 1435 | B22: 4641 | C22: 46226 | D22: 46230 | E22: Roubaix | F22: voiture | H22: Oui | I22: 417-IHX-79 | J22: =NETWORKDAYS(C22,D22,Jours_Fériés) -> 3 | K22: =_xlfn.XLOOKUP($B22,Num_Projet,Projets!B:B,"Inexistant",0) -> Arche | L22: =_xlfn.XLOOKUP($B22,Num_Projet,Projets!C:C,"Inexistant",0) -> systèmes d'information | M22: =_xlfn.XLOOKUP($B22,Num_Projet,Projets!D:D,"Inexistant",0) -> Banque Invest | N22: =_xlfn.XLOOKUP(E22,nom_commune,villes_clients!E:E)*2 -> 423.94716 | O22: =IF(F22="train",G22,_xlfn.XLOOKUP(B22,Num_Projet,Projets!G:G,0,0)*N22) -> 4866.9134 | P22: =_xlfn.XLOOKUP(_xlfn.XLOOKUP(E22,nom_commune,villes_clients!D:D,0,0),Seuil_population,Nuitée,0,1) * J22 -> 225 | Q22: =_xlfn.XLOOKUP( _xlfn.CONCAT(A22,"-",_xlfn.XLOOKUP(A22,Matr,Consultants!E:E) ),Dernier_contrat,Contrats!D:D,0,0) * IF(J22>0,J22,1) -> 321 | R22: =Q22 + SUM(O22:P22) * IF(H22 = "Oui",1,0.75) -> 5412.9134 | S22: =( IF(F22="train", CO2_Train, _xlfn.XLOOKUP(I22,Immat_voitures,voitures_declarees!L:L,0,0)) * N22 ) / 1000 -> 86.909169
A23: 5959 | B23: 3987 | C23: 46229 | D23: 46235 | E23: Rueil-Malmaison | F23: voiture | H23: Oui | I23: QQ-716-IN | J23: =NETWORKDAYS(C23,D23,Jours_Fériés) -> 5 | K23: =_xlfn.XLOOKUP($B23,Num_Projet,Projets!B:B,"Inexistant",0) -> Gamma | L23: =_xlfn.XLOOKUP($B23,Num_Projet,Projets!C:C,"Inexistant",0) -> gouvernance | M23: =_xlfn.XLOOKUP($B23,Num_Projet,Projets!D:D,"Inexistant",0) -> Cooperative Muvuca | N23: =_xlfn.XLOOKUP(E23,nom_commune,villes_clients!E:E)*2 -> 23.369681 | O23: =IF(F23="train",G23,_xlfn.XLOOKUP(B23,Num_Projet,Projets!G:G,0,0)*N23) -> 229.72396 | P23: =_xlfn.XLOOKUP(_xlfn.XLOOKUP(E23,nom_commune,villes_clients!D:D,0,0),Seuil_population,Nuitée,0,1) * J23 -> 250 | Q23: =_xlfn.XLOOKUP( _xlfn.CONCAT(A23,"-",_xlfn.XLOOKUP(A23,Matr,Consultants!E:E) ),Dernier_contrat,Contrats!D:D,0,0) * IF(J23>0,J23,1) -> 990 | R23: =Q23 + SUM(O23:P23) * IF(H23 = "Oui",1,0.75) -> 1469.724 | S23: =( IF(F23="train", CO2_Train, _xlfn.XLOOKUP(I23,Immat_voitures,voitures_declarees!L:L,0,0)) * N23 ) / 1000 -> 3.809258
A24: 7175 | B24: 9437 | C24: 46230 | D24: 46244 | E24: Calais | F24: voiture | H24: Non | I24: 417-IHX-79 | J24: =NETWORKDAYS(C24,D24,Jours_Fériés) -> 11 | K24: =_xlfn.XLOOKUP($B24,Num_Projet,Projets!B:B,"Inexistant",0) -> E30 | L24: =_xlfn.XLOOKUP($B24,Num_Projet,Projets!C:C,"Inexistant",0) -> gouvernance | M24: =_xlfn.XLOOKUP($B24,Num_Projet,Projets!D:D,"Inexistant",0) -> Cooperative Muvuca | N24: =_xlfn.XLOOKUP(E24,nom_commune,villes_clients!E:E)*2 -> 469.07794 | O24: =IF(F24="train",G24,_xlfn.XLOOKUP(B24,Num_Projet,Projets!G:G,0,0)*N24) -> 3250.7102 | P24: =_xlfn.XLOOKUP(_xlfn.XLOOKUP(E24,nom_commune,villes_clients!D:D,0,0),Seuil_population,Nuitée,0,1) * J24 -> 825 | Q24: =_xlfn.XLOOKUP( _xlfn.CONCAT(A24,"-",_xlfn.XLOOKUP(A24,Matr,Consultants!E:E) ),Dernier_contrat,Contrats!D:D,0,0) * IF(J24>0,J24,1) -> 1452 | R24: =Q24 + SUM(O24:P24) * IF(H24 = "Oui",1,0.75) -> 4508.7826 | S24: =( IF(F24="train", CO2_Train, _xlfn.XLOOKUP(I24,Immat_voitures,voitures_declarees!L:L,0,0)) * N24 ) / 1000 -> 96.160978
A25: 8195 | B25: 8140 | C25: 46231 | D25: 46246 | E25: Amiens | F25: train | G25: 330.24 | H25: Oui | J25: =NETWORKDAYS(C25,D25,Jours_Fériés) -> 12 | K25: =_xlfn.XLOOKUP($B25,Num_Projet,Projets!B:B,"Inexistant",0) -> Beta | L25: =_xlfn.XLOOKUP($B25,Num_Projet,Projets!C:C,"Inexistant",0) -> systèmes d'information | M25: =_xlfn.XLOOKUP($B25,Num_Projet,Projets!D:D,"Inexistant",0) -> Société AHT | N25: =_xlfn.XLOOKUP(E25,nom_commune,villes_clients!E:E)*2 -> 231.05603 | O25: =IF(F25="train",G25,_xlfn.XLOOKUP(B25,Num_Projet,Projets!G:G,0,0)*N25) -> 330.24 | P25: =_xlfn.XLOOKUP(_xlfn.XLOOKUP(E25,nom_commune,villes_clients!D:D,0,0),Seuil_population,Nuitée,0,1) * J25 -> 900 | Q25: =_xlfn.XLOOKUP( _xlfn.CONCAT(A25,"-",_xlfn.XLOOKUP(A25,Matr,Consultants!E:E) ),Dernier_contrat,Contrats!D:D,0,0) * IF(J25>0,J25,1) -> 1524 | R25: =Q25 + SUM(O25:P25) * IF(H25 = "Oui",1,0.75) -> 2754.24 | S25: =( IF(F25="train", CO2_Train, _xlfn.XLOOKUP(I25,Immat_voitures,voitures_declarees!L:L,0,0)) * N25 ) / 1000 -> 0.46211206
A26: 4744 | B26: 4687 | C26: 46234 | D26: 46237 | E26: Mérignac | F26: voiture | H26: Oui | I26: 881-PXG-62 | J26: =NETWORKDAYS(C26,D26,Jours_Fériés) -> 2 | K26: =_xlfn.XLOOKUP($B26,Num_Projet,Projets!B:B,"Inexistant",0) -> Mirage | L26: =_xlfn.XLOOKUP($B26,Num_Projet,Projets!C:C,"Inexistant",0) -> cybersécurité | M26: =_xlfn.XLOOKUP($B26,Num_Projet,Projets!D:D,"Inexistant",0) -> Banque Invest | N26: =_xlfn.XLOOKUP(E26,nom_commune,villes_clients!E:E)*2 -> 1007.23 | O26: =IF(F26="train",G26,_xlfn.XLOOKUP(B26,Num_Projet,Projets!G:G,0,0)*N26) -> 8541.3107 | P26: =_xlfn.XLOOKUP(_xlfn.XLOOKUP(E26,nom_commune,villes_clients!D:D,0,0),Seuil_population,Nuitée,0,1) * J26 -> 100 | Q26: =_xlfn.XLOOKUP( _xlfn.CONCAT(A26,"-",_xlfn.XLOOKUP(A26,Matr,Consultants!E:E) ),Dernier_contrat,Contrats!D:D,0,0) * IF(J26>0,J26,1) -> 254 | R26: =Q26 + SUM(O26:P26) * IF(H26 = "Oui",1,0.75) -> 8895.3107 | S26: =( IF(F26="train", CO2_Train, _xlfn.XLOOKUP(I26,Immat_voitures,voitures_declarees!L:L,0,0)) * N26 ) / 1000 -> 180.29418
A27: 8988 | B27: 3987 | C27: 46236 | D27: 46240 | E27: Lille | F27: voiture | H27: Non | I27: 588-AHF-83 | J27: =NETWORKDAYS(C27,D27,Jours_Fériés) -> 4 | K27: =_xlfn.XLOOKUP($B27,Num_Projet,Projets!B:B,"Inexistant",0) -> Gamma | L27: =_xlfn.XLOOKUP($B27,Num_Projet,Projets!C:C,"Inexistant",0) -> gouvernance | M27: =_xlfn.XLOOKUP($B27,Num_Projet,Projets!D:D,"Inexistant",0) -> Cooperative Muvuca | N27: =_xlfn.XLOOKUP(E27,nom_commune,villes_clients!E:E)*2 -> 406.67073 | O27: =IF(F27="train",G27,_xlfn.XLOOKUP(B27,Num_Projet,Projets!G:G,0,0)*N27) -> 3997.5732 | P27: =_xlfn.XLOOKUP(_xlfn.XLOOKUP(E27,nom_commune,villes_clients!D:D,0,0),Seuil_population,Nuitée,0,1) * J27 -> 400 | Q27: =_xlfn.XLOOKUP( _xlfn.CONCAT(A27,"-",_xlfn.XLOOKUP(A27,Matr,Consultants!E:E) ),Dernier_contrat,Contrats!D:D,0,0) * IF(J27>0,J27,1) -> 792 | R27: =Q27 + SUM(O27:P27) * IF(H27 = "Oui",1,0.75) -> 4090.1799 | S27: =( IF(F27="train", CO2_Train, _xlfn.XLOOKUP(I27,Immat_voitures,voitures_declarees!L:L,0,0)) * N27 ) / 1000 -> 44.73378
A28: 3137 | B28: 9437 | C28: 46237 | D28: 46241 | E28: Antibes | F28: train | G28: 191.39 | H28: Oui | J28: =NETWORKDAYS(C28,D28,Jours_Fériés) -> 5 | K28: =_xlfn.XLOOKUP($B28,Num_Projet,Projets!B:B,"Inexistant",0) -> E30 | L28: =_xlfn.XLOOKUP($B28,Num_Projet,Projets!C:C,"Inexistant",0) -> gouvernance | M28: =_xlfn.XLOOKUP($B28,Num_Projet,Projets!D:D,"Inexistant",0) -> Cooperative Muvuca | N28: =_xlfn.XLOOKUP(E28,nom_commune,villes_clients!E:E)*2 -> 1383.9079 | O28: =IF(F28="train",G28,_xlfn.XLOOKUP(B28,Num_Projet,Projets!G:G,0,0)*N28) -> 191.39 | P28: =_xlfn.XLOOKUP(_xlfn.XLOOKUP(E28,nom_commune,villes_clients!D:D,0,0),Seuil_population,Nuitée,0,1) * J28 -> 250 | Q28: =_xlfn.XLOOKUP( _xlfn.CONCAT(A28,"-",_xlfn.XLOOKUP(A28,Matr,Consultants!E:E) ),Dernier_contrat,Contrats!D:D,0,0) * IF(J28>0,J28,1) -> 980 | R28: =Q28 + SUM(O28:P28) * IF(H28 = "Oui",1,0.75) -> 1421.39 | S28: =( IF(F28="train", CO2_Train, _xlfn.XLOOKUP(I28,Immat_voitures,voitures_declarees!L:L,0,0)) * N28 ) / 1000 -> 2.7678157
A29: 5211 | B29: 4125 | C29: 46237 | D29: 46252 | E29: Mulhouse | F29: voiture | H29: Oui | I29: 765-JSQ-81 | J29: =NETWORKDAYS(C29,D29,Jours_Fériés) -> 12 | K29: =_xlfn.XLOOKUP($B29,Num_Projet,Projets!B:B,"Inexistant",0) -> ADV | L29: =_xlfn.XLOOKUP($B29,Num_Projet,Projets!C:C,"Inexistant",0) -> gouvernance | M29: =_xlfn.XLOOKUP($B29,Num_Projet,Projets!D:D,"Inexistant",0) -> Industries Nova Tech | N29: =_xlfn.XLOOKUP(E29,nom_commune,villes_clients!E:E)*2 -> 780.40223 | O29: =IF(F29="train",G29,_xlfn.XLOOKUP(B29,Num_Projet,Projets!G:G,0,0)*N29) -> 6297.846 | P29: =_xlfn.XLOOKUP(_xlfn.XLOOKUP(E29,nom_commune,villes_clients!D:D,0,0),Seuil_population,Nuitée,0,1) * J29 -> 900 | Q29: =_xlfn.XLOOKUP( _xlfn.CONCAT(A29,"-",_xlfn.XLOOKUP(A29,Matr,Consultants!E:E) ),Dernier_contrat,Contrats!D:D,0,0) * IF(J29>0,J29,1) -> 2124 | R29: =Q29 + SUM(O29:P29) * IF(H29 = "Oui",1,0.75) -> 9321.846 | S29: =( IF(F29="train", CO2_Train, _xlfn.XLOOKUP(I29,Immat_voitures,voitures_declarees!L:L,0,0)) * N29 ) / 1000 -> 230.99906
A30: 6423 | B30: 1309 | C30: 46239 | D30: 46250 | E30: Villeneuve-d'Ascq | F30: voiture | H30: Oui | I30: 765-JSQ-81 | J30: =NETWORKDAYS(C30,D30,Jours_Fériés) -> 8 | K30: =_xlfn.XLOOKUP($B30,Num_Projet,Projets!B:B,"Inexistant",0) -> Arc25 | L30: =_xlfn.XLOOKUP($B30,Num_Projet,Projets!C:C,"Inexistant",0) -> intelligence artificielle | M30: =_xlfn.XLOOKUP($B30,Num_Projet,Projets!D:D,"Inexistant",0) -> Banque Invest | N30: =_xlfn.XLOOKUP(E30,nom_commune,villes_clients!E:E)*2 -> 410.92881 | O30: =IF(F30="train",G30,_xlfn.XLOOKUP(B30,Num_Projet,Projets!G:G,0,0)*N30) -> 3723.015 | P30: =_xlfn.XLOOKUP(_xlfn.XLOOKUP(E30,nom_commune,villes_clients!D:D,0,0),Seuil_population,Nuitée,0,1) * J30 -> 400 | Q30: =_xlfn.XLOOKUP( _xlfn.CONCAT(A30,"-",_xlfn.XLOOKUP(A30,Matr,Consultants!E:E) ),Dernier_contrat,Contrats!D:D,0,0) * IF(J30>0,J30,1) -> 1672 | R30: =Q30 + SUM(O30:P30) * IF(H30 = "Oui",1,0.75) -> 5795.015 | S30: =( IF(F30="train", CO2_Train, _xlfn.XLOOKUP(I30,Immat_voitures,voitures_declarees!L:L,0,0)) * N30 ) / 1000 -> 121.63493
A31: 3542 | B31: 9018 | C31: 46243 | D31: 46244 | E31: Noisy-le-Grand | F31: voiture | H31: Oui | I31: 417-IHX-79 | J31: =NETWORKDAYS(C31,D31,Jours_Fériés) -> 1 | K31: =_xlfn.XLOOKUP($B31,Num_Projet,Projets!B:B,"Inexistant",0) -> Onix | L31: =_xlfn.XLOOKUP($B31,Num_Projet,Projets!C:C,"Inexistant",0) -> systèmes d'information | M31: =_xlfn.XLOOKUP($B31,Num_Projet,Projets!D:D,"Inexistant",0) -> Société AHT | N31: =_xlfn.XLOOKUP(E31,nom_commune,villes_clients!E:E)*2 -> 34.000642 | O31: =IF(F31="train",G31,_xlfn.XLOOKUP(B31,Num_Projet,Projets!G:G,0,0)*N31) -> 215.56407 | P31: =_xlfn.XLOOKUP(_xlfn.XLOOKUP(E31,nom_commune,villes_clients!D:D,0,0),Seuil_population,Nuitée,0,1) * J31 -> 50 | Q31: =_xlfn.XLOOKUP( _xlfn.CONCAT(A31,"-",_xlfn.XLOOKUP(A31,Matr,Consultants!E:E) ),Dernier_contrat,Contrats!D:D,0,0) * IF(J31>0,J31,1) -> 147 | R31: =Q31 + SUM(O31:P31) * IF(H31 = "Oui",1,0.75) -> 412.56407 | S31: =( IF(F31="train", CO2_Train, _xlfn.XLOOKUP(I31,Immat_voitures,voitures_declarees!L:L,0,0)) * N31 ) / 1000 -> 6.9701317
A32: 7954 | B32: 4687 | C32: 46248 | D32: 46248 | E32: Vannes | F32: voiture | H32: Non | I32: 588-AHF-83 | J32: =NETWORKDAYS(C32,D32,Jours_Fériés) -> 1 | K32: =_xlfn.XLOOKUP($B32,Num_Projet,Projets!B:B,"Inexistant",0) -> Mirage | L32: =_xlfn.XLOOKUP($B32,Num_Projet,Projets!C:C,"Inexistant",0) -> cybersécurité | M32: =_xlfn.XLOOKUP($B32,Num_Projet,Projets!D:D,"Inexistant",0) -> Banque Invest | N32: =_xlfn.XLOOKUP(E32,nom_commune,villes_clients!E:E)*2 -> 802.07384 | O32: =IF(F32="train",G32,_xlfn.XLOOKUP(B32,Num_Projet,Projets!G:G,0,0)*N32) -> 6801.5862 | P32: =_xlfn.XLOOKUP(_xlfn.XLOOKUP(E32,nom_commune,villes_clients!D:D,0,0),Seuil_population,Nuitée,0,1) * J32 -> 50 | Q32: =_xlfn.XLOOKUP( _xlfn.CONCAT(A32,"-",_xlfn.XLOOKUP(A32,Matr,Consultants!E:E) ),Dernier_contrat,Contrats!D:D,0,0) * IF(J32>0,J32,1) -> 115 | R32: =Q32 + SUM(O32:P32) * IF(H32 = "Oui",1,0.75) -> 5253.6896 | S32: =( IF(F32="train", CO2_Train, _xlfn.XLOOKUP(I32,Immat_voitures,voitures_declarees!L:L,0,0)) * N32 ) / 1000 -> 88.228122
A33: 1435 | B33: 3987 | C33: 46248 | D33: 46263 | E33: Nancy | F33: train | G33: 97.72 | H33: Oui | J33: =NETWORKDAYS(C33,D33,Jours_Fériés) -> 11 | K33: =_xlfn.XLOOKUP($B33,Num_Projet,Projets!B:B,"Inexistant",0) -> Gamma | L33: =_xlfn.XLOOKUP($B33,Num_Projet,Projets!C:C,"Inexistant",0) -> gouvernance | M33: =_xlfn.XLOOKUP($B33,Num_Projet,Projets!D:D,"Inexistant",0) -> Cooperative Muvuca | N33: =_xlfn.XLOOKUP(E33,nom_commune,villes_clients!E:E)*2 -> 565.65079 | O33: =IF(F33="train",G33,_xlfn.XLOOKUP(B33,Num_Projet,Projets!G:G,0,0)*N33) -> 97.72 | P33: =_xlfn.XLOOKUP(_xlfn.XLOOKUP(E33,nom_commune,villes_clients!D:D,0,0),Seuil_population,Nuitée,0,1) * J33 -> 825 | Q33: =_xlfn.XLOOKUP( _xlfn.CONCAT(A33,"-",_xlfn.XLOOKUP(A33,Matr,Consultants!E:E) ),Dernier_contrat,Contrats!D:D,0,0) * IF(J33>0,J33,1) -> 1177 | R33: =Q33 + SUM(O33:P33) * IF(H33 = "Oui",1,0.75) -> 2099.72 | S33: =( IF(F33="train", CO2_Train, _xlfn.XLOOKUP(I33,Immat_voitures,voitures_declarees!L:L,0,0)) * N33 ) / 1000 -> 1.1313016
A34: 8195 | B34: 2776 | C34: 46248 | D34: 46256 | E34: Strasbourg | F34: train | G34: 179.64 | H34: Oui | J34: =NETWORKDAYS(C34,D34,Jours_Fériés) -> 6 | K34: =_xlfn.XLOOKUP($B34,Num_Projet,Projets!B:B,"Inexistant",0) -> Destroyer | L34: =_xlfn.XLOOKUP($B34,Num_Projet,Projets!C:C,"Inexistant",0) -> gouvernance | M34: =_xlfn.XLOOKUP($B34,Num_Projet,Projets!D:D,"Inexistant",0) -> Groupe Oignon | N34: =_xlfn.XLOOKUP(E34,nom_commune,villes_clients!E:E)*2 -> 801.77006 | O34: =IF(F34="train",G34,_xlfn.XLOOKUP(B34,Num_Projet,Projets!G:G,0,0)*N34) -> 179.64 | P34: =_xlfn.XLOOKUP(_xlfn.XLOOKUP(E34,nom_commune,villes_clients!D:D,0,0),Seuil_population,Nuitée,0,1) * J34 -> 600 | Q34: =_xlfn.XLOOKUP( _xlfn.CONCAT(A34,"-",_xlfn.XLOOKUP(A34,Matr,Consultants!E:E) ),Dernier_contrat,Contrats!D:D,0,0) * IF(J34>0,J34,1) -> 762 | R34: =Q34 + SUM(O34:P34) * IF(H34 = "Oui",1,0.75) -> 1541.64 | S34: =( IF(F34="train", CO2_Train, _xlfn.XLOOKUP(I34,Immat_voitures,voitures_declarees!L:L,0,0)) * N34 ) / 1000 -> 1.6035401
