Workbook

Sheet TD 2-1
A1: Etats-Unis, 2014 | C1: Source: http://www.census.gov/hhes/families/data/cps2014A.html
B3: Population féminine (en milliers), par race et état matrimonial
A4: Age | B4: Asiatiques | D4: Hispaniques | F4: Afro-americaines | H4: Blanches non-hispaniques
B5: Total | C5: Célibataires | D5: Total | E5: Célibataires | F5: Total | G5: Célibataires | H5: Total | I5: Célibataires
A6: 15-19 | B6: 511 | C6: 489 | D6: 2232 | E6: 2168 | F6: 1577 | G6: 1555 | H6: 5610 | I6: 5468
A7: 20-24 | B7: 603 | C7: 512 | D7: 2240 | E7: 1710 | F7: 1791 | G7: 1627 | H7: 6133 | I7: 5081
A8: 25-29 | B8: 728 | C8: 369 | D8: 2060 | E8: 1014 | F8: 1567 | G8: 1147 | H8: 6097 | I8: 3075 | K8: En jeune: données d'entrée du modèle
A9: 30-34 | B9: 780 | C9: 152 | D9: 2079 | E9: 605 | F9: 1521 | G9: 879 | H9: 6055 | I9: 1630
A10: 35-39 | B10: 739 | C10: 83 | D10: 1965 | E10: 425 | F10: 1395 | G10: 587 | H10: 5612 | I10: 948
A11: 40-44 | B11: 736 | C11: 62 | D11: 1858 | E11: 278 | F11: 1442 | G11: 514 | H11: 6162 | I11: 681
A12: 45-49 | B12: 631 | C12: 40 | D12: 1625 | E12: 214 | F12: 1444 | G12: 392 | H12: 6683 | I12: 647
A13: 50-54 | B13: 606 | C13: 43 | D13: 1436 | E13: 185 | F13: 1499 | G13: 385 | H13: 7751 | I13: 650
B15: A | C15: H | D15: AA | E15: B
A16: 5c0 | B16: 1 | C16: 1 | D16: 1 | E16: 1
A17: 5c5 | B17: 1 | C17: 1 | D17: 1 | E17: 1
A18: 5c10 | B18: 1 | C18: 1 | D18: 1 | E18: 1
A19: 5c15 | B19: =C6/B6 -> 0.95694716 | C19: =E6/D6 -> 0.97132616 | D19: =G6/F6 -> 0.98604946 | E19: =I6/H6 -> 0.97468806
A20: 5c20 | B20: =C7/B7 -> 0.84908789 | C20: =E7/D7 -> 0.76339286 | D20: =G7/F7 -> 0.90843104 | E20: =I7/H7 -> 0.82846894
A21: 5c25 | B21: =C8/B8 -> 0.50686813 | C21: =E8/D8 -> 0.49223301 | D21: =G8/F8 -> 0.73197192 | E21: =I8/H8 -> 0.5043464
A22: 5c30 | B22: =C9/B9 -> 0.19487179 | C22: =E9/D9 -> 0.29100529 | D22: =G9/F9 -> 0.57790927 | E22: =I9/H9 -> 0.26919901
A23: 5c35 | B23: =C10/B10 -> 0.11231394 | C23: =E10/D10 -> 0.21628499 | D23: =G10/F10 -> 0.42078853 | E23: =I10/H10 -> 0.16892373
A24: 5c40 | B24: =C11/B11 -> 0.08423913 | C24: =E11/D11 -> 0.14962325 | D24: =G11/F11 -> 0.35644938 | E24: =I11/H11 -> 0.11051607
A25: 5c45 | B25: =C12/B12 -> 0.063391442 | C25: =E12/D12 -> 0.13169231 | D25: =G12/F12 -> 0.27146814 | E25: =I12/H12 -> 0.096812809
A26: 5c50 | B26: =C13/B13 -> 0.070957096 | C26: =E13/D13 -> 0.12883008 | D26: =G13/F13 -> 0.25683789 | E26: =I13/H13 -> 0.083860147
A27: Somme | B27: =SUM(B16:B25) -> 5.7677195 | C27: =SUM(C16:C25) -> 6.0155579 | D27: =SUM(D16:D25) -> 7.2530677 | E27: =SUM(E16:E25) -> 5.952955
A28: c50 | B28: =(B25+B26)/2 -> 0.067174269 | C28: =(C25+C26)/2 -> 0.1302612 | D28: =(D25+D26)/2 -> 0.26415302 | E28: =(E25+E26)/2 -> 0.090336478
A29: SMAM | B29: =(5*B27-50*B28)/(1-B28) -> 27.314731 | C29: =(5*C27-50*C28)/(1-C28) -> 27.09403 | D29: =(5*D27-50*D28)/(1-D28) -> 31.334895 | E29: =(5*E27-50*E28)/(1-E28) -> 27.755264

Sheet TD 2-2
A1: Paramètres du modèle de Coale-McNeil
A2: Source: enquête "Démographie et Santé"
B4: Niger, 1992 | C4: Botswana, 1988 | D4: Tanzanie, 1999
A5: a0 | B5: 11.165 | C5: 11.677 | D5: 12.784
A6: SMAM | B6: 15.9404 | C6: 24.60469 | D6: 19.61737
A7: C50 | B7: 0.001 | C7: 0.183 | D7: 0.014 | F7: En jeune: données d'entrée du modèle
A8: k | B8: =(B6-B5)/11.37 -> 0.42 | C8: =(C6-C5)/11.37 -> 1.137 | D8: =(D6-D5)/11.37 -> 0.601
A9: Densité des premiers mariages
A10: x = a - a0 | B10: Standard | C10: Niger | D10: Botswana | E10: Tanzanie | F10: age centré
A11: 0 | B11: =0.19465*EXP(-0.174*($A11-6.06)-EXP(-0.288*($A11-6.06))) -> 0.0018187294 | C11: =0.19465*(1-B$7)/B$8*EXP(-0.174/B$8*($A11-6.06*B$8)-EXP(-0.288/B$8*($A11-6.06*B$8))) -> 0.0043259778 | D11: =0.19465*(1-C$7)/C$8*EXP(-0.174/C$8*($A11-6.06*C$8)-EXP(-0.288/C$8*($A11-6.06*C$8))) -> 0.0013068618 | E11: =0.19465*(1-D$7)/D$8*EXP(-0.174/D$8*($A11-6.06*D$8)-EXP(-0.288/D$8*($A11-6.06*D$8))) -> 0.0029838056 | F11: =A11+0.5 -> 0.5
A12: 1 | B12: =0.19465*EXP(-0.174*($A12-6.06)-EXP(-0.288*($A12-6.06))) -> 0.0064069276 | C12: =0.19465*(1-B$7)/B$8*EXP(-0.174/B$8*($A12-6.06*B$8)-EXP(-0.288/B$8*($A12-6.06*B$8))) -> 0.04904507 | D12: =0.19465*(1-C$7)/C$8*EXP(-0.174/C$8*($A12-6.06*C$8)-EXP(-0.288/C$8*($A12-6.06*C$8))) -> 0.0040398255 | E12: =0.19465*(1-D$7)/D$8*EXP(-0.174/D$8*($A12-6.06*D$8)-EXP(-0.288/D$8*($A12-6.06*D$8))) -> 0.019772071 | F12: =A12+0.5 -> 1.5
A13: 2 | B13: =0.19465*EXP(-0.174*($A13-6.06)-EXP(-0.288*($A13-6.06))) -> 0.015767793 | C13: =0.19465*(1-B$7)/B$8*EXP(-0.174/B$8*($A13-6.06*B$8)-EXP(-0.288/B$8*($A13-6.06*B$8))) -> 0.1356734 | D13: =0.19465*(1-C$7)/C$8*EXP(-0.174/C$8*($A13-6.06*C$8)-EXP(-0.288/C$8*($A13-6.06*C$8))) -> 0.0093745377 | E13: =0.19465*(1-D$7)/D$8*EXP(-0.174/D$8*($A13-6.06*D$8)-EXP(-0.288/D$8*($A13-6.06*D$8))) -> 0.057119345 | F13: =A13+0.5 -> 2.5
A14: 3 | B14: =0.19465*EXP(-0.174*($A14-6.06)-EXP(-0.288*($A14-6.06))) -> 0.029655732 | C14: =0.19465*(1-B$7)/B$8*EXP(-0.174/B$8*($A14-6.06*B$8)-EXP(-0.288/B$8*($A14-6.06*B$8))) -> 0.18441784 | D14: =0.19465*(1-C$7)/C$8*EXP(-0.174/C$8*($A14-6.06*C$8)-EXP(-0.288/C$8*($A14-6.06*C$8))) -> 0.017412464 | E14: =0.19465*(1-D$7)/D$8*EXP(-0.174/D$8*($A14-6.06*D$8)-EXP(-0.288/D$8*($A14-6.06*D$8))) -> 0.098680946 | F14: =A14+0.5 -> 3.5
A15: 4 | B15: =0.19465*EXP(-0.174*($A15-6.06)-EXP(-0.288*($A15-6.06))) -> 0.045591799 | C15: =0.19465*(1-B$7)/B$8*EXP(-0.174/B$8*($A15-6.06*B$8)-EXP(-0.288/B$8*($A15-6.06*B$8))) -> 0.17525261 | D15: =0.19465*(1-C$7)/C$8*EXP(-0.174/C$8*($A15-6.06*C$8)-EXP(-0.288/C$8*($A15-6.06*C$8))) -> 0.027209872 | E15: =0.19465*(1-D$7)/D$8*EXP(-0.174/D$8*($A15-6.06*D$8)-EXP(-0.288/D$8*($A15-6.06*D$8))) -> 0.12399679 | F15: =A15+0.5 -> 4.5
A16: 5 | B16: =0.19465*EXP(-0.174*($A16-6.06)-EXP(-0.288*($A16-6.06))) -> 0.06025817 | C16: =0.19465*(1-B$7)/B$8*EXP(-0.174/B$8*($A16-6.06*B$8)-EXP(-0.288/B$8*($A16-6.06*B$8))) -> 0.13906661 | D16: =0.19465*(1-C$7)/C$8*EXP(-0.174/C$8*($A16-6.06*C$8)-EXP(-0.288/C$8*($A16-6.06*C$8))) -> 0.037182688 | E16: =0.19465*(1-D$7)/D$8*EXP(-0.174/D$8*($A16-6.06*D$8)-EXP(-0.288/D$8*($A16-6.06*D$8))) -> 0.12792582 | F16: =A16+0.5 -> 5.5
A17: 6 | B17: =0.19465*EXP(-0.174*($A17-6.06)-EXP(-0.288*($A17-6.06))) -> 0.071108929 | C17: =0.19465*(1-B$7)/B$8*EXP(-0.174/B$8*($A17-6.06*B$8)-EXP(-0.288/B$8*($A17-6.06*B$8))) -> 0.10077146 | D17: =0.19465*(1-C$7)/C$8*EXP(-0.174/C$8*($A17-6.06*C$8)-EXP(-0.288/C$8*($A17-6.06*C$8))) -> 0.045786533 | E17: =0.19465*(1-D$7)/D$8*EXP(-0.174/D$8*($A17-6.06*D$8)-EXP(-0.288/D$8*($A17-6.06*D$8))) -> 0.11680935 | F17: =A17+0.5 -> 6.5 | G17: a - | H17: âge au mariage
A18: 7 | B18: =0.19465*EXP(-0.174*($A18-6.06)-EXP(-0.288*($A18-6.06))) -> 0.077077624 | C18: =0.19465*(1-B$7)/B$8*EXP(-0.174/B$8*($A18-6.06*B$8)-EXP(-0.288/B$8*($A18-6.06*B$8))) -> 0.069756264 | D18: =0.19465*(1-C$7)/C$8*EXP(-0.174/C$8*($A18-6.06*C$8)-EXP(-0.288/C$8*($A18-6.06*C$8))) -> 0.052003841 | E18: =0.19465*(1-D$7)/D$8*EXP(-0.174/D$8*($A18-6.06*D$8)-EXP(-0.288/D$8*($A18-6.06*D$8))) -> 0.098891221 | F18: =A18+0.5 -> 7.5 | G18: a0 - | H18: âge du début de la nuptialité
A19: 8 | B19: =0.19465*EXP(-0.174*($A19-6.06)-EXP(-0.288*($A19-6.06))) -> 0.078390472 | C19: =0.19465*(1-B$7)/B$8*EXP(-0.174/B$8*($A19-6.06*B$8)-EXP(-0.288/B$8*($A19-6.06*B$8))) -> 0.047186774 | D19: =0.19465*(1-C$7)/C$8*EXP(-0.174/C$8*($A19-6.06*C$8)-EXP(-0.288/C$8*($A19-6.06*C$8))) -> 0.055473774 | E19: =0.19465*(1-D$7)/D$8*EXP(-0.174/D$8*($A19-6.06*D$8)-EXP(-0.288/D$8*($A19-6.06*D$8))) -> 0.079891618 | F19: =A19+0.5 -> 8.5 | G19: Θ, k - | H19: paramètres qui définissent la relation entre la nuptialité observée et celle de standard
A20: 9 | B20: =0.19465*EXP(-0.174*($A20-6.06)-EXP(-0.288*($A20-6.06))) -> 0.076006884 | C20: =0.19465*(1-B$7)/B$8*EXP(-0.174/B$8*($A20-6.06*B$8)-EXP(-0.288/B$8*($A20-6.06*B$8))) -> 0.031551188 | D20: =0.19465*(1-C$7)/C$8*EXP(-0.174/C$8*($A20-6.06*C$8)-EXP(-0.288/C$8*($A20-6.06*C$8))) -> 0.056362619 | E20: =0.19465*(1-D$7)/D$8*EXP(-0.174/D$8*($A20-6.06*D$8)-EXP(-0.288/D$8*($A20-6.06*D$8))) -> 0.062697563 | F20: =A20+0.5 -> 9.5 | H20: (Θ = 1 - c50)
A21: 10 | B21: =0.19465*EXP(-0.174*($A21-6.06)-EXP(-0.288*($A21-6.06))) -> 0.0711031 | C21: =0.19465*(1-B$7)/B$8*EXP(-0.174/B$8*($A21-6.06*B$8)-EXP(-0.288/B$8*($A21-6.06*B$8))) -> 0.02097353 | D21: =0.19465*(1-C$7)/C$8*EXP(-0.174/C$8*($A21-6.06*C$8)-EXP(-0.288/C$8*($A21-6.06*C$8))) -> 0.05514144 | E21: =0.19465*(1-D$7)/D$8*EXP(-0.174/D$8*($A21-6.06*D$8)-EXP(-0.288/D$8*($A21-6.06*D$8))) -> 0.048328232 | F21: =A21+0.5 -> 10.5
A22: 11 | B22: =0.19465*EXP(-0.174*($A22-6.06)-EXP(-0.288*($A22-6.06))) -> 0.064753362 | C22: =0.19465*(1-B$7)/B$8*EXP(-0.174/B$8*($A22-6.06*B$8)-EXP(-0.288/B$8*($A22-6.06*B$8))) -> 0.013901064 | D22: =0.19465*(1-C$7)/C$8*EXP(-0.174/C$8*($A22-6.06*C$8)-EXP(-0.288/C$8*($A22-6.06*C$8))) -> 0.05238681 | E22: =0.19465*(1-D$7)/D$8*EXP(-0.174/D$8*($A22-6.06*D$8)-EXP(-0.288/D$8*($A22-6.06*D$8))) -> 0.03684014 | F22: =A22+0.5 -> 11.5
A23: 12 | B23: =0.19465*EXP(-0.174*($A23-6.06)-EXP(-0.288*($A23-6.06))) -> 0.0577953 | C23: =0.19465*(1-B$7)/B$8*EXP(-0.174/B$8*($A23-6.06*B$8)-EXP(-0.288/B$8*($A23-6.06*B$8))) -> 0.0091998373 | D23: =0.19465*(1-C$7)/C$8*EXP(-0.174/C$8*($A23-6.06*C$8)-EXP(-0.288/C$8*($A23-6.06*C$8))) -> 0.048649027 | E23: =0.19465*(1-D$7)/D$8*EXP(-0.174/D$8*($A23-6.06*D$8)-EXP(-0.288/D$8*($A23-6.06*D$8))) -> 0.027890135 | F23: =A23+0.5 -> 12.5
A24: 13 | B24: =0.19465*EXP(-0.174*($A24-6.06)-EXP(-0.288*($A24-6.06))) -> 0.050812097 | C24: =0.19465*(1-B$7)/B$8*EXP(-0.174/B$8*($A24-6.06*B$8)-EXP(-0.288/B$8*($A24-6.06*B$8))) -> 0.0060839781 | D24: =0.19465*(1-C$7)/C$8*EXP(-0.174/C$8*($A24-6.06*C$8)-EXP(-0.288/C$8*($A24-6.06*C$8))) -> 0.044386214 | E24: =0.19465*(1-D$7)/D$8*EXP(-0.174/D$8*($A24-6.06*D$8)-EXP(-0.288/D$8*($A24-6.06*D$8))) -> 0.021024596 | F24: =A24+0.5 -> 13.5
A25: 14 | B25: =0.19465*EXP(-0.174*($A25-6.06)-EXP(-0.288*($A25-6.06))) -> 0.044169916 | C25: =0.19465*(1-B$7)/B$8*EXP(-0.174/B$8*($A25-6.06*B$8)-EXP(-0.288/B$8*($A25-6.06*B$8))) -> 0.0040219032 | D25: =0.19465*(1-C$7)/C$8*EXP(-0.174/C$8*($A25-6.06*C$8)-EXP(-0.288/C$8*($A25-6.06*C$8))) -> 0.039944952 | E25: =0.19465*(1-D$7)/D$8*EXP(-0.174/D$8*($A25-6.06*D$8)-EXP(-0.288/D$8*($A25-6.06*D$8))) -> 0.015807298 | F25: =A25+0.5 -> 14.5
A26: 15 | B26: =0.19465*EXP(-0.174*($A26-6.06)-EXP(-0.288*($A26-6.06))) -> 0.038071574 | C26: =0.19465*(1-B$7)/B$8*EXP(-0.174/B$8*($A26-6.06*B$8)-EXP(-0.288/B$8*($A26-6.06*B$8))) -> 0.0026582341 | D26: =0.19465*(1-C$7)/C$8*EXP(-0.174/C$8*($A26-6.06*C$8)-EXP(-0.288/C$8*($A26-6.06*C$8))) -> 0.035567163 | E26: =0.19465*(1-D$7)/D$8*EXP(-0.174/D$8*($A26-6.06*D$8)-EXP(-0.288/D$8*($A26-6.06*D$8))) -> 0.01186526 | F26: =A26+0.5 -> 15.5
A27: 16 | B27: =0.19465*EXP(-0.174*($A27-6.06)-EXP(-0.288*($A27-6.06))) -> 0.032607094 | C27: =0.19465*(1-B$7)/B$8*EXP(-0.174/B$8*($A27-6.06*B$8)-EXP(-0.288/B$8*($A27-6.06*B$8))) -> 0.0017567637 | D27: =0.19465*(1-C$7)/C$8*EXP(-0.174/C$8*($A27-6.06*C$8)-EXP(-0.288/C$8*($A27-6.06*C$8))) -> 0.031408363 | E27: =0.19465*(1-D$7)/D$8*EXP(-0.174/D$8*($A27-6.06*D$8)-EXP(-0.288/D$8*($A27-6.06*D$8))) -> 0.0088972743 | F27: =A27+0.5 -> 16.5
A28: 17 | B28: =0.19465*EXP(-0.174*($A28-6.06)-EXP(-0.288*($A28-6.06))) -> 0.027794045 | C28: =0.19465*(1-B$7)/B$8*EXP(-0.174/B$8*($A28-6.06*B$8)-EXP(-0.288/B$8*($A28-6.06*B$8))) -> 0.0011609474 | D28: =0.19465*(1-C$7)/C$8*EXP(-0.174/C$8*($A28-6.06*C$8)-EXP(-0.288/C$8*($A28-6.06*C$8))) -> 0.027558383 | E28: =0.19465*(1-D$7)/D$8*EXP(-0.174/D$8*($A28-6.06*D$8)-EXP(-0.288/D$8*($A28-6.06*D$8))) -> 0.006667519 | F28: =A28+0.5 -> 17.5
A29: 18 | B29: =0.19465*EXP(-0.174*($A29-6.06)-EXP(-0.288*($A29-6.06))) -> 0.023606859 | C29: =0.19465*(1-B$7)/B$8*EXP(-0.174/B$8*($A29-6.06*B$8)-EXP(-0.288/B$8*($A29-6.06*B$8))) -> 0.00076718701 | D29: =0.19465*(1-C$7)/C$8*EXP(-0.174/C$8*($A29-6.06*C$8)-EXP(-0.288/C$8*($A29-6.06*C$8))) -> 0.024060147 | E29: =0.19465*(1-D$7)/D$8*EXP(-0.174/D$8*($A29-6.06*D$8)-EXP(-0.288/D$8*($A29-6.06*D$8))) -> 0.0049946245 | F29: =A29+0.5 -> 18.5
A30: 19 | B30: =0.19465*EXP(-0.174*($A30-6.06)-EXP(-0.288*($A30-6.06))) -> 0.019996783 | C30: =0.19465*(1-B$7)/B$8*EXP(-0.174/B$8*($A30-6.06*B$8)-EXP(-0.288/B$8*($A30-6.06*B$8))) -> 0.00050697276 | D30: =0.19465*(1-C$7)/C$8*EXP(-0.174/C$8*($A30-6.06*C$8)-EXP(-0.288/C$8*($A30-6.06*C$8))) -> 0.020924888 | E30: =0.19465*(1-D$7)/D$8*EXP(-0.174/D$8*($A30-6.06*D$8)-EXP(-0.288/D$8*($A30-6.06*D$8))) -> 0.0037405627 | F30: =A30+0.5 -> 19.5
A31: 20 | B31: =0.19465*EXP(-0.174*($A31-6.06)-EXP(-0.288*($A31-6.06))) -> 0.016904757 | C31: =0.19465*(1-B$7)/B$8*EXP(-0.174/B$8*($A31-6.06*B$8)-EXP(-0.288/B$8*($A31-6.06*B$8))) -> 0.00033501583 | D31: =0.19465*(1-C$7)/C$8*EXP(-0.174/C$8*($A31-6.06*C$8)-EXP(-0.288/C$8*($A31-6.06*C$8))) -> 0.01814363 | E31: =0.19465*(1-D$7)/D$8*EXP(-0.174/D$8*($A31-6.06*D$8)-EXP(-0.288/D$8*($A31-6.06*D$8))) -> 0.0028009564 | F31: =A31+0.5 -> 20.5
A32: 21 | B32: =0.19465*EXP(-0.174*($A32-6.06)-EXP(-0.288*($A32-6.06))) -> 0.014269314 | C32: =0.19465*(1-B$7)/B$8*EXP(-0.174/B$8*($A32-6.06*B$8)-EXP(-0.288/B$8*($A32-6.06*B$8))) -> 0.00022138322 | D32: =0.19465*(1-C$7)/C$8*EXP(-0.174/C$8*($A32-6.06*C$8)-EXP(-0.288/C$8*($A32-6.06*C$8))) -> 0.015695427 | E32: =0.19465*(1-D$7)/D$8*EXP(-0.174/D$8*($A32-6.06*D$8)-EXP(-0.288/D$8*($A32-6.06*D$8))) -> 0.0020971798 | F32: =A32+0.5 -> 21.5
... A51: 40 | B51: =0.19465*EXP(-0.174*($A51-6.06)-EXP(-0.288*($A51-6.06))) -> 0.00053024623 | C51: =0.19465*(1-B$7)/B$8*EXP(-0.174/B$8*($A51-6.06*B$8)-EXP(-0.288/B$8*($A51-6.06*B$8))) -> 8.445553e-08 | D51: =0.19465*(1-C$7)/C$8*EXP(-0.174/C$8*($A51-6.06*C$8)-EXP(-0.288/C$8*($A51-6.06*C$8))) -> 0.00088120389 | E51: =0.19465*(1-D$7)/D$8*EXP(-0.174/D$8*($A51-6.06*D$8)-EXP(-0.288/D$8*($A51-6.06*D$8))) -> 8.5656576e-06 | F51: =A51+0.5 -> 40.5
B52: =SUMPRODUCT($F$11:$F$51,B11:B51)/SUM(B11:B51) -> 11.763761 | C52: =B5+SUMPRODUCT($F$11:$F$51,C11:C51)/SUM(C11:C51) -> 16.4351 | D52: =C5+SUMPRODUCT($F$11:$F$51,D11:D51)/SUM(D11:D51) -> 24.871589 | E52: =D5+SUMPRODUCT($F$11:$F$51,E11:E51)/SUM(E11:E51) -> 20.109574
A54: Risque de primo-nuptialité
A55: x = a - a0 | B55: Standard | C55: Niger | D55: Botswana | E55: Tanzanie
A56: 0 | B56: =0.174*EXP(-4.411*EXP(-0.309*$A56)) -> 0.0021128871 | C56: =0.174/B$8*EXP(-4.411*EXP(-0.309*$A56/B$8)) -> 0.0050306835 | D56: =0.174/C$8*EXP(-4.411*EXP(-0.309*$A56/C$8)) -> 0.0018583 | E56: =0.174/D$8*EXP(-4.411*EXP(-0.309*$A56/D$8)) -> 0.0035156191
A57: 1 | B57: =0.174*EXP(-4.411*EXP(-0.309*$A57)) -> 0.0068249425 | C57: =0.174/B$8*EXP(-4.411*EXP(-0.309*$A57/B$8)) -> 0.050047249 | D57: =0.174/C$8*EXP(-4.411*EXP(-0.309*$A57/C$8)) -> 0.0053086765 | E57: =0.174/D$8*EXP(-4.411*EXP(-0.309*$A57/D$8)) -> 0.020705122
A58: 2 | B58: =0.174*EXP(-4.411*EXP(-0.309*$A58)) -> 0.016142118 | C58: =0.174/B$8*EXP(-4.411*EXP(-0.309*$A58/B$8)) -> 0.15047582 | D58: =0.174/C$8*EXP(-4.411*EXP(-0.309*$A58/C$8)) -> 0.011813369 | E58: =0.174/D$8*EXP(-4.411*EXP(-0.309*$A58/D$8)) -> 0.059785119
A59: 3 | B59: =0.174*EXP(-4.411*EXP(-0.309*$A59)) -> 0.030369837 | C59: =0.174/B$8*EXP(-4.411*EXP(-0.309*$A59/B$8)) -> 0.25500465 | D59: =0.174/C$8*EXP(-4.411*EXP(-0.309*$A59/C$8)) -> 0.021731707 | E59: =0.174/D$8*EXP(-4.411*EXP(-0.309*$A59/D$8)) -> 0.11271641
A60: 4 | B60: =0.174*EXP(-4.411*EXP(-0.309*$A60)) -> 0.048301634 | C60: =0.174/B$8*EXP(-4.411*EXP(-0.309*$A60/B$8)) -> 0.32833369 | D60: =0.174/C$8*EXP(-4.411*EXP(-0.309*$A60/C$8)) -> 0.034579508 | E60: =0.174/D$8*EXP(-4.411*EXP(-0.309*$A60/D$8)) -> 0.16469345
...

Sheet Graphiques TD 2-2
A1: Densité des premiers mariages
H3: Facteurs qui pourraient expliquer la différence entre pays
I5: Niger, 1992 | J5: Botswana, 1988 | K5: Tanzanie, 1999
H6: Taux d'urbanisation | I6: 0.155 | J6: 0.355 | K6: 0.219
H7: Religion | I7: Musulmans (> 95%) | J7: Chrétiens (> 70%) | K7: Musulmans (≈35%), chrétiens (≈30%)
H8: Alphabétisation de jeunes femmes 15-24 (2008-2011) | I8: 0.23 | J8: 0.97 | K8: 0.73
H9: Participation des filles à l'école secondaire (2008-2011) | I9: 0.1 | J9: 0.66 | K9: 0.24
H10: Age moyen au 1 mariage | I10: ='TD 2-2'!C52 -> 16.4351 | J10: ='TD 2-2'!D52 -> 24.871589 | K10: ='TD 2-2'!E52 -> 20.109574
H11: % des mariées à 20 ans | I11: =SUM('TD 2-2'!C11:C18)+0.5*('TD 2-2'!C18+'TD 2-2'!C19) -> 0.91678075 | J11: =SUM('TD 2-2'!D11:D18)+0.5*('TD 2-2'!D18+'TD 2-2'!D19) -> 0.24805543 | K11: =SUM('TD 2-2'!E11:E18)+0.5*('TD 2-2'!E18+'TD 2-2'!E19) -> 0.73557077
A15: Risque de primo-nuptialité
